Multiple platform build/check report for BioC 3.12

This page was generated on 2020-08-07 12:49:12 -0400 (Fri, 07 Aug 2020).

Approx. Package Snapshot Date (git pull): 2020-08-06 14:50:46 -0400 (Thu, 06 Aug 2020)

HostnameOSArch (*)Platform label (**)R versionInstalled pkgs
malbec1Linux (Ubuntu 18.04.4 LTS)x86_64x86_64-linux-gnu4.0.2 (2020-06-22) -- "Taking Off Again" 3841
tokay1Windows Server 2012 R2 Standardx64mingw32 / x86_64-w64-mingw324.0.2 (2020-06-22) -- "Taking Off Again" 3619
merida1macOS 10.14.6 Mojavex86_64x86_64-apple-darwin18.7.04.0.2 (2020-06-22) -- "Taking Off Again" 3637
Click on any hostname to see more info about the system (e.g. compilers)      (*) as reported by 'uname -p', except on Windows and Mac OS X      (**) as reported by 'gcc -v'

Package status is indicated by one of the following glyphs
 TIMEOUT  INSTALL, BUILD, CHECK or BUILD BIN of package took more than 40 minutes Use the check boxes to show only packages with the selected status types.
 ERROR  Bad DESCRIPTION file or INSTALL, BUILD or BUILD BIN of package failed, or CHECK produced errors
 WARNINGS  CHECK of package produced warnings
 OK  INSTALL, BUILD, CHECK or BUILD BIN of package was OK
 skipped  CHECK or BUILD BIN of package was skipped because the BUILD step failed
 NA  BUILD, CHECK or BUILD BIN result is not available because of an anomaly in the Build System
Click on any glyph in the report below to access the detailed results.
Package propagation status is indicated by one of the following LEDs
YES YES: Package was propagated because it didn't previously exist or version was bumped
NO NO: Package was not propagated because of a problem (impossible dependencies, or version lower than what is already propagated)
UNNEEDED UNNEEDED: Package was not propagated because it is already in the repository with this version. A version bump is required in order to propagate it

A crossed-out package name indicates the package is deprecated


SUMMARYOS / ArchINSTALLBUILDCHECKBUILD BIN
malbec1 Linux (Ubuntu 18.04.4 LTS) / x86_64 
0481833
1941786
1592691457
tokay1 Windows Server 2012 R2 Standard / x64 
0701784
21021750
9983851258
0231727
merida1 macOS 10.14.6 Mojave / x86_64 
0581815
01221751
0652691417
011750
A
ABCDEFGHIJKLMNOPQRSTUVWXYZ
Package 1/1882HostnameOS / ArchINSTALLBUILDCHECKBUILD BIN
a4 1.37.0
Tobias Verbeke
Last Commit: e86c9f6
Last Changed Date: 2020-04-27 14:25:31 -0400
malbec1 Linux (Ubuntu 18.04.4 LTS) / x86_64  OK  ERROR  skipped 
tokay1 Windows Server 2012 R2 Standard / x64  OK  ERROR  skipped  skipped 
merida1 macOS 10.14.6 Mojave / x86_64  OK  ERROR  skipped  skipped 
Package 2/1882HostnameOS / ArchINSTALLBUILDCHECKBUILD BIN
a4Base 1.37.0
Tobias Verbeke
Last Commit: a12798d
Last Changed Date: 2020-04-27 14:25:17 -0400
malbec1 Linux (Ubuntu 18.04.4 LTS) / x86_64  OK  OK  WARNINGS UNNEEDED, same version exists in internal repository
tokay1 Windows Server 2012 R2 Standard / x64  OK  OK  ERROR  OK 
merida1 macOS 10.14.6 Mojave / x86_64  OK  OK  WARNINGS  OK UNNEEDED, same version exists in internal repository
Package 3/1882HostnameOS / ArchINSTALLBUILDCHECKBUILD BIN
a4Classif 1.37.0
Tobias Verbeke
Last Commit: a9ae689
Last Changed Date: 2020-04-27 14:25:23 -0400
malbec1 Linux (Ubuntu 18.04.4 LTS) / x86_64  OK  OK  OK UNNEEDED, same version exists in internal repository
tokay1 Windows Server 2012 R2 Standard / x64  OK  OK  OK  OK UNNEEDED, same version exists in internal repository
merida1 macOS 10.14.6 Mojave / x86_64  OK  OK  OK  OK UNNEEDED, same version exists in internal repository
Package 4/1882HostnameOS / ArchINSTALLBUILDCHECKBUILD BIN
a4Core 1.37.0
Tobias Verbeke
Last Commit: aadbda6
Last Changed Date: 2020-04-27 14:25:26 -0400
malbec1 Linux (Ubuntu 18.04.4 LTS) / x86_64  OK  OK  OK UNNEEDED, same version exists in internal repository
tokay1 Windows Server 2012 R2 Standard / x64  OK  OK  OK  OK UNNEEDED, same version exists in internal repository
merida1 macOS 10.14.6 Mojave / x86_64  OK  OK  OK  OK UNNEEDED, same version exists in internal repository
Package 5/1882HostnameOS / ArchINSTALLBUILDCHECKBUILD BIN
a4Preproc 1.37.0
Tobias Verbeke
Last Commit: 950b2a6
Last Changed Date: 2020-04-27 14:25:20 -0400
malbec1 Linux (Ubuntu 18.04.4 LTS) / x86_64  OK  OK  OK UNNEEDED, same version exists in internal repository
tokay1 Windows Server 2012 R2 Standard / x64  OK  OK  OK  OK UNNEEDED, same version exists in internal repository
merida1 macOS 10.14.6 Mojave / x86_64  OK  OK  OK  OK UNNEEDED, same version exists in internal repository
Package 6/1882HostnameOS / ArchINSTALLBUILDCHECKBUILD BIN
a4Reporting 1.37.0
Tobias Verbeke
Last Commit: 3d068f3
Last Changed Date: 2020-04-27 14:25:28 -0400
malbec1 Linux (Ubuntu 18.04.4 LTS) / x86_64  OK  OK  WARNINGS UNNEEDED, same version exists in internal repository
tokay1 Windows Server 2012 R2 Standard / x64  OK  OK  WARNINGS  OK UNNEEDED, same version exists in internal repository
merida1 macOS 10.14.6 Mojave / x86_64  OK  OK  WARNINGS  OK UNNEEDED, same version exists in internal repository
Package 7/1882HostnameOS / ArchINSTALLBUILDCHECKBUILD BIN
ABAEnrichment 1.19.0
Steffi Grote
Last Commit: e45fdd0
Last Changed Date: 2020-04-27 14:50:36 -0400
malbec1 Linux (Ubuntu 18.04.4 LTS) / x86_64  OK  OK  OK UNNEEDED, same version exists in internal repository
tokay1 Windows Server 2012 R2 Standard / x64  OK  OK  OK  OK UNNEEDED, same version exists in internal repository
merida1 macOS 10.14.6 Mojave / x86_64  OK  OK  OK  OK UNNEEDED, same version exists in internal repository
Package 8/1882HostnameOS / ArchINSTALLBUILDCHECKBUILD BIN
ABarray 1.57.0
Yongming Andrew Sun
Last Commit: b38f114
Last Changed Date: 2020-04-27 14:13:31 -0400
malbec1 Linux (Ubuntu 18.04.4 LTS) / x86_64  OK  OK  OK UNNEEDED, same version exists in internal repository
tokay1 Windows Server 2012 R2 Standard / x64  OK  OK  OK  OK UNNEEDED, same version exists in internal repository
merida1 macOS 10.14.6 Mojave / x86_64  OK  OK  OK  OK UNNEEDED, same version exists in internal repository
Package 9/1882HostnameOS / ArchINSTALLBUILDCHECKBUILD BIN
abseqR 1.7.0
JiaHong Fong
Last Commit: 8a4126d
Last Changed Date: 2020-04-27 15:21:22 -0400
malbec1 Linux (Ubuntu 18.04.4 LTS) / x86_64  OK  OK  OK UNNEEDED, same version exists in internal repository
tokay1 Windows Server 2012 R2 Standard / x64  OK  OK  OK  OK UNNEEDED, same version exists in internal repository
merida1 macOS 10.14.6 Mojave / x86_64  OK  OK  OK  OK UNNEEDED, same version exists in internal repository
Package 10/1882HostnameOS / ArchINSTALLBUILDCHECKBUILD BIN
ABSSeq 1.43.0
Wentao Yang
Last Commit: 2181a4f
Last Changed Date: 2020-04-27 14:39:30 -0400
malbec1 Linux (Ubuntu 18.04.4 LTS) / x86_64  OK  OK  OK UNNEEDED, same version exists in internal repository
tokay1 Windows Server 2012 R2 Standard / x64  OK  OK  OK  OK UNNEEDED, same version exists in internal repository
merida1 macOS 10.14.6 Mojave / x86_64  OK  OK  OK  OK UNNEEDED, same version exists in internal repository
Package 11/1882HostnameOS / ArchINSTALLBUILDCHECKBUILD BIN
acde 1.19.0
Juan Pablo Acosta
Last Commit: b0efcae
Last Changed Date: 2020-04-27 14:49:17 -0400
malbec1 Linux (Ubuntu 18.04.4 LTS) / x86_64  OK  OK  OK UNNEEDED, same version exists in internal repository
tokay1 Windows Server 2012 R2 Standard / x64  OK  OK  OK  OK UNNEEDED, same version exists in internal repository
merida1 macOS 10.14.6 Mojave / x86_64  OK  OK  OK  OK UNNEEDED, same version exists in internal repository
Package 12/1882HostnameOS / ArchINSTALLBUILDCHECKBUILD BIN
ACE 1.7.0
Jos B Poell
Last Commit: f89d2ab
Last Changed Date: 2020-04-27 15:18:09 -0400
malbec1 Linux (Ubuntu 18.04.4 LTS) / x86_64  OK  OK  OK UNNEEDED, same version exists in internal repository
tokay1 Windows Server 2012 R2 Standard / x64  OK  OK  OK  OK UNNEEDED, same version exists in internal repository
merida1 macOS 10.14.6 Mojave / x86_64  OK  OK  OK  OK UNNEEDED, same version exists in internal repository
Package 13/1882HostnameOS / ArchINSTALLBUILDCHECKBUILD BIN
aCGH 1.67.0
Peter Dimitrov
Last Commit: a8f3d34
Last Changed Date: 2020-04-27 14:09:56 -0400
malbec1 Linux (Ubuntu 18.04.4 LTS) / x86_64  OK  OK  OK UNNEEDED, same version exists in internal repository
tokay1 Windows Server 2012 R2 Standard / x64  OK  OK  OK  OK UNNEEDED, same version exists in internal repository
merida1 macOS 10.14.6 Mojave / x86_64  OK  OK  OK  OK UNNEEDED, same version exists in internal repository
Package 14/1882HostnameOS / ArchINSTALLBUILDCHECKBUILD BIN
ACME 2.45.0
Sean Davis
Last Commit: 58f42e2
Last Changed Date: 2020-04-27 14:15:01 -0400
malbec1 Linux (Ubuntu 18.04.4 LTS) / x86_64  OK  OK  WARNINGS UNNEEDED, same version exists in internal repository
tokay1 Windows Server 2012 R2 Standard / x64  OK  OK  WARNINGS  OK UNNEEDED, same version exists in internal repository
merida1 macOS 10.14.6 Mojave / x86_64  OK  OK  OK  OK UNNEEDED, same version exists in internal repository
Package 15/1882HostnameOS / ArchINSTALLBUILDCHECKBUILD BIN
ADaCGH2 2.29.0
Ramon Diaz-Uriarte
Last Commit: 31c21bb
Last Changed Date: 2020-04-27 14:23:32 -0400
malbec1 Linux (Ubuntu 18.04.4 LTS) / x86_64  ERROR  ERROR  skipped 
tokay1 Windows Server 2012 R2 Standard / x64  ERROR  ERROR  skipped  skipped 
merida1 macOS 10.14.6 Mojave / x86_64  ERROR  ERROR  skipped  skipped 
Package 16/1882HostnameOS / ArchINSTALLBUILDCHECKBUILD BIN
ADAM 1.5.0
Jose Luiz Rybarczyk Filho
Last Commit: a72dd0b
Last Changed Date: 2020-04-27 15:21:48 -0400
malbec1 Linux (Ubuntu 18.04.4 LTS) / x86_64  OK  OK  OK UNNEEDED, same version exists in internal repository
tokay1 Windows Server 2012 R2 Standard / x64  OK  OK  OK  OK UNNEEDED, same version exists in internal repository
merida1 macOS 10.14.6 Mojave / x86_64  OK  OK  OK  OK UNNEEDED, same version exists in internal repository
Package 17/1882HostnameOS / ArchINSTALLBUILDCHECKBUILD BIN
ADAMgui 1.5.0
Jose Luiz Rybarczyk Filho
Last Commit: e66306f
Last Changed Date: 2020-04-27 15:26:00 -0400
malbec1 Linux (Ubuntu 18.04.4 LTS) / x86_64  OK  OK  OK UNNEEDED, same version exists in internal repository
tokay1 Windows Server 2012 R2 Standard / x64  OK  OK  OK  OK UNNEEDED, same version exists in internal repository
merida1 macOS 10.14.6 Mojave / x86_64  OK  OK  OK  OK UNNEEDED, same version exists in internal repository
Package 18/1882HostnameOS / ArchINSTALLBUILDCHECKBUILD BIN
adaptest 1.9.1
Weixin Cai
Last Commit: 12ef0c6
Last Changed Date: 2020-06-08 10:39:09 -0400
malbec1 Linux (Ubuntu 18.04.4 LTS) / x86_64  ERROR  ERROR  skipped 
tokay1 Windows Server 2012 R2 Standard / x64  ERROR  ERROR  skipped  skipped 
merida1 macOS 10.14.6 Mojave / x86_64  ERROR  ERROR  skipped  skipped 
Package 19/1882HostnameOS / ArchINSTALLBUILDCHECKBUILD BIN
adductomicsR 1.5.0
Josie Hayes
Last Commit: fa14d84
Last Changed Date: 2020-04-27 15:22:50 -0400
malbec1 Linux (Ubuntu 18.04.4 LTS) / x86_64  OK  OK  WARNINGS UNNEEDED, same version exists in internal repository
tokay1 Windows Server 2012 R2 Standard / x64  OK  OK  WARNINGS  OK UNNEEDED, same version exists in internal repository
merida1 macOS 10.14.6 Mojave / x86_64  OK  OK  WARNINGS  OK UNNEEDED, same version exists in internal repository
Package 20/1882HostnameOS / ArchINSTALLBUILDCHECKBUILD BIN
adSplit 1.59.0
Claudio Lottaz
Last Commit: 4069672
Last Changed Date: 2020-06-05 04:09:27 -0400
malbec1 Linux (Ubuntu 18.04.4 LTS) / x86_64  OK  OK  WARNINGS UNNEEDED, same version exists in internal repository
tokay1 Windows Server 2012 R2 Standard / x64  OK  OK  WARNINGS  OK UNNEEDED, same version exists in internal repository
merida1 macOS 10.14.6 Mojave / x86_64  OK  OK  WARNINGS  OK UNNEEDED, same version exists in internal repository
Package 21/1882HostnameOS / ArchINSTALLBUILDCHECKBUILD BIN
AffiXcan 1.7.0
Alessandro Lussana
Last Commit: b51795e
Last Changed Date: 2020-04-27 15:20:00 -0400
malbec1 Linux (Ubuntu 18.04.4 LTS) / x86_64  OK  OK  OK UNNEEDED, same version exists in internal repository
tokay1 Windows Server 2012 R2 Standard / x64  OK  OK  OK  OK UNNEEDED, same version exists in internal repository
merida1 macOS 10.14.6 Mojave / x86_64  OK  OK  OK  OK UNNEEDED, same version exists in internal repository
Package 22/1882HostnameOS / ArchINSTALLBUILDCHECKBUILD BIN
affxparser 1.61.0
Kasper Daniel Hansen
Last Commit: d7640aa
Last Changed Date: 2020-04-27 14:12:07 -0400
malbec1 Linux (Ubuntu 18.04.4 LTS) / x86_64  OK  OK  WARNINGS UNNEEDED, same version exists in internal repository
tokay1 Windows Server 2012 R2 Standard / x64  OK  OK  WARNINGS  OK UNNEEDED, same version exists in internal repository
merida1 macOS 10.14.6 Mojave / x86_64  OK  OK  WARNINGS  OK UNNEEDED, same version exists in internal repository
Package 23/1882HostnameOS / ArchINSTALLBUILDCHECKBUILD BIN
affy 1.67.0
Rafael A. Irizarry
Last Commit: 7335b94
Last Changed Date: 2020-04-27 14:08:09 -0400
malbec1 Linux (Ubuntu 18.04.4 LTS) / x86_64  OK  OK  WARNINGS UNNEEDED, same version exists in internal repository
tokay1 Windows Server 2012 R2 Standard / x64  OK  OK  WARNINGS  OK UNNEEDED, same version exists in internal repository
merida1 macOS 10.14.6 Mojave / x86_64  OK  OK  WARNINGS  OK UNNEEDED, same version exists in internal repository
Package 24/1882HostnameOS / ArchINSTALLBUILDCHECKBUILD BIN
affycomp 1.65.0
Rafael A. Irizarry
Last Commit: 35dee2c
Last Changed Date: 2020-04-27 14:08:24 -0400
malbec1 Linux (Ubuntu 18.04.4 LTS) / x86_64  OK  OK  OK UNNEEDED, same version exists in internal repository
tokay1 Windows Server 2012 R2 Standard / x64  OK  OK  WARNINGS  OK UNNEEDED, same version exists in internal repository
merida1 macOS 10.14.6 Mojave / x86_64  OK  OK  OK  OK UNNEEDED, same version exists in internal repository
Package 25/1882HostnameOS / ArchINSTALLBUILDCHECKBUILD BIN
AffyCompatible 1.49.0
Martin Morgan
Last Commit: cae1554
Last Changed Date: 2020-04-27 14:17:06 -0400
malbec1 Linux (Ubuntu 18.04.4 LTS) / x86_64  OK  OK  OK UNNEEDED, same version exists in internal repository
tokay1 Windows Server 2012 R2 Standard / x64  OK  OK  OK  OK UNNEEDED, same version exists in internal repository
merida1 macOS 10.14.6 Mojave / x86_64  OK  OK  OK  OK UNNEEDED, same version exists in internal repository
Package 26/1882HostnameOS / ArchINSTALLBUILDCHECKBUILD BIN
affyContam 1.47.0
V. Carey
Last Commit: 24a5fca
Last Changed Date: 2020-04-27 14:18:21 -0400
malbec1 Linux (Ubuntu 18.04.4 LTS) / x86_64  OK  OK  OK UNNEEDED, same version exists in internal repository
tokay1 Windows Server 2012 R2 Standard / x64  OK  OK  OK  OK UNNEEDED, same version exists in internal repository
merida1 macOS 10.14.6 Mojave / x86_64  OK  OK  OK  OK UNNEEDED, same version exists in internal repository
Package 27/1882HostnameOS / ArchINSTALLBUILDCHECKBUILD BIN
affycoretools 1.61.2
James W. MacDonald
Last Commit: 2f77a7b
Last Changed Date: 2020-05-26 15:52:12 -0400
malbec1 Linux (Ubuntu 18.04.4 LTS) / x86_64  OK  OK  OK UNNEEDED, same version exists in internal repository
tokay1 Windows Server 2012 R2 Standard / x64  OK  OK  WARNINGS  OK UNNEEDED, same version exists in internal repository
merida1 macOS 10.14.6 Mojave / x86_64  OK  OK  OK  OK UNNEEDED, same version exists in internal repository
Package 28/1882HostnameOS / ArchINSTALLBUILDCHECKBUILD BIN
AffyExpress 1.55.0
Xuejun Arthur Li
Last Commit: 900fba3
Last Changed Date: 2020-04-27 14:15:41 -0400
malbec1 Linux (Ubuntu 18.04.4 LTS) / x86_64  OK  OK  OK UNNEEDED, same version exists in internal repository
tokay1 Windows Server 2012 R2 Standard / x64  OK  OK  OK  OK UNNEEDED, same version exists in internal repository
merida1 macOS 10.14.6 Mojave / x86_64  OK  OK  OK  OK UNNEEDED, same version exists in internal repository
Package 29/1882HostnameOS / ArchINSTALLBUILDCHECKBUILD BIN
affyILM 1.41.0
Myriam Kroll and Fabrice Berger
Last Commit: 161cc40
Last Changed Date: 2020-04-27 14:22:18 -0400
malbec1 Linux (Ubuntu 18.04.4 LTS) / x86_64  OK  OK  OK UNNEEDED, same version exists in internal repository
tokay1 Windows Server 2012 R2 Standard / x64  OK  OK  OK  OK UNNEEDED, same version exists in internal repository
merida1 macOS 10.14.6 Mojave / x86_64  OK  OK  OK  OK UNNEEDED, same version exists in internal repository
Package 30/1882HostnameOS / ArchINSTALLBUILDCHECKBUILD BIN
affyio 1.59.0
Ben Bolstad
Last Commit: 3ed1f95
Last Changed Date: 2020-04-27 14:08:04 -0400
malbec1 Linux (Ubuntu 18.04.4 LTS) / x86_64  OK  OK  OK UNNEEDED, same version exists in internal repository
tokay1 Windows Server 2012 R2 Standard / x64  OK  OK  WARNINGS  OK UNNEEDED, same version exists in internal repository
merida1 macOS 10.14.6 Mojave / x86_64  OK  OK  OK  OK UNNEEDED, same version exists in internal repository
Package 31/1882HostnameOS / ArchINSTALLBUILDCHECKBUILD BIN
affylmGUI 1.63.0
Gordon Smyth
Last Commit: 4752dac
Last Changed Date: 2020-04-27 14:09:39 -0400
malbec1 Linux (Ubuntu 18.04.4 LTS) / x86_64  OK  OK  OK UNNEEDED, same version exists in internal repository
tokay1 Windows Server 2012 R2 Standard / x64  OK  OK  OK  OK UNNEEDED, same version exists in internal repository
merida1 macOS 10.14.6 Mojave / x86_64  OK  OK  OK  OK UNNEEDED, same version exists in internal repository
Package 32/1882HostnameOS / ArchINSTALLBUILDCHECKBUILD BIN
affyPara 1.49.0
Markus Schmidberger
Last Commit: 2af763a
Last Changed Date: 2020-04-27 14:16:46 -0400
malbec1 Linux (Ubuntu 18.04.4 LTS) / x86_64  OK  OK  OK UNNEEDED, same version exists in internal repository
tokay1 Windows Server 2012 R2 Standard / x64  OK  OK  OK  OK UNNEEDED, same version exists in internal repository
merida1 macOS 10.14.6 Mojave / x86_64  OK  OK  OK  OK UNNEEDED, same version exists in internal repository
Package 33/1882HostnameOS / ArchINSTALLBUILDCHECKBUILD BIN
affyPLM 1.65.0
Ben Bolstad
Last Commit: 6b1f227
Last Changed Date: 2020-04-27 14:08:49 -0400
malbec1 Linux (Ubuntu 18.04.4 LTS) / x86_64  OK  OK  OK UNNEEDED, same version exists in internal repository
tokay1 Windows Server 2012 R2 Standard / x64  OK  OK  OK  OK UNNEEDED, same version exists in internal repository
merida1 macOS 10.14.6 Mojave / x86_64  OK  OK  OK  OK UNNEEDED, same version exists in internal repository
Package 34/1882HostnameOS / ArchINSTALLBUILDCHECKBUILD BIN
affyQCReport 1.67.0
Craig Parman
Last Commit: e1927bf
Last Changed Date: 2020-04-27 14:11:46 -0400
malbec1 Linux (Ubuntu 18.04.4 LTS) / x86_64  OK  OK  OK UNNEEDED, same version exists in internal repository
tokay1 Windows Server 2012 R2 Standard / x64  OK  OK  OK  OK UNNEEDED, same version exists in internal repository
merida1 macOS 10.14.6 Mojave / x86_64  OK  OK  OK  OK UNNEEDED, same version exists in internal repository
Package 35/1882HostnameOS / ArchINSTALLBUILDCHECKBUILD BIN
AffyRNADegradation 1.35.0
Mario Fasold
Last Commit: a30a663
Last Changed Date: 2020-04-27 14:28:04 -0400
malbec1 Linux (Ubuntu 18.04.4 LTS) / x86_64  OK  OK  OK UNNEEDED, same version exists in internal repository
tokay1 Windows Server 2012 R2 Standard / x64  OK  OK  OK  OK UNNEEDED, same version exists in internal repository
merida1 macOS 10.14.6 Mojave / x86_64  OK  OK  OK  OK UNNEEDED, same version exists in internal repository
Package 36/1882HostnameOS / ArchINSTALLBUILDCHECKBUILD BIN
AGDEX 1.37.0
Cuilan lani Gao
Last Commit: b3b3d17
Last Changed Date: 2020-04-27 14:27:03 -0400
malbec1 Linux (Ubuntu 18.04.4 LTS) / x86_64  OK  OK  OK UNNEEDED, same version exists in internal repository
tokay1 Windows Server 2012 R2 Standard / x64  OK  OK  WARNINGS  OK UNNEEDED, same version exists in internal repository
merida1 macOS 10.14.6 Mojave / x86_64  OK  OK  OK  OK UNNEEDED, same version exists in internal repository
Package 37/1882HostnameOS / ArchINSTALLBUILDCHECKBUILD BIN
agilp 3.21.0
Benny Chain
Last Commit: 653f88f
Last Changed Date: 2020-04-27 14:31:27 -0400
malbec1 Linux (Ubuntu 18.04.4 LTS) / x86_64  OK  OK  OK UNNEEDED, same version exists in internal repository
tokay1 Windows Server 2012 R2 Standard / x64  OK  OK  OK  OK UNNEEDED, same version exists in internal repository
merida1 macOS 10.14.6 Mojave / x86_64  OK  OK  OK  OK UNNEEDED, same version exists in internal repository
Package 38/1882HostnameOS / ArchINSTALLBUILDCHECKBUILD BIN
AgiMicroRna 2.39.0
Pedro Lopez-Romero
Last Commit: bb62809
Last Changed Date: 2020-04-27 14:20:03 -0400
malbec1 Linux (Ubuntu 18.04.4 LTS) / x86_64  OK  OK  OK UNNEEDED, same version exists in internal repository
tokay1 Windows Server 2012 R2 Standard / x64  OK  OK  OK  OK UNNEEDED, same version exists in internal repository
merida1 macOS 10.14.6 Mojave / x86_64  OK  OK  OK  OK UNNEEDED, same version exists in internal repository
Package 39/1882HostnameOS / ArchINSTALLBUILDCHECKBUILD BIN
AIMS 1.21.0
Eric R Paquet
Last Commit: 569ab3c
Last Changed Date: 2020-04-27 14:45:30 -0400
malbec1 Linux (Ubuntu 18.04.4 LTS) / x86_64  OK  OK  OK UNNEEDED, same version exists in internal repository
tokay1 Windows Server 2012 R2 Standard / x64  OK  OK  OK  OK UNNEEDED, same version exists in internal repository
merida1 macOS 10.14.6 Mojave / x86_64  OK  OK  OK  OK UNNEEDED, same version exists in internal repository
Package 40/1882HostnameOS / ArchINSTALLBUILDCHECKBUILD BIN
ALDEx2 1.21.1
Greg Gloor
Last Commit: 93c54f9
Last Changed Date: 2020-07-07 15:59:33 -0400
malbec1 Linux (Ubuntu 18.04.4 LTS) / x86_64  OK  OK  OK UNNEEDED, same version exists in internal repository
tokay1 Windows Server 2012 R2 Standard / x64  OK  OK  OK  OK UNNEEDED, same version exists in internal repository
merida1 macOS 10.14.6 Mojave / x86_64  OK  OK  OK  OK UNNEEDED, same version exists in internal repository
Package 41/1882HostnameOS / ArchINSTALLBUILDCHECKBUILD BIN
alevinQC 1.5.1
Charlotte Soneson
Last Commit: 2658812
Last Changed Date: 2020-05-08 07:29:47 -0400
malbec1 Linux (Ubuntu 18.04.4 LTS) / x86_64  OK  OK  OK UNNEEDED, same version exists in internal repository
tokay1 Windows Server 2012 R2 Standard / x64  OK  OK  OK  OK UNNEEDED, same version exists in internal repository
merida1 macOS 10.14.6 Mojave / x86_64  OK  OK  OK  OK UNNEEDED, same version exists in internal repository
Package 42/1882HostnameOS / ArchINSTALLBUILDCHECKBUILD BIN
AllelicImbalance 1.27.0
Jesper R Gadin
Last Commit: 053ddfb
Last Changed Date: 2020-04-27 14:36:41 -0400
malbec1 Linux (Ubuntu 18.04.4 LTS) / x86_64  OK  OK  OK UNNEEDED, same version exists in internal repository
tokay1 Windows Server 2012 R2 Standard / x64  OK  OK  OK  OK UNNEEDED, same version exists in internal repository
merida1 macOS 10.14.6 Mojave / x86_64  OK  OK  OK  OK UNNEEDED, same version exists in internal repository
Package 43/1882HostnameOS / ArchINSTALLBUILDCHECKBUILD BIN
AlphaBeta 1.3.3
Yadollah Shahryary Dizaji
Last Commit: 3497a14
Last Changed Date: 2020-06-06 09:46:58 -0400
malbec1 Linux (Ubuntu 18.04.4 LTS) / x86_64  OK  OK  OK UNNEEDED, same version exists in internal repository
tokay1 Windows Server 2012 R2 Standard / x64  OK  OK  OK  OK UNNEEDED, same version exists in internal repository
merida1 macOS 10.14.6 Mojave / x86_64  OK  OK  OK  OK UNNEEDED, same version exists in internal repository
Package 44/1882HostnameOS / ArchINSTALLBUILDCHECKBUILD BIN
alpine 1.15.0
Michael Love
Last Commit: ba310e3
Last Changed Date: 2020-04-27 15:00:57 -0400
malbec1 Linux (Ubuntu 18.04.4 LTS) / x86_64  OK  OK  OK UNNEEDED, same version exists in internal repository
tokay1 Windows Server 2012 R2 Standard / x64  OK  OK  OK  OK UNNEEDED, same version exists in internal repository
merida1 macOS 10.14.6 Mojave / x86_64  OK  OK  OK  OK UNNEEDED, same version exists in internal repository
Package 45/1882HostnameOS / ArchINSTALLBUILDCHECKBUILD BIN
ALPS 1.3.0
Venu Thatikonda
Last Commit: 10e65ff
Last Changed Date: 2020-04-27 15:31:37 -0400
malbec1 Linux (Ubuntu 18.04.4 LTS) / x86_64  OK  OK  OK UNNEEDED, same version exists in internal repository
tokay1 Windows Server 2012 R2 Standard / x64  OK  OK  OK  OK UNNEEDED, same version exists in internal repository
merida1 macOS 10.14.6 Mojave / x86_64  OK  OK  OK  OK UNNEEDED, same version exists in internal repository
Package 46/1882HostnameOS / ArchINSTALLBUILDCHECKBUILD BIN
alsace 1.25.0
Ron Wehrens
Last Commit: 1b7cacd
Last Changed Date: 2020-04-27 14:38:51 -0400
malbec1 Linux (Ubuntu 18.04.4 LTS) / x86_64  OK  OK  OK UNNEEDED, same version exists in internal repository
tokay1 Windows Server 2012 R2 Standard / x64  OK  OK  OK  OK UNNEEDED, same version exists in internal repository
merida1 macOS 10.14.6 Mojave / x86_64  OK  OK  OK  OK UNNEEDED, same version exists in internal repository
Package 47/1882HostnameOS / ArchINSTALLBUILDCHECKBUILD BIN
altcdfenvs 2.51.0
Laurent Gautier
Last Commit: ce94335
Last Changed Date: 2020-04-27 14:09:31 -0400
malbec1 Linux (Ubuntu 18.04.4 LTS) / x86_64  OK  OK  OK UNNEEDED, same version exists in internal repository
tokay1 Windows Server 2012 R2 Standard / x64  OK  OK  OK  OK UNNEEDED, same version exists in internal repository
merida1 macOS 10.14.6 Mojave / x86_64  OK  OK  OK  OK UNNEEDED, same version exists in internal repository
Package 48/1882HostnameOS / ArchINSTALLBUILDCHECKBUILD BIN
AMARETTO 1.5.0
Olivier Gevaert
Last Commit: 07c0d39
Last Changed Date: 2020-04-27 15:24:46 -0400
malbec1 Linux (Ubuntu 18.04.4 LTS) / x86_64  OK  OK  OK UNNEEDED, same version exists in internal repository
tokay1 Windows Server 2012 R2 Standard / x64  OK  OK  OK  OK UNNEEDED, same version exists in internal repository
merida1 macOS 10.14.6 Mojave / x86_64  OK  OK  OK  OK UNNEEDED, same version exists in internal repository
Package 49/1882HostnameOS / ArchINSTALLBUILDCHECKBUILD BIN
AMOUNTAIN 1.15.0
Dong Li
Last Commit: 6e77341
Last Changed Date: 2020-04-27 14:59:13 -0400
malbec1 Linux (Ubuntu 18.04.4 LTS) / x86_64  OK  OK  OK UNNEEDED, same version exists in internal repository
tokay1 Windows Server 2012 R2 Standard / x64  OK  OK  OK  OK UNNEEDED, same version exists in internal repository
merida1 macOS 10.14.6 Mojave / x86_64  OK  OK  OK  OK UNNEEDED, same version exists in internal repository
Package 50/1882HostnameOS / ArchINSTALLBUILDCHECKBUILD BIN
amplican 1.11.1
Eivind Valen
Last Commit: ccd6e2a
Last Changed Date: 2020-07-03 10:24:14 -0400
malbec1 Linux (Ubuntu 18.04.4 LTS) / x86_64  OK  OK  OK UNNEEDED, same version exists in internal repository
tokay1 Windows Server 2012 R2 Standard / x64  OK  OK  OK  OK UNNEEDED, same version exists in internal repository
merida1 macOS 10.14.6 Mojave / x86_64  OK  OK  OK  OK UNNEEDED, same version exists in internal repository
Package 51/1882HostnameOS / ArchINSTALLBUILDCHECKBUILD BIN
Anaquin 2.13.0
Ted Wong
Last Commit: aa8e5bd
Last Changed Date: 2020-04-27 15:01:01 -0400
malbec1 Linux (Ubuntu 18.04.4 LTS) / x86_64  OK  OK  OK UNNEEDED, same version exists in internal repository
tokay1 Windows Server 2012 R2 Standard / x64  OK  OK  OK  OK UNNEEDED, same version exists in internal repository
merida1 macOS 10.14.6 Mojave / x86_64  OK  OK  OK  OK UNNEEDED, same version exists in internal repository
Package 52/1882HostnameOS / ArchINSTALLBUILDCHECKBUILD BIN
AneuFinder 1.17.0
Aaron Taudt
Last Commit: e64f35e
Last Changed Date: 2020-04-27 14:55:57 -0400
malbec1 Linux (Ubuntu 18.04.4 LTS) / x86_64  OK  OK  OK UNNEEDED, same version exists in internal repository
tokay1 Windows Server 2012 R2 Standard / x64  OK  OK  OK  OK UNNEEDED, same version exists in internal repository
merida1 macOS 10.14.6 Mojave / x86_64  OK  OK  OK  OK UNNEEDED, same version exists in internal repository
Package 53/1882HostnameOS / ArchINSTALLBUILDCHECKBUILD BIN
ANF 1.11.0
Tianle Ma
Last Commit: 0117a4f
Last Changed Date: 2020-04-27 15:11:11 -0400
malbec1 Linux (Ubuntu 18.04.4 LTS) / x86_64  OK  OK  OK UNNEEDED, same version exists in internal repository
tokay1 Windows Server 2012 R2 Standard / x64  OK  OK  OK  OK UNNEEDED, same version exists in internal repository
merida1 macOS 10.14.6 Mojave / x86_64  OK  OK  OK  OK UNNEEDED, same version exists in internal repository
Package 54/1882HostnameOS / ArchINSTALLBUILDCHECKBUILD BIN
animalcules 1.5.1
Yue Zhao
Last Commit: 36c4fb6
Last Changed Date: 2020-06-18 11:25:25 -0400
malbec1 Linux (Ubuntu 18.04.4 LTS) / x86_64  OK  OK  OK UNNEEDED, same version exists in internal repository
tokay1 Windows Server 2012 R2 Standard / x64  OK  OK  OK  OK UNNEEDED, same version exists in internal repository
merida1 macOS 10.14.6 Mojave / x86_64  OK  OK  OK  OK UNNEEDED, same version exists in internal repository
Package 55/1882HostnameOS / ArchINSTALLBUILDCHECKBUILD BIN
annaffy 1.61.0
Colin A. Smith
Last Commit: ff79835
Last Changed Date: 2020-04-27 14:08:37 -0400
malbec1 Linux (Ubuntu 18.04.4 LTS) / x86_64  OK  OK  WARNINGS UNNEEDED, same version exists in internal repository
tokay1 Windows Server 2012 R2 Standard / x64  OK  OK  WARNINGS  OK UNNEEDED, same version exists in internal repository
merida1 macOS 10.14.6 Mojave / x86_64  OK  OK  WARNINGS  OK UNNEEDED, same version exists in internal repository
Package 56/1882HostnameOS / ArchINSTALLBUILDCHECKBUILD BIN
annmap 1.31.0
Chris Wirth
Last Commit: f46c02a
Last Changed Date: 2020-04-27 14:29:55 -0400
malbec1 Linux (Ubuntu 18.04.4 LTS) / x86_64  OK  OK  WARNINGS UNNEEDED, same version exists in internal repository
tokay1 Windows Server 2012 R2 Standard / x64 ...NOT SUPPORTED...
merida1 macOS 10.14.6 Mojave / x86_64  OK  OK  WARNINGS  OK UNNEEDED, same version exists in internal repository
Package 57/1882HostnameOS / ArchINSTALLBUILDCHECKBUILD BIN
annotate 1.67.0
Bioconductor Package Maintainer
Last Commit: 9a6f339
Last Changed Date: 2020-04-27 14:07:46 -0400
malbec1 Linux (Ubuntu 18.04.4 LTS) / x86_64  OK  OK  OK UNNEEDED, same version exists in internal repository
tokay1 Windows Server 2012 R2 Standard / x64  OK  OK  OK  OK UNNEEDED, same version exists in internal repository
merida1 macOS 10.14.6 Mojave / x86_64  OK  OK  OK  OK UNNEEDED, same version exists in internal repository
Package 58/1882HostnameOS / ArchINSTALLBUILDCHECKBUILD BIN
AnnotationDbi 1.51.3
Bioconductor Package Maintainer
Last Commit: cb334af
Last Changed Date: 2020-07-24 15:10:07 -0400
malbec1 Linux (Ubuntu 18.04.4 LTS) / x86_64  OK  OK  OK UNNEEDED, same version exists in internal repository
tokay1 Windows Server 2012 R2 Standard / x64  OK  OK  OK  OK UNNEEDED, same version exists in internal repository
merida1 macOS 10.14.6 Mojave / x86_64  OK  OK  OK  OK UNNEEDED, same version exists in internal repository
Package 59/1882HostnameOS / ArchINSTALLBUILDCHECKBUILD BIN
AnnotationFilter 1.13.0
Bioconductor Package Maintainer
Last Commit: dd53a9e
Last Changed Date: 2020-04-27 15:06:41 -0400
malbec1 Linux (Ubuntu 18.04.4 LTS) / x86_64  OK  OK  OK UNNEEDED, same version exists in internal repository
tokay1 Windows Server 2012 R2 Standard / x64  OK  OK  OK  OK UNNEEDED, same version exists in internal repository
merida1 macOS 10.14.6 Mojave / x86_64  OK  OK  OK  OK UNNEEDED, same version exists in internal repository
Package 60/1882HostnameOS / ArchINSTALLBUILDCHECKBUILD BIN
AnnotationForge 1.31.2
Bioconductor Package Maintainer
Last Commit: 7382b9a
Last Changed Date: 2020-06-01 17:00:58 -0400
malbec1 Linux (Ubuntu 18.04.4 LTS) / x86_64  OK  OK  OK UNNEEDED, same version exists in internal repository
tokay1 Windows Server 2012 R2 Standard / x64  OK  OK  OK  OK UNNEEDED, same version exists in internal repository
merida1 macOS 10.14.6 Mojave / x86_64  OK  OK  OK  OK UNNEEDED, same version exists in internal repository
Package 61/1882HostnameOS / ArchINSTALLBUILDCHECKBUILD BIN
AnnotationFuncs 1.39.0
Stefan McKinnon Edwards
Last Commit: be3ab30
Last Changed Date: 2020-04-27 14:24:47 -0400
malbec1 Linux (Ubuntu 18.04.4 LTS) / x86_64  OK  OK  OK UNNEEDED, same version exists in internal repository
tokay1 Windows Server 2012 R2 Standard / x64  OK  OK  OK  OK UNNEEDED, same version exists in internal repository
merida1 macOS 10.14.6 Mojave / x86_64  OK  OK  OK  OK UNNEEDED, same version exists in internal repository
Package 62/1882HostnameOS / ArchINSTALLBUILDCHECKBUILD BIN
AnnotationHub 2.21.2
Bioconductor Package Maintainer
Last Commit: df00c74
Last Changed Date: 2020-08-03 10:31:45 -0400
malbec1 Linux (Ubuntu 18.04.4 LTS) / x86_64  OK  OK  WARNINGS UNNEEDED, same version exists in internal repository
tokay1 Windows Server 2012 R2 Standard / x64  OK  OK  WARNINGS  OK UNNEEDED, same version exists in internal repository
merida1 macOS 10.14.6 Mojave / x86_64  OK  OK  WARNINGS  OK UNNEEDED, same version exists in internal repository
Package 63/1882HostnameOS / ArchINSTALLBUILDCHECKBUILD BIN
AnnotationHubData 1.19.3
Bioconductor Package Maintainer
Last Commit: 3171efd
Last Changed Date: 2020-08-03 10:35:56 -0400
malbec1 Linux (Ubuntu 18.04.4 LTS) / x86_64  OK  OK  WARNINGS UNNEEDED, same version exists in internal repository
tokay1 Windows Server 2012 R2 Standard / x64  OK  OK  WARNINGS  OK UNNEEDED, same version exists in internal repository
merida1 macOS 10.14.6 Mojave / x86_64  OK  OK  WARNINGS  OK UNNEEDED, same version exists in internal repository
Package 64/1882HostnameOS / ArchINSTALLBUILDCHECKBUILD BIN
annotationTools 1.63.0
Alexandre Kuhn
Last Commit: 0a25929
Last Changed Date: 2020-04-27 14:14:46 -0400
malbec1 Linux (Ubuntu 18.04.4 LTS) / x86_64  OK  OK  OK UNNEEDED, same version exists in internal repository
tokay1 Windows Server 2012 R2 Standard / x64  OK  OK  OK  OK UNNEEDED, same version exists in internal repository
merida1 macOS 10.14.6 Mojave / x86_64  OK  OK  OK  OK UNNEEDED, same version exists in internal repository
Package 65/1882HostnameOS / ArchINSTALLBUILDCHECKBUILD BIN
annotatr 1.15.2
Raymond G. Cavalcante
Last Commit: 78eb300
Last Changed Date: 2020-07-07 08:56:57 -0400
malbec1 Linux (Ubuntu 18.04.4 LTS) / x86_64  OK  OK  OK UNNEEDED, same version exists in internal repository
tokay1 Windows Server 2012 R2 Standard / x64  OK  OK  OK  OK UNNEEDED, same version exists in internal repository
merida1 macOS 10.14.6 Mojave / x86_64  OK  OK  OK  OK UNNEEDED, same version exists in internal repository
Package 66/1882HostnameOS / ArchINSTALLBUILDCHECKBUILD BIN
anota 1.37.0
Ola Larsson
Last Commit: e5ea588
Last Changed Date: 2020-04-27 14:25:34 -0400
malbec1 Linux (Ubuntu 18.04.4 LTS) / x86_64  OK  OK  OK UNNEEDED, same version exists in internal repository
tokay1 Windows Server 2012 R2 Standard / x64  OK  OK  OK  OK UNNEEDED, same version exists in internal repository
merida1 macOS 10.14.6 Mojave / x86_64  OK  OK  OK  OK UNNEEDED, same version exists in internal repository
Package 67/1882HostnameOS / ArchINSTALLBUILDCHECKBUILD BIN
anota2seq 1.11.0
Christian Oertlin , Julie Lorent
Last Commit: 0e34b88
Last Changed Date: 2020-04-27 15:11:14 -0400
malbec1 Linux (Ubuntu 18.04.4 LTS) / x86_64  OK  OK  OK UNNEEDED, same version exists in internal repository
tokay1 Windows Server 2012 R2 Standard / x64  OK  OK  OK  OK UNNEEDED, same version exists in internal repository
merida1 macOS 10.14.6 Mojave / x86_64  OK  OK  OK  OK UNNEEDED, same version exists in internal repository
Package 68/1882HostnameOS / ArchINSTALLBUILDCHECKBUILD BIN
antiProfiles 1.29.0
Hector Corrada Bravo
Last Commit: d37e7c1
Last Changed Date: 2020-04-27 14:34:13 -0400
malbec1 Linux (Ubuntu 18.04.4 LTS) / x86_64  OK  OK  OK UNNEEDED, same version exists in internal repository
tokay1 Windows Server 2012 R2 Standard / x64  OK  OK  OK  OK UNNEEDED, same version exists in internal repository
merida1 macOS 10.14.6 Mojave / x86_64  OK  OK  OK  OK UNNEEDED, same version exists in internal repository
Package 69/1882HostnameOS / ArchINSTALLBUILDCHECKBUILD BIN
AnVIL 1.1.14
Martin Morgan
Last Commit: eb57fc7
Last Changed Date: 2020-07-07 09:49:59 -0400
malbec1 Linux (Ubuntu 18.04.4 LTS) / x86_64  OK  OK  OK UNNEEDED, same version exists in internal repository
tokay1 Windows Server 2012 R2 Standard / x64  OK  OK  OK  OK UNNEEDED, same version exists in internal repository
merida1 macOS 10.14.6 Mojave / x86_64  OK  OK  OK  OK UNNEEDED, same version exists in internal repository
Package 70/1882HostnameOS / ArchINSTALLBUILDCHECKBUILD BIN
APAlyzer 1.3.3
Ruijia Wang
Last Commit: db11964
Last Changed Date: 2020-07-20 22:58:05 -0400
malbec1 Linux (Ubuntu 18.04.4 LTS) / x86_64  OK  OK  OK UNNEEDED, same version exists in internal repository
tokay1 Windows Server 2012 R2 Standard / x64  OK  OK  OK  OK UNNEEDED, same version exists in internal repository
merida1 macOS 10.14.6 Mojave / x86_64  OK  OK  OK  OK UNNEEDED, same version exists in internal repository
Package 71/1882HostnameOS / ArchINSTALLBUILDCHECKBUILD BIN
apComplex 2.55.0
Denise Scholtens
Last Commit: f952b2e
Last Changed Date: 2020-04-27 14:10:49 -0400
malbec1 Linux (Ubuntu 18.04.4 LTS) / x86_64  OK  OK  OK UNNEEDED, same version exists in internal repository
tokay1 Windows Server 2012 R2 Standard / x64  OK  OK  OK  OK UNNEEDED, same version exists in internal repository
merida1 macOS 10.14.6 Mojave / x86_64  OK  OK  OK  OK UNNEEDED, same version exists in internal repository
Package 72/1882HostnameOS / ArchINSTALLBUILDCHECKBUILD BIN
apeglm 1.11.1
Anqi Zhu
Last Commit: 9fbe096
Last Changed Date: 2020-06-10 15:11:39 -0400
malbec1 Linux (Ubuntu 18.04.4 LTS) / x86_64  OK  OK  OK UNNEEDED, same version exists in internal repository
tokay1 Windows Server 2012 R2 Standard / x64  OK  OK  OK  OK UNNEEDED, same version exists in internal repository
merida1 macOS 10.14.6 Mojave / x86_64  OK  OK  OK  OK UNNEEDED, same version exists in internal repository
Package 73/1882HostnameOS / ArchINSTALLBUILDCHECKBUILD BIN
appreci8R 1.7.0
Sarah Sandmann
Last Commit: 8474b30
Last Changed Date: 2020-04-27 15:18:01 -0400
malbec1 Linux (Ubuntu 18.04.4 LTS) / x86_64  OK  OK  OK UNNEEDED, same version exists in internal repository
tokay1 Windows Server 2012 R2 Standard / x64  OK  OK  OK  OK UNNEEDED, same version exists in internal repository
merida1 macOS 10.14.6 Mojave / x86_64  OK  OK  OK  OK UNNEEDED, same version exists in internal repository
Package 74/1882HostnameOS / ArchINSTALLBUILDCHECKBUILD BIN
aroma.light 3.19.0
Henrik Bengtsson
Last Commit: 38f3c56
Last Changed Date: 2020-04-27 14:13:39 -0400
malbec1 Linux (Ubuntu 18.04.4 LTS) / x86_64  OK  OK  OK UNNEEDED, same version exists in internal repository
tokay1 Windows Server 2012 R2 Standard / x64  OK  OK  WARNINGS  OK UNNEEDED, same version exists in internal repository
merida1 macOS 10.14.6 Mojave / x86_64  OK  OK  OK  OK UNNEEDED, same version exists in internal repository
Package 75/1882HostnameOS / ArchINSTALLBUILDCHECKBUILD BIN
ArrayExpress 1.49.0
Suhaib Mohammed
Last Commit: 99c772d
Last Changed Date: 2020-04-27 14:18:09 -0400
malbec1 Linux (Ubuntu 18.04.4 LTS) / x86_64  ERROR  ERROR  skipped 
tokay1 Windows Server 2012 R2 Standard / x64  ERROR  ERROR  skipped  skipped 
merida1 macOS 10.14.6 Mojave / x86_64  ERROR  ERROR  skipped  skipped 
Package 76/1882HostnameOS / ArchINSTALLBUILDCHECKBUILD BIN
ArrayExpressHTS 1.39.1
Angela Goncalves , Andrew Tikhonov
Last Commit: 6fd6f54
Last Changed Date: 2020-07-14 16:00:40 -0400
malbec1 Linux (Ubuntu 18.04.4 LTS) / x86_64  OK  OK  WARNINGS UNNEEDED, same version exists in internal repository
tokay1 Windows Server 2012 R2 Standard / x64 ...NOT SUPPORTED...
merida1 macOS 10.14.6 Mojave / x86_64  OK  OK  OK  OK UNNEEDED, same version exists in internal repository
Package 77/1882HostnameOS / ArchINSTALLBUILDCHECKBUILD BIN
arrayMvout 1.47.0
V. Carey
Last Commit: 972577c
Last Changed Date: 2020-04-27 14:18:24 -0400
malbec1 Linux (Ubuntu 18.04.4 LTS) / x86_64  OK  OK  OK UNNEEDED, same version exists in internal repository
tokay1 Windows Server 2012 R2 Standard / x64  OK  OK  OK  OK UNNEEDED, same version exists in internal repository
merida1 macOS 10.14.6 Mojave / x86_64  OK  OK  OK  OK UNNEEDED, same version exists in internal repository
Package 78/1882HostnameOS / ArchINSTALLBUILDCHECKBUILD BIN
arrayQuality 1.67.0
Agnes Paquet
Last Commit: 6d84cc2
Last Changed Date: 2020-04-27 14:09:34 -0400
malbec1 Linux (Ubuntu 18.04.4 LTS) / x86_64  OK  OK  WARNINGS UNNEEDED, same version exists in internal repository
tokay1 Windows Server 2012 R2 Standard / x64  OK  OK  WARNINGS  OK UNNEEDED, same version exists in internal repository
merida1 macOS 10.14.6 Mojave / x86_64  OK  OK  WARNINGS  OK UNNEEDED, same version exists in internal repository
Package 79/1882HostnameOS / ArchINSTALLBUILDCHECKBUILD BIN
arrayQualityMetrics 3.45.0
Mike Smith
Last Commit: 16ff64b
Last Changed Date: 2020-04-27 14:15:36 -0400
malbec1 Linux (Ubuntu 18.04.4 LTS) / x86_64  OK  OK  OK UNNEEDED, same version exists in internal repository
tokay1 Windows Server 2012 R2 Standard / x64  OK  OK  OK  OK UNNEEDED, same version exists in internal repository
merida1 macOS 10.14.6 Mojave / x86_64  OK  OK  OK  OK UNNEEDED, same version exists in internal repository
Package 80/1882HostnameOS / ArchINSTALLBUILDCHECKBUILD BIN
ArrayTools 1.49.0
Arthur Li
Last Commit: e7b0baa
Last Changed Date: 2020-04-27 14:18:01 -0400
malbec1 Linux (Ubuntu 18.04.4 LTS) / x86_64  OK  OK  OK UNNEEDED, same version exists in internal repository
tokay1 Windows Server 2012 R2 Standard / x64  OK  OK  OK  OK UNNEEDED, same version exists in internal repository
merida1 macOS 10.14.6 Mojave / x86_64  OK  OK  OK  OK UNNEEDED, same version exists in internal repository
Package 81/1882HostnameOS / ArchINSTALLBUILDCHECKBUILD BIN
ArrayTV 1.27.1
Eitan Halper-Stromberg
Last Commit: 2629952
Last Changed Date: 2020-06-08 09:58:02 -0400
malbec1 Linux (Ubuntu 18.04.4 LTS) / x86_64  OK  ERROR  skipped 
tokay1 Windows Server 2012 R2 Standard / x64  OK  ERROR  skipped  skipped 
merida1 macOS 10.14.6 Mojave / x86_64  OK  ERROR  skipped  skipped 
Package 82/1882HostnameOS / ArchINSTALLBUILDCHECKBUILD BIN
ARRmNormalization 1.29.0
Jean-Philippe Fortin
Last Commit: 6e747ff
Last Changed Date: 2020-04-27 14:33:29 -0400
malbec1 Linux (Ubuntu 18.04.4 LTS) / x86_64  OK  OK  OK UNNEEDED, same version exists in internal repository
tokay1 Windows Server 2012 R2 Standard / x64  OK  OK  OK  OK UNNEEDED, same version exists in internal repository
merida1 macOS 10.14.6 Mojave / x86_64  OK  OK  OK  OK UNNEEDED, same version exists in internal repository
Package 83/1882HostnameOS / ArchINSTALLBUILDCHECKBUILD BIN
artMS 1.7.5
David Jimenez-Morales
Last Commit: 4ab9bd7
Last Changed Date: 2020-05-21 01:16:54 -0400
malbec1 Linux (Ubuntu 18.04.4 LTS) / x86_64  OK  OK  WARNINGS UNNEEDED, same version exists in internal repository
tokay1 Windows Server 2012 R2 Standard / x64  OK  OK  WARNINGS  OK UNNEEDED, same version exists in internal repository
merida1 macOS 10.14.6 Mojave / x86_64  OK  OK  WARNINGS  OK UNNEEDED, same version exists in internal repository
Package 84/1882HostnameOS / ArchINSTALLBUILDCHECKBUILD BIN
ASAFE 1.15.0
Qian Zhang
Last Commit: e0273ce
Last Changed Date: 2020-04-27 14:59:36 -0400
malbec1 Linux (Ubuntu 18.04.4 LTS) / x86_64  OK  OK  OK UNNEEDED, same version exists in internal repository
tokay1 Windows Server 2012 R2 Standard / x64  OK  OK  OK  OK UNNEEDED, same version exists in internal repository
merida1 macOS 10.14.6 Mojave / x86_64  OK  OK  OK  OK UNNEEDED, same version exists in internal repository
Package 85/1882HostnameOS / ArchINSTALLBUILDCHECKBUILD BIN
ASEB 1.33.0
Likun Wang
Last Commit: 399b394
Last Changed Date: 2020-04-27 14:28:02 -0400
malbec1 Linux (Ubuntu 18.04.4 LTS) / x86_64  OK  OK  OK UNNEEDED, same version exists in internal repository
tokay1 Windows Server 2012 R2 Standard / x64  OK  OK  OK  OK UNNEEDED, same version exists in internal repository
merida1 macOS 10.14.6 Mojave / x86_64  OK  OK  OK  OK UNNEEDED, same version exists in internal repository
Package 86/1882HostnameOS / ArchINSTALLBUILDCHECKBUILD BIN
ASGSCA 1.23.0
Hela Romdhani
Last Commit: 155e066
Last Changed Date: 2020-04-27 14:44:04 -0400
malbec1 Linux (Ubuntu 18.04.4 LTS) / x86_64  OK  OK  OK UNNEEDED, same version exists in internal repository
tokay1 Windows Server 2012 R2 Standard / x64  OK  OK  OK  OK UNNEEDED, same version exists in internal repository
merida1 macOS 10.14.6 Mojave / x86_64  OK  OK  OK  OK UNNEEDED, same version exists in internal repository
Package 87/1882HostnameOS / ArchINSTALLBUILDCHECKBUILD BIN
ASICS 2.5.3
Gaëlle Lefort
Last Commit: 6bc5327
Last Changed Date: 2020-07-20 02:38:28 -0400
malbec1 Linux (Ubuntu 18.04.4 LTS) / x86_64  OK  OK  WARNINGS UNNEEDED, same version exists in internal repository
tokay1 Windows Server 2012 R2 Standard / x64  OK  OK  WARNINGS  OK UNNEEDED, same version exists in internal repository
merida1 macOS 10.14.6 Mojave / x86_64  OK  OK  WARNINGS  OK UNNEEDED, same version exists in internal repository
Package 88/1882HostnameOS / ArchINSTALLBUILDCHECKBUILD BIN
ASpediaFI 1.3.0
Doyeong Yu
Last Commit: 1255415
Last Changed Date: 2020-04-27 15:31:42 -0400
malbec1 Linux (Ubuntu 18.04.4 LTS) / x86_64  OK  OK  OK UNNEEDED, same version exists in internal repository
tokay1 Windows Server 2012 R2 Standard / x64  OK  OK  OK  OK UNNEEDED, same version exists in internal repository
merida1 macOS 10.14.6 Mojave / x86_64  OK  OK  OK  OK UNNEEDED, same version exists in internal repository
Package 89/1882HostnameOS / ArchINSTALLBUILDCHECKBUILD BIN
ASpli 1.99.2
Estefania Mancini
Last Commit: dda9b82
Last Changed Date: 2020-07-21 10:22:53 -0400
malbec1 Linux (Ubuntu 18.04.4 LTS) / x86_64  OK  OK  OK UNNEEDED, same version exists in internal repository
tokay1 Windows Server 2012 R2 Standard / x64  OK  OK  OK  OK UNNEEDED, same version exists in internal repository
merida1 macOS 10.14.6 Mojave / x86_64  OK  OK  OK  OK UNNEEDED, same version exists in internal repository
Package 90/1882HostnameOS / ArchINSTALLBUILDCHECKBUILD BIN
AssessORF 1.7.0
Deepank Korandla
Last Commit: aa30dab
Last Changed Date: 2020-04-27 15:21:14 -0400
malbec1 Linux (Ubuntu 18.04.4 LTS) / x86_64  OK  OK  OK UNNEEDED, same version exists in internal repository
tokay1 Windows Server 2012 R2 Standard / x64  OK  OK  OK  OK UNNEEDED, same version exists in internal repository
merida1 macOS 10.14.6 Mojave / x86_64  OK  OK  OK  OK UNNEEDED, same version exists in internal repository
Package 91/1882HostnameOS / ArchINSTALLBUILDCHECKBUILD BIN
ASSET 2.7.0
Samsiddhi Bhattacharjee
Last Commit: 86da514
Last Changed Date: 2020-04-27 14:36:01 -0400
malbec1 Linux (Ubuntu 18.04.4 LTS) / x86_64  OK  OK  WARNINGS UNNEEDED, same version exists in internal repository
tokay1 Windows Server 2012 R2 Standard / x64  OK  OK  WARNINGS  OK UNNEEDED, same version exists in internal repository
merida1 macOS 10.14.6 Mojave / x86_64  OK  OK  WARNINGS  OK UNNEEDED, same version exists in internal repository
Package 92/1882HostnameOS / ArchINSTALLBUILDCHECKBUILD BIN
ASSIGN 1.25.0
Ying Shen , W. Evan Johnson
Last Commit: e608089
Last Changed Date: 2020-04-27 14:39:28 -0400
malbec1 Linux (Ubuntu 18.04.4 LTS) / x86_64  OK  OK  OK UNNEEDED, same version exists in internal repository
tokay1 Windows Server 2012 R2 Standard / x64  OK  OK  OK  OK UNNEEDED, same version exists in internal repository
merida1 macOS 10.14.6 Mojave / x86_64  OK  OK  OK  OK UNNEEDED, same version exists in internal repository
Package 93/1882HostnameOS / ArchINSTALLBUILDCHECKBUILD BIN
ATACseqQC 1.13.3
Jianhong Ou
Last Commit: 2996d20
Last Changed Date: 2020-05-29 21:55:02 -0400
malbec1 Linux (Ubuntu 18.04.4 LTS) / x86_64  OK  OK  OK UNNEEDED, same version exists in internal repository
tokay1 Windows Server 2012 R2 Standard / x64  OK  OK  OK  OK UNNEEDED, same version exists in internal repository
merida1 macOS 10.14.6 Mojave / x86_64  OK  OK  OK  OK UNNEEDED, same version exists in internal repository
Package 94/1882HostnameOS / ArchINSTALLBUILDCHECKBUILD BIN
atSNP 1.5.0
Sunyoung Shin
Last Commit: 47ff98d
Last Changed Date: 2020-04-27 15:23:26 -0400
malbec1 Linux (Ubuntu 18.04.4 LTS) / x86_64  OK  ERROR  skipped 
tokay1 Windows Server 2012 R2 Standard / x64  OK  OK  OK  OK UNNEEDED, same version exists in internal repository
merida1 macOS 10.14.6 Mojave / x86_64  OK  OK  OK  OK UNNEEDED, same version exists in internal repository
Package 95/1882HostnameOS / ArchINSTALLBUILDCHECKBUILD BIN
attract 1.41.0
Samuel Zimmerman
Last Commit: 5d1da58
Last Changed Date: 2020-04-27 14:22:21 -0400
malbec1 Linux (Ubuntu 18.04.4 LTS) / x86_64  OK  OK  OK UNNEEDED, same version exists in internal repository
tokay1 Windows Server 2012 R2 Standard / x64  OK  OK  OK  OK UNNEEDED, same version exists in internal repository
merida1 macOS 10.14.6 Mojave / x86_64  OK  OK  OK  OK UNNEEDED, same version exists in internal repository
Package 96/1882HostnameOS / ArchINSTALLBUILDCHECKBUILD BIN
AUCell 1.11.0
Sara Aibar
Last Commit: a9afa79
Last Changed Date: 2020-04-27 15:10:23 -0400
malbec1 Linux (Ubuntu 18.04.4 LTS) / x86_64  OK  OK  OK UNNEEDED, same version exists in internal repository
tokay1 Windows Server 2012 R2 Standard / x64  OK  OK  OK  OK UNNEEDED, same version exists in internal repository
merida1 macOS 10.14.6 Mojave / x86_64  OK  OK  OK  OK UNNEEDED, same version exists in internal repository
Package 97/1882HostnameOS / ArchINSTALLBUILDCHECKBUILD BIN
Autotuner 1.3.0
Craig McLean
Last Commit: cd8f7af
Last Changed Date: 2020-05-07 22:13:18 -0400
malbec1 Linux (Ubuntu 18.04.4 LTS) / x86_64  OK  OK  OK UNNEEDED, same version exists in internal repository
tokay1 Windows Server 2012 R2 Standard / x64  OK  OK  OK  OK UNNEEDED, same version exists in internal repository
merida1 macOS 10.14.6 Mojave / x86_64  OK  OK  OK  OK UNNEEDED, same version exists in internal repository
Package 98/1882HostnameOS / ArchINSTALLBUILDCHECKBUILD BIN
AWFisher 1.3.0
Zhiguang Huo
Last Commit: 8696cf4
Last Changed Date: 2020-04-27 15:28:27 -0400
malbec1 Linux (Ubuntu 18.04.4 LTS) / x86_64  OK  OK  OK UNNEEDED, same version exists in internal repository
tokay1 Windows Server 2012 R2 Standard / x64  OK  OK  OK  OK UNNEEDED, same version exists in internal repository
merida1 macOS 10.14.6 Mojave / x86_64  OK  OK  OK  OK UNNEEDED, same version exists in internal repository
B
ABCDEFGHIJKLMNOPQRSTUVWXYZ
Package 99/1882HostnameOS / ArchINSTALLBUILDCHECKBUILD BIN
BaalChIP 1.15.0
Ines de Santiago
Last Commit: 53476ef
Last Changed Date: 2020-04-27 15:01:46 -0400
malbec1 Linux (Ubuntu 18.04.4 LTS) / x86_64  OK  OK  WARNINGS UNNEEDED, same version exists in internal repository
tokay1 Windows Server 2012 R2 Standard / x64  OK  OK  WARNINGS  OK UNNEEDED, same version exists in internal repository
merida1 macOS 10.14.6 Mojave / x86_64  OK  OK  WARNINGS  OK UNNEEDED, same version exists in internal repository
Package 100/1882HostnameOS / ArchINSTALLBUILDCHECKBUILD BIN
BAC 1.49.0
Raphael Gottardo
Last Commit: 28da62c
Last Changed Date: 2020-04-27 14:16:23 -0400
malbec1 Linux (Ubuntu 18.04.4 LTS) / x86_64  OK  OK  OK UNNEEDED, same version exists in internal repository
tokay1 Windows Server 2012 R2 Standard / x64  OK  OK  OK  OK UNNEEDED, same version exists in internal repository
merida1 macOS 10.14.6 Mojave / x86_64  OK  OK  OK  OK UNNEEDED, same version exists in internal repository
Package 101/1882HostnameOS / ArchINSTALLBUILDCHECKBUILD BIN
bacon 1.17.0
Maarten van Iterson
Last Commit: 8c61588
Last Changed Date: 2020-04-27 14:55:31 -0400
malbec1 Linux (Ubuntu 18.04.4 LTS) / x86_64  OK  OK  OK UNNEEDED, same version exists in internal repository
tokay1 Windows Server 2012 R2 Standard / x64  OK  OK  OK  OK UNNEEDED, same version exists in internal repository
merida1 macOS 10.14.6 Mojave / x86_64  OK  OK  OK  OK UNNEEDED, same version exists in internal repository
Package 102/1882HostnameOS / ArchINSTALLBUILDCHECKBUILD BIN
BADER 1.27.0
Andreas Neudecker
Last Commit: 46df1d0
Last Changed Date: 2020-04-27 14:36:18 -0400
malbec1 Linux (Ubuntu 18.04.4 LTS) / x86_64  OK  OK  OK UNNEEDED, same version exists in internal repository
tokay1 Windows Server 2012 R2 Standard / x64  OK  OK  OK  OK UNNEEDED, same version exists in internal repository
merida1 macOS 10.14.6 Mojave / x86_64  OK  OK  OK  OK UNNEEDED, same version exists in internal repository
Package 103/1882HostnameOS / ArchINSTALLBUILDCHECKBUILD BIN
BadRegionFinder 1.17.0
Sarah Sandmann
Last Commit: 5297ff3
Last Changed Date: 2020-04-27 14:56:28 -0400
malbec1 Linux (Ubuntu 18.04.4 LTS) / x86_64  OK  OK  OK UNNEEDED, same version exists in internal repository
tokay1 Windows Server 2012 R2 Standard / x64  OK  OK  OK  OK UNNEEDED, same version exists in internal repository
merida1 macOS 10.14.6 Mojave / x86_64  OK  OK  OK  OK UNNEEDED, same version exists in internal repository
Package 104/1882HostnameOS / ArchINSTALLBUILDCHECKBUILD BIN
BAGS 2.29.0
Alejandro Quiroz-Zarate
Last Commit: 171d9d5
Last Changed Date: 2020-04-27 14:28:21 -0400
malbec1 Linux (Ubuntu 18.04.4 LTS) / x86_64  OK  OK  OK UNNEEDED, same version exists in internal repository
tokay1 Windows Server 2012 R2 Standard / x64  OK  OK  OK  OK UNNEEDED, same version exists in internal repository
merida1 macOS 10.14.6 Mojave / x86_64  OK  OK  OK  OK UNNEEDED, same version exists in internal repository
Package 105/1882HostnameOS / ArchINSTALLBUILDCHECKBUILD BIN
ballgown 2.21.0
Jack Fu
Last Commit: e02291d
Last Changed Date: 2020-04-27 14:41:54 -0400
malbec1 Linux (Ubuntu 18.04.4 LTS) / x86_64  OK  OK  OK UNNEEDED, same version exists in internal repository
tokay1 Windows Server 2012 R2 Standard / x64  OK  OK  OK  OK UNNEEDED, same version exists in internal repository
merida1 macOS 10.14.6 Mojave / x86_64  OK  OK  OK  OK UNNEEDED, same version exists in internal repository
Package 106/1882HostnameOS / ArchINSTALLBUILDCHECKBUILD BIN
bamsignals 1.21.1
Johannes Helmuth
Last Commit: 026c62d
Last Changed Date: 2020-07-14 16:03:36 -0400
malbec1 Linux (Ubuntu 18.04.4 LTS) / x86_64  OK  OK  OK UNNEEDED, same version exists in internal repository
tokay1 Windows Server 2012 R2 Standard / x64  OK  OK  OK  OK UNNEEDED, same version exists in internal repository
merida1 macOS 10.14.6 Mojave / x86_64  OK  OK  OK  OK UNNEEDED, same version exists in internal repository
Package 107/1882HostnameOS / ArchINSTALLBUILDCHECKBUILD BIN
BANDITS 1.5.1
Simone Tiberi
Last Commit: 757e4e5
Last Changed Date: 2020-07-16 06:33:37 -0400
malbec1 Linux (Ubuntu 18.04.4 LTS) / x86_64  OK  OK  OK UNNEEDED, same version exists in internal repository
tokay1 Windows Server 2012 R2 Standard / x64  OK  OK  OK  OK UNNEEDED, same version exists in internal repository
merida1 macOS 10.14.6 Mojave / x86_64  OK  OK  OK  OK UNNEEDED, same version exists in internal repository
Package 108/1882HostnameOS / ArchINSTALLBUILDCHECKBUILD BIN
banocc 1.13.0
George Weingart
Last Commit: b3e1613
Last Changed Date: 2020-04-27 15:06:53 -0400
malbec1 Linux (Ubuntu 18.04.4 LTS) / x86_64  OK  OK  OK UNNEEDED, same version exists in internal repository
tokay1 Windows Server 2012 R2 Standard / x64  OK  ERROR  skipped  skipped 
merida1 macOS 10.14.6 Mojave / x86_64  OK  OK  OK  OK UNNEEDED, same version exists in internal repository
Package 109/1882HostnameOS / ArchINSTALLBUILDCHECKBUILD BIN
basecallQC 1.13.0
Thomas Carroll
Last Commit: 63dc0f4
Last Changed Date: 2020-04-27 15:06:59 -0400
malbec1 Linux (Ubuntu 18.04.4 LTS) / x86_64  OK  OK  OK UNNEEDED, same version exists in internal repository
tokay1 Windows Server 2012 R2 Standard / x64  OK  OK  OK  OK UNNEEDED, same version exists in internal repository
merida1 macOS 10.14.6 Mojave / x86_64  OK  OK  OK  OK UNNEEDED, same version exists in internal repository
Package 110/1882HostnameOS / ArchINSTALLBUILDCHECKBUILD BIN
BaseSpaceR 1.33.0
Jared O'Connell
Last Commit: f6aa2f5
Last Changed Date: 2020-04-27 14:33:50 -0400
malbec1 Linux (Ubuntu 18.04.4 LTS) / x86_64  OK  OK  OK UNNEEDED, same version exists in internal repository
tokay1 Windows Server 2012 R2 Standard / x64  OK  OK  OK  OK UNNEEDED, same version exists in internal repository
merida1 macOS 10.14.6 Mojave / x86_64  OK  OK  OK  OK UNNEEDED, same version exists in internal repository
Package 111/1882HostnameOS / ArchINSTALLBUILDCHECKBUILD BIN
Basic4Cseq 1.25.0
Carolin Walter
Last Commit: e3986b9
Last Changed Date: 2020-04-27 14:38:54 -0400
malbec1 Linux (Ubuntu 18.04.4 LTS) / x86_64  OK  OK  OK UNNEEDED, same version exists in internal repository
tokay1 Windows Server 2012 R2 Standard / x64  OK  OK  OK  OK UNNEEDED, same version exists in internal repository
merida1 macOS 10.14.6 Mojave / x86_64  OK  OK  OK  OK UNNEEDED, same version exists in internal repository
Package 112/1882HostnameOS / ArchINSTALLBUILDCHECKBUILD BIN
BASiCS 2.1.6
Catalina Vallejos
Last Commit: b00b4d6
Last Changed Date: 2020-08-05 13:18:24 -0400
malbec1 Linux (Ubuntu 18.04.4 LTS) / x86_64  OK  OK  OK UNNEEDED, same version exists in internal repository
tokay1 Windows Server 2012 R2 Standard / x64  OK  OK  OK  OK UNNEEDED, same version exists in internal repository
merida1 macOS 10.14.6 Mojave / x86_64  OK  OK  OK  OK UNNEEDED, same version exists in internal repository
Package 113/1882HostnameOS / ArchINSTALLBUILDCHECKBUILD BIN
BasicSTARRseq 1.17.0
Annika Buerger
Last Commit: 555c748
Last Changed Date: 2020-04-27 14:54:20 -0400
malbec1 Linux (Ubuntu 18.04.4 LTS) / x86_64  OK  OK  OK UNNEEDED, same version exists in internal repository
tokay1 Windows Server 2012 R2 Standard / x64  OK  OK  OK  OK UNNEEDED, same version exists in internal repository
merida1 macOS 10.14.6 Mojave / x86_64  OK  OK  OK  OK UNNEEDED, same version exists in internal repository
Package 114/1882HostnameOS / ArchINSTALLBUILDCHECKBUILD BIN
basilisk 1.1.9
Aaron Lun
Last Commit: 6818dce
Last Changed Date: 2020-07-17 16:35:06 -0400
malbec1 Linux (Ubuntu 18.04.4 LTS) / x86_64  OK  OK  OK UNNEEDED, same version exists in internal repository
tokay1 Windows Server 2012 R2 Standard / x64  OK  OK  OK  OK UNNEEDED, same version exists in internal repository
merida1 macOS 10.14.6 Mojave / x86_64  OK  OK  OK  OK UNNEEDED, same version exists in internal repository
Package 115/1882HostnameOS / ArchINSTALLBUILDCHECKBUILD BIN
basilisk.utils 1.1.7
Aaron Lun
Last Commit: e87edf5
Last Changed Date: 2020-05-25 02:54:20 -0400
malbec1 Linux (Ubuntu 18.04.4 LTS) / x86_64  OK  OK  OK UNNEEDED, same version exists in internal repository
tokay1 Windows Server 2012 R2 Standard / x64  OK  OK  OK  OK UNNEEDED, same version exists in internal repository
merida1 macOS 10.14.6 Mojave / x86_64  OK  OK  OK  OK UNNEEDED, same version exists in internal repository
Package 116/1882HostnameOS / ArchINSTALLBUILDCHECKBUILD BIN
batchelor 1.5.2
Aaron Lun
Last Commit: e05a846
Last Changed Date: 2020-07-12 04:08:02 -0400
malbec1 Linux (Ubuntu 18.04.4 LTS) / x86_64  OK  OK  OK UNNEEDED, same version exists in internal repository
tokay1 Windows Server 2012 R2 Standard / x64  OK  OK  OK  OK UNNEEDED, same version exists in internal repository
merida1 macOS 10.14.6 Mojave / x86_64  OK  OK  OK  OK UNNEEDED, same version exists in internal repository
Package 117/1882HostnameOS / ArchINSTALLBUILDCHECKBUILD BIN
BatchQC 1.17.2
Solaiappan Manimaran
Last Commit: b610f4a
Last Changed Date: 2020-07-13 01:42:07 -0400
malbec1 Linux (Ubuntu 18.04.4 LTS) / x86_64  OK  OK  OK UNNEEDED, same version exists in internal repository
tokay1 Windows Server 2012 R2 Standard / x64  OK  OK  OK  OK UNNEEDED, same version exists in internal repository
merida1 macOS 10.14.6 Mojave / x86_64  OK  OK  OK  OK UNNEEDED, same version exists in internal repository
Package 118/1882HostnameOS / ArchINSTALLBUILDCHECKBUILD BIN
BayesKnockdown 1.15.0
William Chad Young
Last Commit: 1ddb444
Last Changed Date: 2020-04-27 15:00:13 -0400
malbec1 Linux (Ubuntu 18.04.4 LTS) / x86_64  OK  OK  OK UNNEEDED, same version exists in internal repository
tokay1 Windows Server 2012 R2 Standard / x64  OK  OK  OK  OK UNNEEDED, same version exists in internal repository
merida1 macOS 10.14.6 Mojave / x86_64  OK  OK  OK  OK UNNEEDED, same version exists in internal repository
Package 119/1882HostnameOS / ArchINSTALLBUILDCHECKBUILD BIN
bayNorm 1.7.0
Wenhao Tang
Last Commit: c97943c
Last Changed Date: 2020-04-27 15:20:24 -0400
malbec1 Linux (Ubuntu 18.04.4 LTS) / x86_64  OK  OK  OK UNNEEDED, same version exists in internal repository
tokay1 Windows Server 2012 R2 Standard / x64  OK  OK  OK  OK UNNEEDED, same version exists in internal repository
merida1 macOS 10.14.6 Mojave / x86_64  OK  OK  OK  OK UNNEEDED, same version exists in internal repository
Package 120/1882HostnameOS / ArchINSTALLBUILDCHECKBUILD BIN
baySeq 2.23.0
Thomas J. Hardcastle
Last Commit: 2ea28df
Last Changed Date: 2020-04-27 14:20:16 -0400
malbec1 Linux (Ubuntu 18.04.4 LTS) / x86_64  OK  OK  OK UNNEEDED, same version exists in internal repository
tokay1 Windows Server 2012 R2 Standard / x64  OK  OK  OK  OK UNNEEDED, same version exists in internal repository
merida1 macOS 10.14.6 Mojave / x86_64  OK  OK  OK  OK UNNEEDED, same version exists in internal repository
Package 121/1882HostnameOS / ArchINSTALLBUILDCHECKBUILD BIN
BBCAnalyzer 1.19.0
Sarah Sandmann
Last Commit: ce4b1cf
Last Changed Date: 2020-04-27 14:50:41 -0400
malbec1 Linux (Ubuntu 18.04.4 LTS) / x86_64  OK  OK  OK UNNEEDED, same version exists in internal repository
tokay1 Windows Server 2012 R2 Standard / x64  OK  OK  WARNINGS  OK UNNEEDED, same version exists in internal repository
merida1 macOS 10.14.6 Mojave / x86_64  OK  OK  OK  OK UNNEEDED, same version exists in internal repository
Package 122/1882HostnameOS / ArchINSTALLBUILDCHECKBUILD BIN
BCRANK 1.51.0
Adam Ameur
Last Commit: 35c15f3
Last Changed Date: 2020-04-27 14:16:34 -0400
malbec1 Linux (Ubuntu 18.04.4 LTS) / x86_64  OK  OK  OK UNNEEDED, same version exists in internal repository
tokay1 Windows Server 2012 R2 Standard / x64  OK  OK  OK  OK UNNEEDED, same version exists in internal repository
merida1 macOS 10.14.6 Mojave / x86_64  OK  OK  OK  OK UNNEEDED, same version exists in internal repository
Package 123/1882HostnameOS / ArchINSTALLBUILDCHECKBUILD BIN
bcSeq 1.11.0
Jiaxing Lin
Last Commit: ed5bf3d
Last Changed Date: 2020-04-27 15:12:22 -0400
malbec1 Linux (Ubuntu 18.04.4 LTS) / x86_64  OK  OK  OK UNNEEDED, same version exists in internal repository
tokay1 Windows Server 2012 R2 Standard / x64  OK  OK  WARNINGS  OK UNNEEDED, same version exists in internal repository
merida1 macOS 10.14.6 Mojave / x86_64  OK  OK  OK  OK UNNEEDED, same version exists in internal repository
Package 124/1882HostnameOS / ArchINSTALLBUILDCHECKBUILD BIN
BDMMAcorrect 1.7.0
ZHENWEI DAI
Last Commit: a783c25
Last Changed Date: 2020-04-27 15:21:40 -0400
malbec1 Linux (Ubuntu 18.04.4 LTS) / x86_64  OK  OK  OK UNNEEDED, same version exists in internal repository
tokay1 Windows Server 2012 R2 Standard / x64  OK  OK  OK  OK UNNEEDED, same version exists in internal repository
merida1 macOS 10.14.6 Mojave / x86_64  OK  OK  OK  OK UNNEEDED, same version exists in internal repository
Package 125/1882HostnameOS / ArchINSTALLBUILDCHECKBUILD BIN
beachmat 2.5.1
Aaron Lun
Last Commit: 6ed4d18
Last Changed Date: 2020-07-27 00:17:02 -0400
malbec1 Linux (Ubuntu 18.04.4 LTS) / x86_64  OK  OK  OK UNNEEDED, same version exists in internal repository
tokay1 Windows Server 2012 R2 Standard / x64  OK  OK  OK  OK UNNEEDED, same version exists in internal repository
merida1 macOS 10.14.6 Mojave / x86_64  OK  OK  OK  OK UNNEEDED, same version exists in internal repository
Package 126/1882HostnameOS / ArchINSTALLBUILDCHECKBUILD BIN
beadarray 2.39.0
Mark Dunning
Last Commit: bd82da3
Last Changed Date: 2020-04-27 14:12:51 -0400
malbec1 Linux (Ubuntu 18.04.4 LTS) / x86_64  OK  OK  OK UNNEEDED, same version exists in internal repository
tokay1 Windows Server 2012 R2 Standard / x64  OK  OK  OK  OK UNNEEDED, same version exists in internal repository
merida1 macOS 10.14.6 Mojave / x86_64  OK  OK  OK  OK UNNEEDED, same version exists in internal repository
Package 127/1882HostnameOS / ArchINSTALLBUILDCHECKBUILD BIN
beadarraySNP 1.55.0
Jan Oosting
Last Commit: 5922a97
Last Changed Date: 2020-04-27 14:13:54 -0400
malbec1 Linux (Ubuntu 18.04.4 LTS) / x86_64  OK  OK  OK UNNEEDED, same version exists in internal repository
tokay1 Windows Server 2012 R2 Standard / x64  OK  OK  OK  OK UNNEEDED, same version exists in internal repository
merida1 macOS 10.14.6 Mojave / x86_64  OK  OK  OK  OK UNNEEDED, same version exists in internal repository
Package 128/1882HostnameOS / ArchINSTALLBUILDCHECKBUILD BIN
BeadDataPackR 1.41.0
Mike Smith
Last Commit: 15bf9be
Last Changed Date: 2020-04-27 14:21:35 -0400
malbec1 Linux (Ubuntu 18.04.4 LTS) / x86_64  OK  OK  OK UNNEEDED, same version exists in internal repository
tokay1 Windows Server 2012 R2 Standard / x64  OK  OK  OK  OK UNNEEDED, same version exists in internal repository
merida1 macOS 10.14.6 Mojave / x86_64  OK  OK  OK  OK UNNEEDED, same version exists in internal repository
Package 129/1882HostnameOS / ArchINSTALLBUILDCHECKBUILD BIN
BEARscc 1.9.1
Benjamin Schuster-Boeckler
Last Commit: 3860d28
Last Changed Date: 2020-06-02 23:17:57 -0400
malbec1 Linux (Ubuntu 18.04.4 LTS) / x86_64  OK  OK  OK UNNEEDED, same version exists in internal repository
tokay1 Windows Server 2012 R2 Standard / x64  OK  OK  OK  OK UNNEEDED, same version exists in internal repository
merida1 macOS 10.14.6 Mojave / x86_64  OK  OK  OK  OK UNNEEDED, same version exists in internal repository
Package 130/1882HostnameOS / ArchINSTALLBUILDCHECKBUILD BIN
BEAT 1.27.0
Kemal Akman
Last Commit: c69043d
Last Changed Date: 2020-04-27 14:37:58 -0400
malbec1 Linux (Ubuntu 18.04.4 LTS) / x86_64  OK  OK  OK UNNEEDED, same version exists in internal repository
tokay1 Windows Server 2012 R2 Standard / x64  OK  OK  OK  OK UNNEEDED, same version exists in internal repository
merida1 macOS 10.14.6 Mojave / x86_64  OK  OK  OK  OK UNNEEDED, same version exists in internal repository
Package 131/1882HostnameOS / ArchINSTALLBUILDCHECKBUILD BIN
BEclear 2.5.0
David Rasp
Last Commit: 89d633c
Last Changed Date: 2020-05-05 03:54:26 -0400
malbec1 Linux (Ubuntu 18.04.4 LTS) / x86_64  OK  OK  WARNINGS UNNEEDED, same version exists in internal repository
tokay1 Windows Server 2012 R2 Standard / x64  OK  OK  WARNINGS  OK UNNEEDED, same version exists in internal repository
merida1 macOS 10.14.6 Mojave / x86_64  OK  OK  WARNINGS  OK UNNEEDED, same version exists in internal repository
Package 132/1882HostnameOS / ArchINSTALLBUILDCHECKBUILD BIN
BgeeCall 1.5.3
Julien Wollbrett
Last Commit: cc52b16
Last Changed Date: 2020-06-15 13:41:33 -0400
malbec1 Linux (Ubuntu 18.04.4 LTS) / x86_64  OK  OK  WARNINGS UNNEEDED, same version exists in internal repository
tokay1 Windows Server 2012 R2 Standard / x64  OK  OK  WARNINGS  OK UNNEEDED, same version exists in internal repository
merida1 macOS 10.14.6 Mojave / x86_64  OK  OK  WARNINGS  OK UNNEEDED, same version exists in internal repository
Package 133/1882HostnameOS / ArchINSTALLBUILDCHECKBUILD BIN
BgeeDB 2.15.4
Julien Wollbrett , Julien Roux , Andrea Komljenovic , Frederic Bastian
Last Commit: 0541e44
Last Changed Date: 2020-06-02 05:16:26 -0400
malbec1 Linux (Ubuntu 18.04.4 LTS) / x86_64  OK  OK  OK UNNEEDED, same version exists in internal repository
tokay1 Windows Server 2012 R2 Standard / x64  OK  OK  OK  OK UNNEEDED, same version exists in internal repository
merida1 macOS 10.14.6 Mojave / x86_64  OK  OK  OK  OK UNNEEDED, same version exists in internal repository
Package 134/1882HostnameOS / ArchINSTALLBUILDCHECKBUILD BIN
BGmix 1.49.0
Alex Lewin
Last Commit: cd858ec
Last Changed Date: 2020-04-27 14:16:11 -0400
malbec1 Linux (Ubuntu 18.04.4 LTS) / x86_64  OK  OK  WARNINGS UNNEEDED, same version exists in internal repository
tokay1 Windows Server 2012 R2 Standard / x64 ...NOT SUPPORTED...
merida1 macOS 10.14.6 Mojave / x86_64  OK  OK  OK  OK UNNEEDED, same version exists in internal repository
Package 135/1882HostnameOS / ArchINSTALLBUILDCHECKBUILD BIN
bgx 1.55.0
Ernest Turro
Last Commit: de3e291
Last Changed Date: 2020-04-27 14:15:13 -0400
malbec1 Linux (Ubuntu 18.04.4 LTS) / x86_64  OK  OK  OK UNNEEDED, same version exists in internal repository
tokay1 Windows Server 2012 R2 Standard / x64  ERROR  ERROR  skipped  skipped 
merida1 macOS 10.14.6 Mojave / x86_64  OK  OK  WARNINGS  OK UNNEEDED, same version exists in internal repository
Package 136/1882HostnameOS / ArchINSTALLBUILDCHECKBUILD BIN
BHC 1.41.0
Rich Savage
Last Commit: b561cae
Last Changed Date: 2020-04-27 14:22:27 -0400
malbec1 Linux (Ubuntu 18.04.4 LTS) / x86_64  OK  OK  OK UNNEEDED, same version exists in internal repository
tokay1 Windows Server 2012 R2 Standard / x64  OK  OK  OK  OK UNNEEDED, same version exists in internal repository
merida1 macOS 10.14.6 Mojave / x86_64  OK  OK  OK  OK UNNEEDED, same version exists in internal repository
Package 137/1882HostnameOS / ArchINSTALLBUILDCHECKBUILD BIN
BicARE 1.47.0
Pierre Gestraud
Last Commit: 45cb7bc
Last Changed Date: 2020-04-27 14:18:27 -0400
malbec1 Linux (Ubuntu 18.04.4 LTS) / x86_64  OK  OK  OK UNNEEDED, same version exists in internal repository
tokay1 Windows Server 2012 R2 Standard / x64  OK  OK  OK  OK UNNEEDED, same version exists in internal repository
merida1 macOS 10.14.6 Mojave / x86_64  OK  OK  OK  OK UNNEEDED, same version exists in internal repository
Package 138/1882HostnameOS / ArchINSTALLBUILDCHECKBUILD BIN
BiFET 1.9.0
Ahrim Youn
Last Commit: a8b7789
Last Changed Date: 2020-04-27 15:13:03 -0400
malbec1 Linux (Ubuntu 18.04.4 LTS) / x86_64  OK  OK  OK UNNEEDED, same version exists in internal repository
tokay1 Windows Server 2012 R2 Standard / x64  OK  OK  OK  OK UNNEEDED, same version exists in internal repository
merida1 macOS 10.14.6 Mojave / x86_64  OK  OK  OK  OK UNNEEDED, same version exists in internal repository
Package 139/1882HostnameOS / ArchINSTALLBUILDCHECKBUILD BIN
BiGGR 1.25.0
Anand K. Gavai
Last Commit: eb731df
Last Changed Date: 2020-04-27 14:36:11 -0400
malbec1 Linux (Ubuntu 18.04.4 LTS) / x86_64  OK  OK  WARNINGS UNNEEDED, same version exists in internal repository
tokay1 Windows Server 2012 R2 Standard / x64  OK  OK  WARNINGS  OK UNNEEDED, same version exists in internal repository
merida1 macOS 10.14.6 Mojave / x86_64  ERROR  ERROR  skipped  skipped 
Package 140/1882HostnameOS / ArchINSTALLBUILDCHECKBUILD BIN
bigmelon 1.15.0
Tyler J. Gorrie-Stone
Last Commit: be098f0
Last Changed Date: 2020-04-27 15:01:54 -0400
malbec1 Linux (Ubuntu 18.04.4 LTS) / x86_64  OK  OK  OK UNNEEDED, same version exists in internal repository
tokay1 Windows Server 2012 R2 Standard / x64  OK  OK  OK  OK UNNEEDED, same version exists in internal repository
merida1 macOS 10.14.6 Mojave / x86_64  OK  OK  OK  OK UNNEEDED, same version exists in internal repository
Package 141/1882HostnameOS / ArchINSTALLBUILDCHECKBUILD BIN
bigmemoryExtras 1.37.0
Peter M. Haverty
Last Commit: 7d5bdae
Last Changed Date: 2020-04-27 14:31:32 -0400
malbec1 Linux (Ubuntu 18.04.4 LTS) / x86_64  OK  OK  WARNINGS UNNEEDED, same version exists in internal repository
tokay1 Windows Server 2012 R2 Standard / x64 ...NOT SUPPORTED...
merida1 macOS 10.14.6 Mojave / x86_64  OK  OK  WARNINGS  OK UNNEEDED, same version exists in internal repository
Package 142/1882HostnameOS / ArchINSTALLBUILDCHECKBUILD BIN
bigPint 1.5.0
Lindsay Rutter
Last Commit: 961ce4a
Last Changed Date: 2020-04-27 15:22:45 -0400
malbec1 Linux (Ubuntu 18.04.4 LTS) / x86_64  OK  OK  OK UNNEEDED, same version exists in internal repository
tokay1 Windows Server 2012 R2 Standard / x64  OK  OK  OK  OK UNNEEDED, same version exists in internal repository
merida1 macOS 10.14.6 Mojave / x86_64  OK  OK  OK  OK UNNEEDED, same version exists in internal repository
Package 143/1882HostnameOS / ArchINSTALLBUILDCHECKBUILD BIN
bioassayR 1.27.0
Tyler Backman
Last Commit: 288a60a
Last Changed Date: 2020-04-27 14:36:43 -0400
malbec1 Linux (Ubuntu 18.04.4 LTS) / x86_64  OK  OK  OK UNNEEDED, same version exists in internal repository
tokay1 Windows Server 2012 R2 Standard / x64  OK  OK  OK  OK UNNEEDED, same version exists in internal repository
merida1 macOS 10.14.6 Mojave / x86_64  OK  OK  OK  OK UNNEEDED, same version exists in internal repository
Package 144/1882HostnameOS / ArchINSTALLBUILDCHECKBUILD BIN
Biobase 2.49.0
Bioconductor Package Maintainer
Last Commit: 90d7ace
Last Changed Date: 2020-04-27 14:07:40 -0400
malbec1 Linux (Ubuntu 18.04.4 LTS) / x86_64  OK  OK  OK UNNEEDED, same version exists in internal repository
tokay1 Windows Server 2012 R2 Standard / x64  OK  OK  OK  OK UNNEEDED, same version exists in internal repository
merida1 macOS 10.14.6 Mojave / x86_64  OK  OK  OK  OK UNNEEDED, same version exists in internal repository
Package 145/1882HostnameOS / ArchINSTALLBUILDCHECKBUILD BIN
biobroom 1.21.0
John D. Storey and Andrew J. Bass
Last Commit: b8fc28f
Last Changed Date: 2020-04-27 14:52:30 -0400
malbec1 Linux (Ubuntu 18.04.4 LTS) / x86_64  OK  OK  OK UNNEEDED, same version exists in internal repository
tokay1 Windows Server 2012 R2 Standard / x64  OK  OK  WARNINGS  OK UNNEEDED, same version exists in internal repository
merida1 macOS 10.14.6 Mojave / x86_64  OK  OK  OK  OK UNNEEDED, same version exists in internal repository
Package 146/1882HostnameOS / ArchINSTALLBUILDCHECKBUILD BIN
biobtreeR 1.1.0
Tamer Gur
Last Commit: aa78b02
Last Changed Date: 2020-05-19 07:05:00 -0400
malbec1 Linux (Ubuntu 18.04.4 LTS) / x86_64  OK  OK  OK UNNEEDED, same version exists in internal repository
tokay1 Windows Server 2012 R2 Standard / x64  OK  OK  OK  OK UNNEEDED, same version exists in internal repository
merida1 macOS 10.14.6 Mojave / x86_64  OK  OK  OK  OK UNNEEDED, same version exists in internal repository
Package 147/1882HostnameOS / ArchINSTALLBUILDCHECKBUILD BIN
bioCancer 1.17.0
Karim Mezhoud
Last Commit: 9ab1d92
Last Changed Date: 2020-04-27 14:57:51 -0400
malbec1 Linux (Ubuntu 18.04.4 LTS) / x86_64  OK  OK  WARNINGS UNNEEDED, same version exists in internal repository
tokay1 Windows Server 2012 R2 Standard / x64  OK  OK  WARNINGS  OK UNNEEDED, same version exists in internal repository
merida1 macOS 10.14.6 Mojave / x86_64  OK  OK  WARNINGS  OK UNNEEDED, same version exists in internal repository
Package 148/1882HostnameOS / ArchINSTALLBUILDCHECKBUILD BIN
BiocCaseStudies 1.51.0
Bioconductor Package Maintainer
Last Commit: 436d015
Last Changed Date: 2020-04-27 14:16:09 -0400
malbec1 Linux (Ubuntu 18.04.4 LTS) / x86_64  OK  OK  OK UNNEEDED, same version exists in internal repository
tokay1 Windows Server 2012 R2 Standard / x64  OK  OK  OK  OK UNNEEDED, same version exists in internal repository
merida1 macOS 10.14.6 Mojave / x86_64  OK  OK  OK  OK UNNEEDED, same version exists in internal repository
Package 149/1882HostnameOS / ArchINSTALLBUILDCHECKBUILD BIN
BiocCheck 1.25.4
Bioconductor Package Maintainer
Last Commit: c0d2faa
Last Changed Date: 2020-06-26 12:04:17 -0400
malbec1 Linux (Ubuntu 18.04.4 LTS) / x86_64  OK  OK  OK UNNEEDED, same version exists in internal repository
tokay1 Windows Server 2012 R2 Standard / x64  OK  OK  OK  OK UNNEEDED, same version exists in internal repository
merida1 macOS 10.14.6 Mojave / x86_64  OK  OK  OK  OK UNNEEDED, same version exists in internal repository
Package 150/1882HostnameOS / ArchINSTALLBUILDCHECKBUILD BIN
BiocDockerManager 1.1.2
Maintainer
Last Commit: c1c99f1
Last Changed Date: 2020-07-01 11:30:36 -0400
malbec1 Linux (Ubuntu 18.04.4 LTS) / x86_64  OK  OK  OK UNNEEDED, same version exists in internal repository
tokay1 Windows Server 2012 R2 Standard / x64  OK  OK  OK  OK UNNEEDED, same version exists in internal repository
merida1 macOS 10.14.6 Mojave / x86_64  OK  OK  OK  OK UNNEEDED, same version exists in internal repository
Package 151/1882HostnameOS / ArchINSTALLBUILDCHECKBUILD BIN
BiocFileCache 1.13.1
Lori Shepherd
Last Commit: c130b26
Last Changed Date: 2020-08-04 14:41:56 -0400
malbec1 Linux (Ubuntu 18.04.4 LTS) / x86_64  OK  OK  OK UNNEEDED, same version exists in internal repository
tokay1 Windows Server 2012 R2 Standard / x64  OK  OK  OK  OK UNNEEDED, same version exists in internal repository
merida1 macOS 10.14.6 Mojave / x86_64  OK  OK  OK  OK UNNEEDED, same version exists in internal repository
Package 152/1882HostnameOS / ArchINSTALLBUILDCHECKBUILD BIN
BiocGenerics 0.35.4
Bioconductor Package Maintainer
Last Commit: 59d6941
Last Changed Date: 2020-06-04 12:59:02 -0400
malbec1 Linux (Ubuntu 18.04.4 LTS) / x86_64  OK  OK  WARNINGS UNNEEDED, same version exists in internal repository
tokay1 Windows Server 2012 R2 Standard / x64  OK  OK  WARNINGS  OK UNNEEDED, same version exists in internal repository
merida1 macOS 10.14.6 Mojave / x86_64  OK  OK  WARNINGS  OK UNNEEDED, same version exists in internal repository
Package 153/1882HostnameOS / ArchINSTALLBUILDCHECKBUILD BIN
biocGraph 1.51.0
Florian Hahne
Last Commit: a37dab4
Last Changed Date: 2020-04-27 14:15:24 -0400
malbec1 Linux (Ubuntu 18.04.4 LTS) / x86_64  OK  OK  OK UNNEEDED, same version exists in internal repository
tokay1 Windows Server 2012 R2 Standard / x64  OK  OK  OK  OK UNNEEDED, same version exists in internal repository
merida1 macOS 10.14.6 Mojave / x86_64  OK  OK  OK  OK UNNEEDED, same version exists in internal repository
Package 154/1882HostnameOS / ArchINSTALLBUILDCHECKBUILD BIN
BiocNeighbors 1.7.0
Aaron Lun
Last Commit: 1dcfaf3
Last Changed Date: 2020-04-27 15:17:53 -0400
malbec1 Linux (Ubuntu 18.04.4 LTS) / x86_64  OK  OK  OK UNNEEDED, same version exists in internal repository
tokay1 Windows Server 2012 R2 Standard / x64  OK  OK  OK  OK UNNEEDED, same version exists in internal repository
merida1 macOS 10.14.6 Mojave / x86_64  OK  OK  OK  OK UNNEEDED, same version exists in internal repository
Package 155/1882HostnameOS / ArchINSTALLBUILDCHECKBUILD BIN
BiocOncoTK 1.9.0
VJ Carey
Last Commit: e08ae5b
Last Changed Date: 2020-04-27 15:16:30 -0400
malbec1 Linux (Ubuntu 18.04.4 LTS) / x86_64  OK  OK  OK UNNEEDED, same version exists in internal repository
tokay1 Windows Server 2012 R2 Standard / x64  OK  OK  WARNINGS  OK UNNEEDED, same version exists in internal repository
merida1 macOS 10.14.6 Mojave / x86_64  OK  OK  OK  OK UNNEEDED, same version exists in internal repository
Package 156/1882HostnameOS / ArchINSTALLBUILDCHECKBUILD BIN
BioCor 1.13.0
Lluís Revilla Sancho
Last Commit: 992299c
Last Changed Date: 2020-07-09 06:05:18 -0400
malbec1 Linux (Ubuntu 18.04.4 LTS) / x86_64  OK  OK  OK UNNEEDED, same version exists in internal repository
tokay1 Windows Server 2012 R2 Standard / x64  OK  OK  OK  OK UNNEEDED, same version exists in internal repository
merida1 macOS 10.14.6 Mojave / x86_64  OK  OK  OK  OK UNNEEDED, same version exists in internal repository
Package 157/1882HostnameOS / ArchINSTALLBUILDCHECKBUILD BIN
BiocParallel 1.23.2
Bioconductor Package Maintainer
Last Commit: ad46db9
Last Changed Date: 2020-07-06 06:51:09 -0400
malbec1 Linux (Ubuntu 18.04.4 LTS) / x86_64  OK  OK  OK UNNEEDED, same version exists in internal repository
tokay1 Windows Server 2012 R2 Standard / x64  OK  OK  OK  OK UNNEEDED, same version exists in internal repository
merida1 macOS 10.14.6 Mojave / x86_64  OK  OK  OK  OK UNNEEDED, same version exists in internal repository
Package 158/1882HostnameOS / ArchINSTALLBUILDCHECKBUILD BIN
BiocPkgTools 1.7.0
Sean Davis
Last Commit: 153abf3
Last Changed Date: 2020-04-27 15:19:21 -0400
malbec1 Linux (Ubuntu 18.04.4 LTS) / x86_64  OK  OK  OK UNNEEDED, same version exists in internal repository
tokay1 Windows Server 2012 R2 Standard / x64  OK  OK  OK  OK UNNEEDED, same version exists in internal repository
merida1 macOS 10.14.6 Mojave / x86_64  OK  OK  OK  OK UNNEEDED, same version exists in internal repository
Package 159/1882HostnameOS / ArchINSTALLBUILDCHECKBUILD BIN
BiocSet 1.3.3
Kayla Morrell
Last Commit: 4cfed97
Last Changed Date: 2020-07-21 10:55:25 -0400
malbec1 Linux (Ubuntu 18.04.4 LTS) / x86_64  OK  OK  OK UNNEEDED, same version exists in internal repository
tokay1 Windows Server 2012 R2 Standard / x64  OK  OK  OK  OK UNNEEDED, same version exists in internal repository
merida1 macOS 10.14.6 Mojave / x86_64  OK  OK  OK  OK UNNEEDED, same version exists in internal repository
Package 160/1882HostnameOS / ArchINSTALLBUILDCHECKBUILD BIN
BiocSingular 1.5.0
Aaron Lun
Last Commit: 8e5c260
Last Changed Date: 2020-04-27 15:23:30 -0400
malbec1 Linux (Ubuntu 18.04.4 LTS) / x86_64  OK  OK  OK UNNEEDED, same version exists in internal repository
tokay1 Windows Server 2012 R2 Standard / x64  OK  OK  OK  OK UNNEEDED, same version exists in internal repository
merida1 macOS 10.14.6 Mojave / x86_64  OK  OK  OK  OK UNNEEDED, same version exists in internal repository
Package 161/1882HostnameOS / ArchINSTALLBUILDCHECKBUILD BIN
BiocSklearn 1.11.5
VJ Carey
Last Commit: 5ced25f
Last Changed Date: 2020-07-21 12:30:19 -0400
malbec1 Linux (Ubuntu 18.04.4 LTS) / x86_64  OK  OK  OK UNNEEDED, same version exists in internal repository
tokay1 Windows Server 2012 R2 Standard / x64  OK  OK  OK  OK UNNEEDED, same version exists in internal repository
merida1 macOS 10.14.6 Mojave / x86_64  OK  OK  OK  OK UNNEEDED, same version exists in internal repository
Package 162/1882HostnameOS / ArchINSTALLBUILDCHECKBUILD BIN
BiocStyle 2.17.0
Bioconductor Package Maintainer
Last Commit: 7ca310e
Last Changed Date: 2020-04-27 14:35:13 -0400
malbec1 Linux (Ubuntu 18.04.4 LTS) / x86_64  OK  OK  OK UNNEEDED, same version exists in internal repository
tokay1 Windows Server 2012 R2 Standard / x64  OK  OK  OK  OK UNNEEDED, same version exists in internal repository
merida1 macOS 10.14.6 Mojave / x86_64  OK  OK  OK  OK UNNEEDED, same version exists in internal repository
Package 163/1882HostnameOS / ArchINSTALLBUILDCHECKBUILD BIN
BiocVersion 3.12.0
Bioconductor Package Maintainer
Last Commit: 23b9719
Last Changed Date: 2020-04-27 15:16:58 -0400
malbec1 Linux (Ubuntu 18.04.4 LTS) / x86_64  OK  OK  OK UNNEEDED, same version exists in internal repository
tokay1 Windows Server 2012 R2 Standard / x64  OK  OK  OK  OK UNNEEDED, same version exists in internal repository
merida1 macOS 10.14.6 Mojave / x86_64  OK  OK  OK  OK UNNEEDED, same version exists in internal repository
Package 164/1882HostnameOS / ArchINSTALLBUILDCHECKBUILD BIN
biocViews 1.57.3
Bioconductor Package Maintainer
Last Commit: d1f0be2
Last Changed Date: 2020-07-17 16:45:15 -0400
malbec1 Linux (Ubuntu 18.04.4 LTS) / x86_64  OK  OK  OK UNNEEDED, same version exists in internal repository
tokay1 Windows Server 2012 R2 Standard / x64  OK  OK  OK  OK UNNEEDED, same version exists in internal repository
merida1 macOS 10.14.6 Mojave / x86_64  OK  OK  OK  OK UNNEEDED, same version exists in internal repository
Package 165/1882HostnameOS / ArchINSTALLBUILDCHECKBUILD BIN
BiocWorkflowTools 1.15.0
Mike Smith
Last Commit: 69240d4
Last Changed Date: 2020-04-27 15:01:39 -0400
malbec1 Linux (Ubuntu 18.04.4 LTS) / x86_64  OK  OK  OK UNNEEDED, same version exists in internal repository
tokay1 Windows Server 2012 R2 Standard / x64  OK  OK  OK  OK UNNEEDED, same version exists in internal repository
merida1 macOS 10.14.6 Mojave / x86_64  OK  OK  OK  OK UNNEEDED, same version exists in internal repository
Package 166/1882HostnameOS / ArchINSTALLBUILDCHECKBUILD BIN
bioDist 1.61.0
Bioconductor Package Maintainer
Last Commit: cadb04d
Last Changed Date: 2020-04-27 14:10:44 -0400
malbec1 Linux (Ubuntu 18.04.4 LTS) / x86_64  OK  OK  OK UNNEEDED, same version exists in internal repository
tokay1 Windows Server 2012 R2 Standard / x64  OK  OK  OK  OK UNNEEDED, same version exists in internal repository
merida1 macOS 10.14.6 Mojave / x86_64  OK  OK  OK  OK UNNEEDED, same version exists in internal repository
Package 167/1882HostnameOS / ArchINSTALLBUILDCHECKBUILD BIN
biomaRt 2.45.2
Mike Smith
Last Commit: 3994027
Last Changed Date: 2020-07-05 10:28:02 -0400
malbec1 Linux (Ubuntu 18.04.4 LTS) / x86_64  OK  OK  OK UNNEEDED, same version exists in internal repository
tokay1 Windows Server 2012 R2 Standard / x64  OK  OK  OK  OK UNNEEDED, same version exists in internal repository
merida1 macOS 10.14.6 Mojave / x86_64  OK  OK  OK  OK UNNEEDED, same version exists in internal repository
Package 168/1882HostnameOS / ArchINSTALLBUILDCHECKBUILD BIN
biomformat 1.17.0
Paul J. McMurdie
Last Commit: 8291a5b
Last Changed Date: 2020-04-27 14:53:04 -0400
malbec1 Linux (Ubuntu 18.04.4 LTS) / x86_64  OK  OK  WARNINGS UNNEEDED, same version exists in internal repository
tokay1 Windows Server 2012 R2 Standard / x64  OK  OK  WARNINGS  OK UNNEEDED, same version exists in internal repository
merida1 macOS 10.14.6 Mojave / x86_64  OK  OK  WARNINGS  OK UNNEEDED, same version exists in internal repository
Package 169/1882HostnameOS / ArchINSTALLBUILDCHECKBUILD BIN
BioMM 1.5.2
Junfang Chen
Last Commit: de6c715
Last Changed Date: 2020-05-28 10:38:53 -0400
malbec1 Linux (Ubuntu 18.04.4 LTS) / x86_64  OK  OK  OK UNNEEDED, same version exists in internal repository
tokay1 Windows Server 2012 R2 Standard / x64  OK  OK  OK  OK UNNEEDED, same version exists in internal repository
merida1 macOS 10.14.6 Mojave / x86_64  OK  OK  OK  OK UNNEEDED, same version exists in internal repository
Package 170/1882HostnameOS / ArchINSTALLBUILDCHECKBUILD BIN
BioMVCClass 1.57.0
Elizabeth Whalen
Last Commit: a6772db
Last Changed Date: 2020-04-27 14:13:46 -0400
malbec1 Linux (Ubuntu 18.04.4 LTS) / x86_64  OK  OK  OK UNNEEDED, same version exists in internal repository
tokay1 Windows Server 2012 R2 Standard / x64  OK  OK  OK  OK UNNEEDED, same version exists in internal repository
merida1 macOS 10.14.6 Mojave / x86_64  OK  OK  OK  OK UNNEEDED, same version exists in internal repository
Package 171/1882HostnameOS / ArchINSTALLBUILDCHECKBUILD BIN
biomvRCNS 1.29.0
Yang Du
Last Commit: a8eb7d4
Last Changed Date: 2020-04-27 14:33:11 -0400
malbec1 Linux (Ubuntu 18.04.4 LTS) / x86_64  OK  OK  OK UNNEEDED, same version exists in internal repository
tokay1 Windows Server 2012 R2 Standard / x64  OK  OK  OK  OK UNNEEDED, same version exists in internal repository
merida1 macOS 10.14.6 Mojave / x86_64  OK  OK  OK  OK UNNEEDED, same version exists in internal repository
Package 172/1882HostnameOS / ArchINSTALLBUILDCHECKBUILD BIN
BioNet 1.49.1
Marcus Dittrich
Last Commit: e5ed9b6
Last Changed Date: 2020-06-08 09:59:21 -0400
malbec1 Linux (Ubuntu 18.04.4 LTS) / x86_64  OK  ERROR  skipped 
tokay1 Windows Server 2012 R2 Standard / x64  OK  ERROR  skipped  skipped 
merida1 macOS 10.14.6 Mojave / x86_64  OK  ERROR  skipped  skipped 
Package 173/1882HostnameOS / ArchINSTALLBUILDCHECKBUILD BIN
BioNetStat 1.9.4
Vinicius Jardim
Last Commit: a7e646c
Last Changed Date: 2020-05-31 18:41:56 -0400
malbec1 Linux (Ubuntu 18.04.4 LTS) / x86_64  OK  OK  OK UNNEEDED, same version exists in internal repository
tokay1 Windows Server 2012 R2 Standard / x64  OK  OK  OK  OK UNNEEDED, same version exists in internal repository
merida1 macOS 10.14.6 Mojave / x86_64  OK  OK  OK  OK UNNEEDED, same version exists in internal repository
Package 174/1882HostnameOS / ArchINSTALLBUILDCHECKBUILD BIN
BioQC 1.17.1
Jitao David Zhang
Last Commit: 02e9885
Last Changed Date: 2020-07-23 03:41:29 -0400
malbec1 Linux (Ubuntu 18.04.4 LTS) / x86_64  OK  OK  OK UNNEEDED, same version exists in internal repository
tokay1 Windows Server 2012 R2 Standard / x64  OK  OK  OK  OK UNNEEDED, same version exists in internal repository
merida1 macOS 10.14.6 Mojave / x86_64  OK  OK  OK  OK UNNEEDED, same version exists in internal repository
Package 175/1882HostnameOS / ArchINSTALLBUILDCHECKBUILD BIN
BioSeqClass 1.47.1
Li Hong
Last Commit: dcf5f74
Last Changed Date: 2020-06-08 10:03:34 -0400
malbec1 Linux (Ubuntu 18.04.4 LTS) / x86_64  OK  ERROR  skipped 
tokay1 Windows Server 2012 R2 Standard / x64  OK  ERROR  skipped  skipped 
merida1 macOS 10.14.6 Mojave / x86_64  OK  ERROR  skipped  skipped 
Package 176/1882HostnameOS / ArchINSTALLBUILDCHECKBUILD BIN
biosigner 1.17.0
Philippe Rinaudo , Etienne Thevenot
Last Commit: a227d42
Last Changed Date: 2020-04-27 14:55:12 -0400
malbec1 Linux (Ubuntu 18.04.4 LTS) / x86_64  OK  OK  WARNINGS UNNEEDED, same version exists in internal repository
tokay1 Windows Server 2012 R2 Standard / x64  OK  OK  WARNINGS  OK UNNEEDED, same version exists in internal repository
merida1 macOS 10.14.6 Mojave / x86_64  OK  OK  WARNINGS  OK UNNEEDED, same version exists in internal repository
Package 177/1882HostnameOS / ArchINSTALLBUILDCHECKBUILD BIN
Biostrings 2.57.2
H. Pagès
Last Commit: d5d36aa
Last Changed Date: 2020-06-08 18:42:00 -0400
malbec1 Linux (Ubuntu 18.04.4 LTS) / x86_64  OK  OK  WARNINGS UNNEEDED, same version exists in internal repository
tokay1 Windows Server 2012 R2 Standard / x64  OK  OK  WARNINGS  OK UNNEEDED, same version exists in internal repository
merida1 macOS 10.14.6 Mojave / x86_64  OK  OK  WARNINGS  OK UNNEEDED, same version exists in internal repository
Package 178/1882HostnameOS / ArchINSTALLBUILDCHECKBUILD BIN
BioTIP 1.3.0
Zhezhen Wang , X Holly Yang < xyang2@uchicago> and Yuxi (Jennifer) Sun
Last Commit: 0d9b301
Last Changed Date: 2020-07-28 18:56:33 -0400
malbec1 Linux (Ubuntu 18.04.4 LTS) / x86_64  OK  ERROR  skipped 
tokay1 Windows Server 2012 R2 Standard / x64  OK  ERROR  skipped  skipped 
merida1 macOS 10.14.6 Mojave / x86_64  OK  ERROR  skipped  skipped 
Package 179/1882HostnameOS / ArchINSTALLBUILDCHECKBUILD BIN
biotmle 1.13.0
Nima Hejazi
Last Commit: 971f15b
Last Changed Date: 2020-04-27 15:07:19 -0400
malbec1 Linux (Ubuntu 18.04.4 LTS) / x86_64  OK  OK  OK UNNEEDED, same version exists in internal repository
tokay1 Windows Server 2012 R2 Standard / x64  OK  OK  WARNINGS  OK UNNEEDED, same version exists in internal repository
merida1 macOS 10.14.6 Mojave / x86_64  OK  OK  OK  OK UNNEEDED, same version exists in internal repository
Package 180/1882HostnameOS / ArchINSTALLBUILDCHECKBUILD BIN
biovizBase 1.37.0
Michael Lawrence
Last Commit: 05615a7
Last Changed Date: 2020-04-27 14:27:05 -0400
malbec1 Linux (Ubuntu 18.04.4 LTS) / x86_64  OK  OK  WARNINGS UNNEEDED, same version exists in internal repository
tokay1 Windows Server 2012 R2 Standard / x64  OK  OK  WARNINGS  OK UNNEEDED, same version exists in internal repository
merida1 macOS 10.14.6 Mojave / x86_64  OK  OK  WARNINGS  OK UNNEEDED, same version exists in internal repository
Package 181/1882HostnameOS / ArchINSTALLBUILDCHECKBUILD BIN
BiRewire 3.21.0
Andrea Gobbi
Last Commit: 7ab05ed
Last Changed Date: 2020-04-27 14:36:26 -0400
malbec1 Linux (Ubuntu 18.04.4 LTS) / x86_64  OK  OK  WARNINGS UNNEEDED, same version exists in internal repository
tokay1 Windows Server 2012 R2 Standard / x64  OK  OK  WARNINGS  OK UNNEEDED, same version exists in internal repository
merida1 macOS 10.14.6 Mojave / x86_64  OK  OK  OK  OK UNNEEDED, same version exists in internal repository
Package 182/1882HostnameOS / ArchINSTALLBUILDCHECKBUILD BIN
biscuiteer 1.3.0
"Jacob Morrison"
Last Commit: 35ac8d6
Last Changed Date: 2020-04-27 15:31:52 -0400
malbec1 Linux (Ubuntu 18.04.4 LTS) / x86_64  OK  OK  WARNINGS UNNEEDED, same version exists in internal repository
tokay1 Windows Server 2012 R2 Standard / x64  OK  OK  WARNINGS  OK UNNEEDED, same version exists in internal repository
merida1 macOS 10.14.6 Mojave / x86_64  OK  OK  WARNINGS  OK UNNEEDED, same version exists in internal repository
Package 183/1882HostnameOS / ArchINSTALLBUILDCHECKBUILD BIN
BiSeq 1.29.0
Katja Hebestreit
Last Commit: 6155da2
Last Changed Date: 2020-04-27 14:34:25 -0400
malbec1 Linux (Ubuntu 18.04.4 LTS) / x86_64  OK  OK  OK UNNEEDED, same version exists in internal repository
tokay1 Windows Server 2012 R2 Standard / x64  OK  OK  OK  OK UNNEEDED, same version exists in internal repository
merida1 macOS 10.14.6 Mojave / x86_64  OK  OK  OK  OK UNNEEDED, same version exists in internal repository
Package 184/1882HostnameOS / ArchINSTALLBUILDCHECKBUILD BIN
BitSeq 1.33.1
Antti Honkela , Panagiotis Papastamoulis
Last Commit: a27c864
Last Changed Date: 2020-07-14 16:10:37 -0400
malbec1 Linux (Ubuntu 18.04.4 LTS) / x86_64  OK  OK  WARNINGS UNNEEDED, same version exists in internal repository
tokay1 Windows Server 2012 R2 Standard / x64  OK  OK  WARNINGS  OK UNNEEDED, same version exists in internal repository
merida1 macOS 10.14.6 Mojave / x86_64  OK  OK  WARNINGS  OK UNNEEDED, same version exists in internal repository
Package 185/1882HostnameOS / ArchINSTALLBUILDCHECKBUILD BIN
blacksheepr 1.3.0
RugglesLab
Last Commit: c938295
Last Changed Date: 2020-04-27 15:31:23 -0400
malbec1 Linux (Ubuntu 18.04.4 LTS) / x86_64  OK  OK  OK UNNEEDED, same version exists in internal repository
tokay1 Windows Server 2012 R2 Standard / x64  OK  OK  OK  OK UNNEEDED, same version exists in internal repository
merida1 macOS 10.14.6 Mojave / x86_64  OK  OK  OK  OK UNNEEDED, same version exists in internal repository
Package 186/1882HostnameOS / ArchINSTALLBUILDCHECKBUILD BIN
blima 1.23.0
Vojtěch Kulvait
Last Commit: aa0de00
Last Changed Date: 2020-04-27 14:40:34 -0400
malbec1 Linux (Ubuntu 18.04.4 LTS) / x86_64  OK  OK  WARNINGS UNNEEDED, same version exists in internal repository
tokay1 Windows Server 2012 R2 Standard / x64  OK  OK  WARNINGS  OK UNNEEDED, same version exists in internal repository
merida1 macOS 10.14.6 Mojave / x86_64  OK  OK  WARNINGS  OK UNNEEDED, same version exists in internal repository
Package 187/1882HostnameOS / ArchINSTALLBUILDCHECKBUILD BIN
BLMA 1.13.3
Hung Nguyen
Last Commit: 959eb20
Last Changed Date: 2020-06-24 13:42:38 -0400
malbec1 Linux (Ubuntu 18.04.4 LTS) / x86_64  OK  OK  OK UNNEEDED, same version exists in internal repository
tokay1 Windows Server 2012 R2 Standard / x64  OK  OK  OK  OK UNNEEDED, same version exists in internal repository
merida1 macOS 10.14.6 Mojave / x86_64  OK  OK  OK  OK UNNEEDED, same version exists in internal repository
Package 188/1882HostnameOS / ArchINSTALLBUILDCHECKBUILD BIN
bluster 0.99.1
Aaron Lun
Last Commit: fd4af21
Last Changed Date: 2020-07-27 03:34:38 -0400
malbec1 Linux (Ubuntu 18.04.4 LTS) / x86_64  OK  OK  OK UNNEEDED, same version exists in internal repository
tokay1 Windows Server 2012 R2 Standard / x64  OK  OK  OK  OK UNNEEDED, same version exists in internal repository
merida1 macOS 10.14.6 Mojave / x86_64  OK  OK  OK  OK UNNEEDED, same version exists in internal repository
Package 189/1882HostnameOS / ArchINSTALLBUILDCHECKBUILD BIN
bnbc 1.11.0
Kipper Fletez-Brant
Last Commit: 0285f52
Last Changed Date: 2020-04-27 15:11:22 -0400
malbec1 Linux (Ubuntu 18.04.4 LTS) / x86_64  OK  OK  OK UNNEEDED, same version exists in internal repository
tokay1 Windows Server 2012 R2 Standard / x64  OK  OK  OK  OK UNNEEDED, same version exists in internal repository
merida1 macOS 10.14.6 Mojave / x86_64  OK  OK  OK  OK UNNEEDED, same version exists in internal repository
Package 190/1882HostnameOS / ArchINSTALLBUILDCHECKBUILD BIN
BPRMeth 1.15.3
Chantriolnt-Andreas Kapourani
Last Commit: 39fa242
Last Changed Date: 2020-06-10 12:32:32 -0400
malbec1 Linux (Ubuntu 18.04.4 LTS) / x86_64  OK  OK  OK UNNEEDED, same version exists in internal repository
tokay1 Windows Server 2012 R2 Standard / x64  OK  OK  OK  OK UNNEEDED, same version exists in internal repository
merida1 macOS 10.14.6 Mojave / x86_64  OK  OK  OK  OK UNNEEDED, same version exists in internal repository
Package 191/1882HostnameOS / ArchINSTALLBUILDCHECKBUILD BIN
BRAIN 1.35.0
Piotr Dittwald
Last Commit: cf2d9e9
Last Changed Date: 2020-04-27 14:28:46 -0400
malbec1 Linux (Ubuntu 18.04.4 LTS) / x86_64  OK  OK  WARNINGS UNNEEDED, same version exists in internal repository
tokay1 Windows Server 2012 R2 Standard / x64  OK  OK  WARNINGS  OK UNNEEDED, same version exists in internal repository
merida1 macOS 10.14.6 Mojave / x86_64  OK  OK  WARNINGS  OK UNNEEDED, same version exists in internal repository
Package 192/1882HostnameOS / ArchINSTALLBUILDCHECKBUILD BIN
brainflowprobes 1.3.1
Amanda Price
Last Commit: 8556164
Last Changed Date: 2020-05-27 01:09:22 -0400
malbec1 Linux (Ubuntu 18.04.4 LTS) / x86_64  OK  OK  OK UNNEEDED, same version exists in internal repository
tokay1 Windows Server 2012 R2 Standard / x64  OK  OK  ERROR  OK 
merida1 macOS 10.14.6 Mojave / x86_64  OK  OK  OK  OK UNNEEDED, same version exists in internal repository
Package 193/1882HostnameOS / ArchINSTALLBUILDCHECKBUILD BIN
BrainSABER 0.99.4
USD Biomedical Engineering
Last Commit: 4d2527c
Last Changed Date: 2020-04-20 22:30:39 -0400
malbec1 Linux (Ubuntu 18.04.4 LTS) / x86_64  OK  OK  OK UNNEEDED, same version exists in internal repository
tokay1 Windows Server 2012 R2 Standard / x64  OK  OK  OK  OK UNNEEDED, same version exists in internal repository
merida1 macOS 10.14.6 Mojave / x86_64  OK  OK  OK  OK UNNEEDED, same version exists in internal repository
Package 194/1882HostnameOS / ArchINSTALLBUILDCHECKBUILD BIN
BrainStars 1.33.0
Itoshi NIKAIDO
Last Commit: e0111ee
Last Changed Date: 2020-04-27 14:29:00 -0400
malbec1 Linux (Ubuntu 18.04.4 LTS) / x86_64  OK  OK  OK UNNEEDED, same version exists in internal repository
tokay1 Windows Server 2012 R2 Standard / x64  OK  OK  OK  OK UNNEEDED, same version exists in internal repository
merida1 macOS 10.14.6 Mojave / x86_64  OK  OK  OK  OK UNNEEDED, same version exists in internal repository
Package 195/1882HostnameOS / ArchINSTALLBUILDCHECKBUILD BIN
branchpointer 1.15.0
Beth Signal
Last Commit: 3e7d7fa
Last Changed Date: 2020-04-27 15:06:12 -0400
malbec1 Linux (Ubuntu 18.04.4 LTS) / x86_64  OK  OK  OK UNNEEDED, same version exists in internal repository
tokay1 Windows Server 2012 R2 Standard / x64  OK  OK  OK  OK UNNEEDED, same version exists in internal repository
merida1 macOS 10.14.6 Mojave / x86_64  OK  OK  OK  OK UNNEEDED, same version exists in internal repository
Package 196/1882HostnameOS / ArchINSTALLBUILDCHECKBUILD BIN
breakpointR 1.7.1
David Porubsky
Last Commit: 30030d4
Last Changed Date: 2020-06-03 19:12:11 -0400
malbec1 Linux (Ubuntu 18.04.4 LTS) / x86_64  OK  OK  OK UNNEEDED, same version exists in internal repository
tokay1 Windows Server 2012 R2 Standard / x64  OK  OK  OK  OK UNNEEDED, same version exists in internal repository
merida1 macOS 10.14.6 Mojave / x86_64  OK  OK  OK  OK UNNEEDED, same version exists in internal repository
Package 197/1882HostnameOS / ArchINSTALLBUILDCHECKBUILD BIN
brendaDb 1.3.0
Yi Zhou
Last Commit: b348776
Last Changed Date: 2020-04-27 15:29:29 -0400
malbec1 Linux (Ubuntu 18.04.4 LTS) / x86_64  OK  OK  OK UNNEEDED, same version exists in internal repository
tokay1 Windows Server 2012 R2 Standard / x64  OK  OK  OK  OK UNNEEDED, same version exists in internal repository
merida1 macOS 10.14.6 Mojave / x86_64  OK  OK  OK  OK UNNEEDED, same version exists in internal repository
Package 198/1882HostnameOS / ArchINSTALLBUILDCHECKBUILD BIN
BRGenomics 1.1.2
Mike DeBerardine
Last Commit: 932ee49
Last Changed Date: 2020-05-15 19:52:35 -0400
malbec1 Linux (Ubuntu 18.04.4 LTS) / x86_64  OK  OK  OK UNNEEDED, same version exists in internal repository
tokay1 Windows Server 2012 R2 Standard / x64  OK  OK  OK  OK UNNEEDED, same version exists in internal repository
merida1 macOS 10.14.6 Mojave / x86_64  OK  OK  OK  OK UNNEEDED, same version exists in internal repository
Package 199/1882HostnameOS / ArchINSTALLBUILDCHECKBUILD BIN
bridge 1.53.0
Raphael Gottardo
Last Commit: 4f3dcc9
Last Changed Date: 2020-04-27 14:11:24 -0400
malbec1 Linux (Ubuntu 18.04.4 LTS) / x86_64  OK  OK  WARNINGS UNNEEDED, same version exists in internal repository
tokay1 Windows Server 2012 R2 Standard / x64  OK  OK  WARNINGS  OK UNNEEDED, same version exists in internal repository
merida1 macOS 10.14.6 Mojave / x86_64  OK  OK  OK  OK UNNEEDED, same version exists in internal repository
Package 200/1882HostnameOS / ArchINSTALLBUILDCHECKBUILD BIN
BridgeDbR 1.23.0
Egon Willighagen
Last Commit: ee9ccef
Last Changed Date: 2020-04-27 14:45:02 -0400
malbec1 Linux (Ubuntu 18.04.4 LTS) / x86_64  OK  OK  OK UNNEEDED, same version exists in internal repository
tokay1 Windows Server 2012 R2 Standard / x64  ERROR  OK  ERROR  ERROR 
merida1 macOS 10.14.6 Mojave / x86_64  OK  OK  OK  OK UNNEEDED, same version exists in internal repository
Package 201/1882HostnameOS / ArchINSTALLBUILDCHECKBUILD BIN
BrowserViz 2.11.0
Paul Shannon
Last Commit: c965f73
Last Changed Date: 2020-04-27 14:47:02 -0400
malbec1 Linux (Ubuntu 18.04.4 LTS) / x86_64  OK  OK  OK UNNEEDED, same version exists in internal repository
tokay1 Windows Server 2012 R2 Standard / x64  OK  OK  OK  OK UNNEEDED, same version exists in internal repository
merida1 macOS 10.14.6 Mojave / x86_64  OK  OK  OK  OK UNNEEDED, same version exists in internal repository
Package 202/1882HostnameOS / ArchINSTALLBUILDCHECKBUILD BIN
BSgenome 1.57.5
H. Pagès
Last Commit: 781c61d
Last Changed Date: 2020-07-20 17:17:06 -0400
malbec1 Linux (Ubuntu 18.04.4 LTS) / x86_64  OK  OK  WARNINGS UNNEEDED, same version exists in internal repository
tokay1 Windows Server 2012 R2 Standard / x64  OK  OK  WARNINGS  OK UNNEEDED, same version exists in internal repository
merida1 macOS 10.14.6 Mojave / x86_64  OK  OK  WARNINGS  OK UNNEEDED, same version exists in internal repository
Package 203/1882HostnameOS / ArchINSTALLBUILDCHECKBUILD BIN
bsseq 1.25.5
Kasper Daniel Hansen
Last Commit: f2728b7
Last Changed Date: 2020-06-28 21:21:07 -0400
malbec1 Linux (Ubuntu 18.04.4 LTS) / x86_64  OK  OK  TIMEOUT 
tokay1 Windows Server 2012 R2 Standard / x64  OK  OK  WARNINGS  OK UNNEEDED, same version exists in internal repository
merida1 macOS 10.14.6 Mojave / x86_64  OK  OK  WARNINGS  OK UNNEEDED, same version exists in internal repository
Package 204/1882HostnameOS / ArchINSTALLBUILDCHECKBUILD BIN
BubbleTree 2.19.0
Todd Creasy , Wei Zhu
Last Commit: 50dd6a4
Last Changed Date: 2020-04-27 14:46:47 -0400
malbec1 Linux (Ubuntu 18.04.4 LTS) / x86_64  OK  OK  OK UNNEEDED, same version exists in internal repository
tokay1 Windows Server 2012 R2 Standard / x64  OK  OK  OK  OK UNNEEDED, same version exists in internal repository
merida1 macOS 10.14.6 Mojave / x86_64  OK  OK  OK  OK UNNEEDED, same version exists in internal repository
Package 205/1882HostnameOS / ArchINSTALLBUILDCHECKBUILD BIN
BufferedMatrix 1.53.0
Ben Bolstad
Last Commit: 35d9382
Last Changed Date: 2020-04-27 14:14:34 -0400
malbec1 Linux (Ubuntu 18.04.4 LTS) / x86_64  OK  OK  OK UNNEEDED, same version exists in internal repository
tokay1 Windows Server 2012 R2 Standard / x64  OK  OK  OK  OK UNNEEDED, same version exists in internal repository
merida1 macOS 10.14.6 Mojave / x86_64  OK  OK  OK  OK UNNEEDED, same version exists in internal repository
Package 206/1882HostnameOS / ArchINSTALLBUILDCHECKBUILD BIN
BufferedMatrixMethods 1.53.0
Ben Bolstad
Last Commit: d7d095f
Last Changed Date: 2020-04-27 14:14:37 -0400
malbec1 Linux (Ubuntu 18.04.4 LTS) / x86_64  OK  OK  OK UNNEEDED, same version exists in internal repository
tokay1 Windows Server 2012 R2 Standard / x64  OK  OK  OK  OK UNNEEDED, same version exists in internal repository
merida1 macOS 10.14.6 Mojave / x86_64  OK  OK  OK  OK UNNEEDED, same version exists in internal repository
Package 207/1882HostnameOS / ArchINSTALLBUILDCHECKBUILD BIN
BUMHMM 1.13.0
Alina Selega
Last Commit: bbafa73
Last Changed Date: 2020-04-27 15:04:01 -0400
malbec1 Linux (Ubuntu 18.04.4 LTS) / x86_64  OK  OK  OK UNNEEDED, same version exists in internal repository
tokay1 Windows Server 2012 R2 Standard / x64  OK  OK  OK  OK UNNEEDED, same version exists in internal repository
merida1 macOS 10.14.6 Mojave / x86_64  OK  OK  OK  OK UNNEEDED, same version exists in internal repository
Package 208/1882HostnameOS / ArchINSTALLBUILDCHECKBUILD BIN
bumphunter 1.31.0
Rafael A. Irizarry
Last Commit: 1d0ee5b
Last Changed Date: 2020-04-27 14:32:19 -0400
malbec1 Linux (Ubuntu 18.04.4 LTS) / x86_64  OK  OK  OK UNNEEDED, same version exists in internal repository
tokay1 Windows Server 2012 R2 Standard / x64  OK  OK  WARNINGS  OK UNNEEDED, same version exists in internal repository
merida1 macOS 10.14.6 Mojave / x86_64  OK  OK  OK  OK UNNEEDED, same version exists in internal repository
Package 209/1882HostnameOS / ArchINSTALLBUILDCHECKBUILD BIN
BUS 1.45.0
Yuanhua Liu
Last Commit: 91dd3f0
Last Changed Date: 2020-04-27 14:19:39 -0400
malbec1 Linux (Ubuntu 18.04.4 LTS) / x86_64  OK  OK  OK UNNEEDED, same version exists in internal repository
tokay1 Windows Server 2012 R2 Standard / x64  OK  OK  OK  OK UNNEEDED, same version exists in internal repository
merida1 macOS 10.14.6 Mojave / x86_64  OK  OK  OK  OK UNNEEDED, same version exists in internal repository
Package 210/1882HostnameOS / ArchINSTALLBUILDCHECKBUILD BIN
BUScorrect 1.7.0
Xiangyu Luo
Last Commit: 11ea1d9
Last Changed Date: 2020-04-27 15:18:46 -0400
malbec1 Linux (Ubuntu 18.04.4 LTS) / x86_64  OK  OK  OK UNNEEDED, same version exists in internal repository
tokay1 Windows Server 2012 R2 Standard / x64  OK  OK  OK  OK UNNEEDED, same version exists in internal repository
merida1 macOS 10.14.6 Mojave / x86_64  OK  OK  OK  OK UNNEEDED, same version exists in internal repository
Package 211/1882HostnameOS / ArchINSTALLBUILDCHECKBUILD BIN
BUSpaRse 1.3.1
Lambda Moses
Last Commit: 3c9922c
Last Changed Date: 2020-06-02 19:36:58 -0400
malbec1 Linux (Ubuntu 18.04.4 LTS) / x86_64  OK  OK  OK UNNEEDED, same version exists in internal repository
tokay1 Windows Server 2012 R2 Standard / x64  OK  OK  OK  OK UNNEEDED, same version exists in internal repository
merida1 macOS 10.14.6 Mojave / x86_64  OK  OK  OK  OK UNNEEDED, same version exists in internal repository
C
ABCDEFGHIJKLMNOPQRSTUVWXYZ
Package 212/1882HostnameOS / ArchINSTALLBUILDCHECKBUILD BIN
CAFE 1.25.0
Sander Bollen
Last Commit: b80f942
Last Changed Date: 2020-04-27 14:38:56 -0400
malbec1 Linux (Ubuntu 18.04.4 LTS) / x86_64  OK  OK  WARNINGS UNNEEDED, same version exists in internal repository
tokay1 Windows Server 2012 R2 Standard / x64  OK  OK  WARNINGS  OK UNNEEDED, same version exists in internal repository
merida1 macOS 10.14.6 Mojave / x86_64  OK  OK  WARNINGS  OK UNNEEDED, same version exists in internal repository
Package 213/1882HostnameOS / ArchINSTALLBUILDCHECKBUILD BIN
CAGEfightR 1.9.0
Malte Thodberg
Last Commit: 4bec7db
Last Changed Date: 2020-04-27 15:16:40 -0400
malbec1 Linux (Ubuntu 18.04.4 LTS) / x86_64  OK  OK  OK UNNEEDED, same version exists in internal repository
tokay1 Windows Server 2012 R2 Standard / x64  OK  OK  OK  OK UNNEEDED, same version exists in internal repository
merida1 macOS 10.14.6 Mojave / x86_64  OK  OK  OK  OK UNNEEDED, same version exists in internal repository
Package 214/1882HostnameOS / ArchINSTALLBUILDCHECKBUILD BIN
CAGEr 1.31.4
Vanja Haberle , Charles Plessy , Damir Baranasic , Sarvesh Nikumbh
Last Commit: f845b5c
Last Changed Date: 2020-07-14 02:01:55 -0400
malbec1 Linux (Ubuntu 18.04.4 LTS) / x86_64  OK  OK  OK UNNEEDED, same version exists in internal repository
tokay1 Windows Server 2012 R2 Standard / x64  OK  OK  WARNINGS  OK UNNEEDED, same version exists in internal repository
merida1 macOS 10.14.6 Mojave / x86_64  OK  OK  OK  OK UNNEEDED, same version exists in internal repository
Package 215/1882HostnameOS / ArchINSTALLBUILDCHECKBUILD BIN
calm 1.3.0
Kun Liang
Last Commit: 5527b1a
Last Changed Date: 2020-04-27 15:29:47 -0400
malbec1 Linux (Ubuntu 18.04.4 LTS) / x86_64  OK  OK  OK UNNEEDED, same version exists in internal repository
tokay1 Windows Server 2012 R2 Standard / x64  OK  OK  OK  OK UNNEEDED, same version exists in internal repository
merida1 macOS 10.14.6 Mojave / x86_64  OK  OK  OK  OK UNNEEDED, same version exists in internal repository
Package 216/1882HostnameOS / ArchINSTALLBUILDCHECKBUILD BIN
CAMERA 1.45.1
Steffen Neumann
Last Commit: 45384c6
Last Changed Date: 2020-06-02 05:43:49 -0400
malbec1 Linux (Ubuntu 18.04.4 LTS) / x86_64  OK  OK  WARNINGS UNNEEDED, same version exists in internal repository
tokay1 Windows Server 2012 R2 Standard / x64  OK  OK  WARNINGS  OK UNNEEDED, same version exists in internal repository
merida1 macOS 10.14.6 Mojave / x86_64  OK  OK  WARNINGS  OK UNNEEDED, same version exists in internal repository
Package 217/1882HostnameOS / ArchINSTALLBUILDCHECKBUILD BIN
canceR 1.23.0
Karim Mezhoud
Last Commit: eaa1ca4
Last Changed Date: 2020-04-27 14:47:07 -0400
malbec1 Linux (Ubuntu 18.04.4 LTS) / x86_64  OK  OK  OK UNNEEDED, same version exists in internal repository
tokay1 Windows Server 2012 R2 Standard / x64  OK  OK  OK  OK UNNEEDED, same version exists in internal repository
merida1 macOS 10.14.6 Mojave / x86_64  OK  OK  OK  OK UNNEEDED, same version exists in internal repository
Package 218/1882HostnameOS / ArchINSTALLBUILDCHECKBUILD BIN
cancerclass 1.33.0
Daniel Kosztyla
Last Commit: 9510177
Last Changed Date: 2020-04-27 14:29:45 -0400
malbec1 Linux (Ubuntu 18.04.4 LTS) / x86_64  OK  OK  OK UNNEEDED, same version exists in internal repository
tokay1 Windows Server 2012 R2 Standard / x64  OK  OK  OK  OK UNNEEDED, same version exists in internal repository
merida1 macOS 10.14.6 Mojave / x86_64  OK  OK  WARNINGS  OK UNNEEDED, same version exists in internal repository
Package 219/1882HostnameOS / ArchINSTALLBUILDCHECKBUILD BIN
CancerInSilico 2.9.0
Thomas D. Sherman
Last Commit: e1cdc81
Last Changed Date: 2020-04-27 15:02:23 -0400
malbec1 Linux (Ubuntu 18.04.4 LTS) / x86_64  OK  OK  OK UNNEEDED, same version exists in internal repository
tokay1 Windows Server 2012 R2 Standard / x64  OK  OK  OK  OK UNNEEDED, same version exists in internal repository
merida1 macOS 10.14.6 Mojave / x86_64  OK  OK  OK  OK UNNEEDED, same version exists in internal repository
Package 220/1882HostnameOS / ArchINSTALLBUILDCHECKBUILD BIN
CancerMutationAnalysis 1.31.0
Simina M. Boca
Last Commit: 251c81e
Last Changed Date: 2020-04-27 14:29:21 -0400
malbec1 Linux (Ubuntu 18.04.4 LTS) / x86_64  OK  OK  OK UNNEEDED, same version exists in internal repository
tokay1 Windows Server 2012 R2 Standard / x64  OK  OK  OK  OK UNNEEDED, same version exists in internal repository
merida1 macOS 10.14.6 Mojave / x86_64  OK  OK  OK  OK UNNEEDED, same version exists in internal repository
Package 221/1882HostnameOS / ArchINSTALLBUILDCHECKBUILD BIN
CancerSubtypes 1.15.0
Taosheng Xu
Last Commit: 6859df3
Last Changed Date: 2020-04-27 15:00:39 -0400
malbec1 Linux (Ubuntu 18.04.4 LTS) / x86_64  OK  OK  OK UNNEEDED, same version exists in internal repository
tokay1 Windows Server 2012 R2 Standard / x64  OK  OK  OK  OK UNNEEDED, same version exists in internal repository
merida1 macOS 10.14.6 Mojave / x86_64  OK  OK  OK  OK UNNEEDED, same version exists in internal repository
Package 222/1882HostnameOS / ArchINSTALLBUILDCHECKBUILD BIN
CAnD 1.21.0
Caitlin McHugh
Last Commit: 1cfd2da
Last Changed Date: 2020-04-27 14:48:46 -0400
malbec1 Linux (Ubuntu 18.04.4 LTS) / x86_64  OK  OK  OK UNNEEDED, same version exists in internal repository
tokay1 Windows Server 2012 R2 Standard / x64  OK  OK  OK  OK UNNEEDED, same version exists in internal repository
merida1 macOS 10.14.6 Mojave / x86_64  OK  OK  OK  OK UNNEEDED, same version exists in internal repository
Package 223/1882HostnameOS / ArchINSTALLBUILDCHECKBUILD BIN
caOmicsV 1.19.0
Henry Zhang
Last Commit: 2d96ecc
Last Changed Date: 2020-04-27 14:49:25 -0400
malbec1 Linux (Ubuntu 18.04.4 LTS) / x86_64  OK  OK  WARNINGS UNNEEDED, same version exists in internal repository
tokay1 Windows Server 2012 R2 Standard / x64  OK  OK  WARNINGS  OK UNNEEDED, same version exists in internal repository
merida1 macOS 10.14.6 Mojave / x86_64  OK  OK  WARNINGS  OK UNNEEDED, same version exists in internal repository
Package 224/1882HostnameOS / ArchINSTALLBUILDCHECKBUILD BIN
Cardinal 2.7.1
Kylie A. Bemis
Last Commit: 8fcee13
Last Changed Date: 2020-05-02 02:24:20 -0400
malbec1 Linux (Ubuntu 18.04.4 LTS) / x86_64  ERROR  ERROR  skipped 
tokay1 Windows Server 2012 R2 Standard / x64  ERROR  ERROR  skipped  skipped 
merida1 macOS 10.14.6 Mojave / x86_64  ERROR  ERROR  skipped  skipped 
Package 225/1882HostnameOS / ArchINSTALLBUILDCHECKBUILD BIN
CARNIVAL 1.1.0
Enio Gjerga
Last Commit: 09ec937
Last Changed Date: 2020-04-27 15:36:20 -0400
malbec1 Linux (Ubuntu 18.04.4 LTS) / x86_64  OK  OK  OK UNNEEDED, same version exists in internal repository
tokay1 Windows Server 2012 R2 Standard / x64  OK  OK  OK  OK UNNEEDED, same version exists in internal repository
merida1 macOS 10.14.6 Mojave / x86_64  OK  OK  OK  OK UNNEEDED, same version exists in internal repository
Package 226/1882HostnameOS / ArchINSTALLBUILDCHECKBUILD BIN
casper 2.23.0
David Rossell
Last Commit: 54a4ecc
Last Changed Date: 2020-04-27 14:32:47 -0400
malbec1 Linux (Ubuntu 18.04.4 LTS) / x86_64  OK  OK  OK UNNEEDED, same version exists in internal repository
tokay1 Windows Server 2012 R2 Standard / x64  OK  OK  WARNINGS  OK UNNEEDED, same version exists in internal repository
merida1 macOS 10.14.6 Mojave / x86_64  OK  OK  WARNINGS  OK UNNEEDED, same version exists in internal repository
Package 227/1882HostnameOS / ArchINSTALLBUILDCHECKBUILD BIN
CATALYST 1.13.1
Helena L. Crowell
Last Commit: 78d76eb
Last Changed Date: 2020-05-06 03:40:47 -0400
malbec1 Linux (Ubuntu 18.04.4 LTS) / x86_64  OK  ERROR  skipped 
tokay1 Windows Server 2012 R2 Standard / x64  OK  ERROR  skipped  skipped 
merida1 macOS 10.14.6 Mojave / x86_64  OK  ERROR  skipped  skipped 
Package 228/1882HostnameOS / ArchINSTALLBUILDCHECKBUILD BIN
Category 2.55.0
Bioconductor Package Maintainer
Last Commit: de14c93
Last Changed Date: 2020-04-27 14:11:31 -0400
malbec1 Linux (Ubuntu 18.04.4 LTS) / x86_64  OK  OK  OK UNNEEDED, same version exists in internal repository
tokay1 Windows Server 2012 R2 Standard / x64  OK  OK  OK  OK UNNEEDED, same version exists in internal repository
merida1 macOS 10.14.6 Mojave / x86_64  OK  OK  OK  OK UNNEEDED, same version exists in internal repository
Package 229/1882HostnameOS / ArchINSTALLBUILDCHECKBUILD BIN
categoryCompare 1.33.0
Robert M. Flight
Last Commit: a7d8dcb
Last Changed Date: 2020-04-27 14:29:40 -0400
malbec1 Linux (Ubuntu 18.04.4 LTS) / x86_64  OK  OK  OK UNNEEDED, same version exists in internal repository
tokay1 Windows Server 2012 R2 Standard / x64  OK  OK  OK  OK UNNEEDED, same version exists in internal repository
merida1 macOS 10.14.6 Mojave / x86_64  OK  OK  OK  OK UNNEEDED, same version exists in internal repository
Package 230/1882HostnameOS / ArchINSTALLBUILDCHECKBUILD BIN
CausalR 1.21.0
Glyn Bradley , Steven Barrett
Last Commit: bb5dc2b
Last Changed Date: 2020-04-27 14:49:15 -0400
malbec1 Linux (Ubuntu 18.04.4 LTS) / x86_64  OK  OK  OK UNNEEDED, same version exists in internal repository
tokay1 Windows Server 2012 R2 Standard / x64  OK  OK  OK  OK UNNEEDED, same version exists in internal repository
merida1 macOS 10.14.6 Mojave / x86_64  OK  OK  OK  OK UNNEEDED, same version exists in internal repository
Package 231/1882HostnameOS / ArchINSTALLBUILDCHECKBUILD BIN
cbaf 1.11.1
Arman Shahrisa
Last Commit: f400891
Last Changed Date: 2020-05-05 12:31:17 -0400
malbec1 Linux (Ubuntu 18.04.4 LTS) / x86_64  OK  OK  OK UNNEEDED, same version exists in internal repository
tokay1 Windows Server 2012 R2 Standard / x64  ERROR  OK  ERROR  ERROR 
merida1 macOS 10.14.6 Mojave / x86_64  OK  OK  OK  OK UNNEEDED, same version exists in internal repository
Package 232/1882HostnameOS / ArchINSTALLBUILDCHECKBUILD BIN
cBioPortalData 2.1.23
Marcel Ramos
Last Commit: 06a601a
Last Changed Date: 2020-08-05 23:49:47 -0400
malbec1 Linux (Ubuntu 18.04.4 LTS) / x86_64  OK  OK  OK YES, new version is higher than in internal repository
tokay1 Windows Server 2012 R2 Standard / x64  OK  OK  OK  OK YES, new version is higher than in internal repository
merida1 macOS 10.14.6 Mojave / x86_64  OK  OK  OK  OK YES, new version is higher than in internal repository
Package 233/1882HostnameOS / ArchINSTALLBUILDCHECKBUILD BIN
ccfindR 1.9.0
Jun Woo
Last Commit: c67da9a
Last Changed Date: 2020-04-27 15:16:20 -0400
malbec1 Linux (Ubuntu 18.04.4 LTS) / x86_64  OK  OK  OK UNNEEDED, same version exists in internal repository
tokay1 Windows Server 2012 R2 Standard / x64  OK  OK  OK  OK UNNEEDED, same version exists in internal repository
merida1 macOS 10.14.6 Mojave / x86_64  OK  OK  OK  OK UNNEEDED, same version exists in internal repository
Package 234/1882HostnameOS / ArchINSTALLBUILDCHECKBUILD BIN
ccmap 1.15.0
Alex Pickering
Last Commit: 80d6bb6
Last Changed Date: 2020-04-27 14:58:50 -0400
malbec1 Linux (Ubuntu 18.04.4 LTS) / x86_64  OK  OK  OK UNNEEDED, same version exists in internal repository
tokay1 Windows Server 2012 R2 Standard / x64  OK  OK  OK  OK UNNEEDED, same version exists in internal repository
merida1 macOS 10.14.6 Mojave / x86_64  OK  OK  OK  OK UNNEEDED, same version exists in internal repository
Package 235/1882HostnameOS / ArchINSTALLBUILDCHECKBUILD BIN
CCPROMISE 1.15.0
Xueyuan Cao
Last Commit: eafda50
Last Changed Date: 2020-04-27 15:03:28 -0400
malbec1 Linux (Ubuntu 18.04.4 LTS) / x86_64  OK  OK  WARNINGS UNNEEDED, same version exists in internal repository
tokay1 Windows Server 2012 R2 Standard / x64  OK  OK  WARNINGS  OK UNNEEDED, same version exists in internal repository
merida1 macOS 10.14.6 Mojave / x86_64  OK  OK  WARNINGS  OK UNNEEDED, same version exists in internal repository
Package 236/1882HostnameOS / ArchINSTALLBUILDCHECKBUILD BIN
ccrepe 1.25.0
Emma Schwager ,Craig Bielski, George Weingart
Last Commit: 6d5e554
Last Changed Date: 2020-04-27 14:37:41 -0400
malbec1 Linux (Ubuntu 18.04.4 LTS) / x86_64  OK  OK  OK UNNEEDED, same version exists in internal repository
tokay1 Windows Server 2012 R2 Standard / x64  OK  OK  OK  OK UNNEEDED, same version exists in internal repository
merida1 macOS 10.14.6 Mojave / x86_64  OK  OK  OK  OK UNNEEDED, same version exists in internal repository
Package 237/1882HostnameOS / ArchINSTALLBUILDCHECKBUILD BIN
celaref 1.7.0
Sarah Williams
Last Commit: 03fcc15
Last Changed Date: 2020-04-27 15:18:36 -0400
malbec1 Linux (Ubuntu 18.04.4 LTS) / x86_64  OK  OK  OK UNNEEDED, same version exists in internal repository
tokay1 Windows Server 2012 R2 Standard / x64  OK  OK  OK  OK UNNEEDED, same version exists in internal repository
merida1 macOS 10.14.6 Mojave / x86_64  OK  OK  OK  OK UNNEEDED, same version exists in internal repository
Package 238/1882HostnameOS / ArchINSTALLBUILDCHECKBUILD BIN
celda 1.5.6
Joshua Campbell
Last Commit: 81cb8b8
Last Changed Date: 2020-06-07 07:58:35 -0400
malbec1 Linux (Ubuntu 18.04.4 LTS) / x86_64  OK  OK  OK UNNEEDED, same version exists in internal repository
tokay1 Windows Server 2012 R2 Standard / x64  OK  OK  OK  OK UNNEEDED, same version exists in internal repository
merida1 macOS 10.14.6 Mojave / x86_64  OK  OK  OK  OK UNNEEDED, same version exists in internal repository
Package 239/1882HostnameOS / ArchINSTALLBUILDCHECKBUILD BIN
cellbaseR 1.13.0
Mohammed OE Abdallah
Last Commit: e14a517
Last Changed Date: 2020-04-27 15:07:27 -0400
malbec1 Linux (Ubuntu 18.04.4 LTS) / x86_64  OK  OK  OK UNNEEDED, same version exists in internal repository
tokay1 Windows Server 2012 R2 Standard / x64  OK  OK  WARNINGS  OK UNNEEDED, same version exists in internal repository
merida1 macOS 10.14.6 Mojave / x86_64  OK  OK  OK  OK UNNEEDED, same version exists in internal repository
Package 240/1882HostnameOS / ArchINSTALLBUILDCHECKBUILD BIN
CellBench 1.5.1
Shian Su
Last Commit: 7282a9d
Last Changed Date: 2020-06-04 22:17:03 -0400
malbec1 Linux (Ubuntu 18.04.4 LTS) / x86_64  OK  OK  OK UNNEEDED, same version exists in internal repository
tokay1 Windows Server 2012 R2 Standard / x64  OK  OK  OK  OK UNNEEDED, same version exists in internal repository
merida1 macOS 10.14.6 Mojave / x86_64  OK  OK  OK  OK UNNEEDED, same version exists in internal repository
Package 241/1882HostnameOS / ArchINSTALLBUILDCHECKBUILD BIN
cellHTS2 2.53.0
Joseph Barry
Last Commit: 0f9a18a
Last Changed Date: 2020-04-27 14:15:21 -0400
malbec1 Linux (Ubuntu 18.04.4 LTS) / x86_64  OK  OK  OK UNNEEDED, same version exists in internal repository
tokay1 Windows Server 2012 R2 Standard / x64  OK  OK  OK  OK UNNEEDED, same version exists in internal repository
merida1 macOS 10.14.6 Mojave / x86_64  OK  OK  OK  OK UNNEEDED, same version exists in internal repository
Package 242/1882HostnameOS / ArchINSTALLBUILDCHECKBUILD BIN
cellity 1.17.0
Tomislav Ilicic
Last Commit: 5a480a2
Last Changed Date: 2020-04-27 14:54:50 -0400
malbec1 Linux (Ubuntu 18.04.4 LTS) / x86_64  OK  OK  OK UNNEEDED, same version exists in internal repository
tokay1 Windows Server 2012 R2 Standard / x64  OK  OK  OK  OK UNNEEDED, same version exists in internal repository
merida1 macOS 10.14.6 Mojave / x86_64  OK  OK  OK  OK UNNEEDED, same version exists in internal repository
Package 243/1882HostnameOS / ArchINSTALLBUILDCHECKBUILD BIN
CellMapper 1.15.0
Brad Nelms
Last Commit: 74e8372
Last Changed Date: 2020-04-27 15:00:27 -0400
malbec1 Linux (Ubuntu 18.04.4 LTS) / x86_64  OK  OK  WARNINGS UNNEEDED, same version exists in internal repository
tokay1 Windows Server 2012 R2 Standard / x64  OK  OK  WARNINGS  OK UNNEEDED, same version exists in internal repository
merida1 macOS 10.14.6 Mojave / x86_64  OK  OK  WARNINGS  OK UNNEEDED, same version exists in internal repository
Package 244/1882HostnameOS / ArchINSTALLBUILDCHECKBUILD BIN
CellMixS 1.5.1
Almut Lütge
Last Commit: b80e0e5
Last Changed Date: 2020-07-08 10:21:47 -0400
malbec1 Linux (Ubuntu 18.04.4 LTS) / x86_64  OK  OK  OK UNNEEDED, same version exists in internal repository
tokay1 Windows Server 2012 R2 Standard / x64  OK  OK  OK  OK UNNEEDED, same version exists in internal repository
merida1 macOS 10.14.6 Mojave / x86_64  OK  OK  OK  OK UNNEEDED, same version exists in internal repository
Package 245/1882HostnameOS / ArchINSTALLBUILDCHECKBUILD BIN
CellNOptR 1.35.0
A.Gabor
Last Commit: 124d322
Last Changed Date: 2020-04-27 14:27:42 -0400
malbec1 Linux (Ubuntu 18.04.4 LTS) / x86_64  OK  OK  WARNINGS UNNEEDED, same version exists in internal repository
tokay1 Windows Server 2012 R2 Standard / x64  OK  OK  WARNINGS  OK UNNEEDED, same version exists in internal repository
merida1 macOS 10.14.6 Mojave / x86_64  OK  OK  WARNINGS  OK UNNEEDED, same version exists in internal repository
Package 246/1882HostnameOS / ArchINSTALLBUILDCHECKBUILD BIN
cellscape 1.13.0
Maia Smith
Last Commit: 3333ded
Last Changed Date: 2020-04-27 15:05:30 -0400
malbec1 Linux (Ubuntu 18.04.4 LTS) / x86_64  OK  OK  WARNINGS UNNEEDED, same version exists in internal repository
tokay1 Windows Server 2012 R2 Standard / x64  OK  OK  WARNINGS  OK UNNEEDED, same version exists in internal repository
merida1 macOS 10.14.6 Mojave / x86_64  OK  OK  WARNINGS  OK UNNEEDED, same version exists in internal repository
Package 247/1882HostnameOS / ArchINSTALLBUILDCHECKBUILD BIN
CellScore 1.9.0
Nancy Mah
Last Commit: c066da8
Last Changed Date: 2020-04-27 15:13:55 -0400
malbec1 Linux (Ubuntu 18.04.4 LTS) / x86_64  OK  OK  OK UNNEEDED, same version exists in internal repository
tokay1 Windows Server 2012 R2 Standard / x64  OK  OK  OK  OK UNNEEDED, same version exists in internal repository
merida1 macOS 10.14.6 Mojave / x86_64  OK  OK  OK  OK UNNEEDED, same version exists in internal repository
Package 248/1882HostnameOS / ArchINSTALLBUILDCHECKBUILD BIN
CellTrails 1.7.1
Daniel Ellwanger
Last Commit: d66623c
Last Changed Date: 2020-05-10 19:41:47 -0400
malbec1 Linux (Ubuntu 18.04.4 LTS) / x86_64  OK  OK  OK UNNEEDED, same version exists in internal repository
tokay1 Windows Server 2012 R2 Standard / x64  OK  OK  OK  OK UNNEEDED, same version exists in internal repository
merida1 macOS 10.14.6 Mojave / x86_64  OK  OK  OK  OK UNNEEDED, same version exists in internal repository
Package 249/1882HostnameOS / ArchINSTALLBUILDCHECKBUILD BIN
cellTree 1.19.0
David duVerle
Last Commit: 2b8fe2d
Last Changed Date: 2020-04-27 14:53:44 -0400
malbec1 Linux (Ubuntu 18.04.4 LTS) / x86_64  OK  OK  OK UNNEEDED, same version exists in internal repository
tokay1 Windows Server 2012 R2 Standard / x64  OK  OK  TIMEOUT  OK 
merida1 macOS 10.14.6 Mojave / x86_64  OK  OK  OK  OK UNNEEDED, same version exists in internal repository
Package 250/1882HostnameOS / ArchINSTALLBUILDCHECKBUILD BIN
CEMiTool 1.13.1
Helder Nakaya
Last Commit: 18c5654
Last Changed Date: 2020-07-02 12:14:01 -0400
malbec1 Linux (Ubuntu 18.04.4 LTS) / x86_64  OK  OK  OK UNNEEDED, same version exists in internal repository
tokay1 Windows Server 2012 R2 Standard / x64  OK  OK  OK  OK UNNEEDED, same version exists in internal repository
merida1 macOS 10.14.6 Mojave / x86_64  OK  OK  OK  OK UNNEEDED, same version exists in internal repository
Package 251/1882HostnameOS / ArchINSTALLBUILDCHECKBUILD BIN
ceRNAnetsim 1.1.0
Selcen Ari Yuka
Last Commit: 8ace956
Last Changed Date: 2020-04-27 15:32:45 -0400
malbec1 Linux (Ubuntu 18.04.4 LTS) / x86_64  OK  OK  OK UNNEEDED, same version exists in internal repository
tokay1 Windows Server 2012 R2 Standard / x64  OK  OK  OK  OK UNNEEDED, same version exists in internal repository
merida1 macOS 10.14.6 Mojave / x86_64  OK  OK  OK  OK UNNEEDED, same version exists in internal repository
Package 252/1882HostnameOS / ArchINSTALLBUILDCHECKBUILD BIN
CeTF 1.1.2
Carlos Alberto Oliveira de Biagi Junior
Last Commit: c01e721
Last Changed Date: 2020-05-31 13:38:17 -0400
malbec1 Linux (Ubuntu 18.04.4 LTS) / x86_64  OK  OK  OK UNNEEDED, same version exists in internal repository
tokay1 Windows Server 2012 R2 Standard / x64  OK  OK  OK  OK UNNEEDED, same version exists in internal repository
merida1 macOS 10.14.6 Mojave / x86_64  OK  OK  OK  OK UNNEEDED, same version exists in internal repository
Package 253/1882HostnameOS / ArchINSTALLBUILDCHECKBUILD BIN
CexoR 1.27.1
Pedro Madrigal
Last Commit: a9b251d
Last Changed Date: 2020-06-30 07:24:53 -0400
malbec1 Linux (Ubuntu 18.04.4 LTS) / x86_64  OK  OK  OK UNNEEDED, same version exists in internal repository
tokay1 Windows Server 2012 R2 Standard / x64  OK  OK  OK  OK UNNEEDED, same version exists in internal repository
merida1 macOS 10.14.6 Mojave / x86_64  OK  OK  OK  OK UNNEEDED, same version exists in internal repository
Package 254/1882HostnameOS / ArchINSTALLBUILDCHECKBUILD BIN
CFAssay 1.23.0
Herbert Braselmann
Last Commit: bc395b1
Last Changed Date: 2020-04-27 14:45:10 -0400
malbec1 Linux (Ubuntu 18.04.4 LTS) / x86_64  OK  OK  OK UNNEEDED, same version exists in internal repository
tokay1 Windows Server 2012 R2 Standard / x64  OK  OK  OK  OK UNNEEDED, same version exists in internal repository
merida1 macOS 10.14.6 Mojave / x86_64  OK  OK  OK  OK UNNEEDED, same version exists in internal repository
Package 255/1882HostnameOS / ArchINSTALLBUILDCHECKBUILD BIN
CGEN 3.25.1
William Wheeler
Last Commit: adf5934
Last Changed Date: 2020-06-01 09:59:32 -0400
malbec1 Linux (Ubuntu 18.04.4 LTS) / x86_64  OK  OK  ERROR 
tokay1 Windows Server 2012 R2 Standard / x64  OK  OK  ERROR  OK 
merida1 macOS 10.14.6 Mojave / x86_64  OK  OK  ERROR  OK 
Package 256/1882HostnameOS / ArchINSTALLBUILDCHECKBUILD BIN
CGHbase 1.49.0
Mark van de Wiel
Last Commit: a77a421
Last Changed Date: 2020-04-27 14:17:17 -0400
malbec1 Linux (Ubuntu 18.04.4 LTS) / x86_64  OK  OK  OK UNNEEDED, same version exists in internal repository
tokay1 Windows Server 2012 R2 Standard / x64  OK  OK  WARNINGS  OK UNNEEDED, same version exists in internal repository
merida1 macOS 10.14.6 Mojave / x86_64  OK  OK  OK  OK UNNEEDED, same version exists in internal repository
Package 257/1882HostnameOS / ArchINSTALLBUILDCHECKBUILD BIN
CGHcall 2.51.0
Mark van de Wiel
Last Commit: 66e382c
Last Changed Date: 2020-04-27 14:15:39 -0400
malbec1 Linux (Ubuntu 18.04.4 LTS) / x86_64  OK  OK  OK UNNEEDED, same version exists in internal repository
tokay1 Windows Server 2012 R2 Standard / x64  OK  OK  OK  OK UNNEEDED, same version exists in internal repository
merida1 macOS 10.14.6 Mojave / x86_64  OK  OK  OK  OK UNNEEDED, same version exists in internal repository
Package 258/1882HostnameOS / ArchINSTALLBUILDCHECKBUILD BIN
cghMCR 1.47.0
J. Zhang
Last Commit: ac6f1bb
Last Changed Date: 2020-04-27 14:13:14 -0400
malbec1 Linux (Ubuntu 18.04.4 LTS) / x86_64  OK  OK  WARNINGS UNNEEDED, same version exists in internal repository
tokay1 Windows Server 2012 R2 Standard / x64  OK  OK  WARNINGS  OK UNNEEDED, same version exists in internal repository
merida1 macOS 10.14.6 Mojave / x86_64  OK  OK  WARNINGS  OK UNNEEDED, same version exists in internal repository
Package 259/1882HostnameOS / ArchINSTALLBUILDCHECKBUILD BIN
CGHnormaliter 1.43.0
Bart P.P. van Houte
Last Commit: 56b60be
Last Changed Date: 2020-04-27 14:20:11 -0400
malbec1 Linux (Ubuntu 18.04.4 LTS) / x86_64  OK  OK  OK UNNEEDED, same version exists in internal repository
tokay1 Windows Server 2012 R2 Standard / x64  OK  OK  OK  OK UNNEEDED, same version exists in internal repository
merida1 macOS 10.14.6 Mojave / x86_64  OK  OK  OK  OK UNNEEDED, same version exists in internal repository
Package 260/1882HostnameOS / ArchINSTALLBUILDCHECKBUILD BIN
CGHregions 1.47.0
Sjoerd Vosse
Last Commit: da162cb
Last Changed Date: 2020-04-27 14:17:20 -0400
malbec1 Linux (Ubuntu 18.04.4 LTS) / x86_64  OK  OK  OK UNNEEDED, same version exists in internal repository
tokay1 Windows Server 2012 R2 Standard / x64  OK  OK  OK  OK UNNEEDED, same version exists in internal repository
merida1 macOS 10.14.6 Mojave / x86_64  OK  OK  OK  OK UNNEEDED, same version exists in internal repository
Package 261/1882HostnameOS / ArchINSTALLBUILDCHECKBUILD BIN
ChAMP 2.19.3
Yuan Tian
Last Commit: d524139
Last Changed Date: 2020-05-28 07:35:49 -0400
malbec1 Linux (Ubuntu 18.04.4 LTS) / x86_64  ERROR  ERROR  skipped 
tokay1 Windows Server 2012 R2 Standard / x64  ERROR  ERROR  skipped  skipped 
merida1 macOS 10.14.6 Mojave / x86_64  ERROR  ERROR  skipped  skipped 
Package 262/1882HostnameOS / ArchINSTALLBUILDCHECKBUILD BIN
CHARGE 1.9.1
Benjamin Mayne
Last Commit: eadf39e
Last Changed Date: 2020-06-08 10:06:16 -0400
malbec1 Linux (Ubuntu 18.04.4 LTS) / x86_64  ERROR  ERROR  skipped 
tokay1 Windows Server 2012 R2 Standard / x64  ERROR  ERROR  skipped  skipped 
merida1 macOS 10.14.6 Mojave / x86_64  ERROR  ERROR  skipped  skipped 
Package 263/1882HostnameOS / ArchINSTALLBUILDCHECKBUILD BIN
ChemmineOB 1.27.1
Thomas Girke
Last Commit: 07550fb
Last Changed Date: 2020-05-06 18:39:47 -0400
malbec1 Linux (Ubuntu 18.04.4 LTS) / x86_64  ERROR  ERROR  skipped 
tokay1 Windows Server 2012 R2 Standard / x64  ERROR  ERROR  skipped  skipped 
merida1 macOS 10.14.6 Mojave / x86_64  ERROR  ERROR  skipped  skipped 
Package 264/1882HostnameOS / ArchINSTALLBUILDCHECKBUILD BIN
ChemmineR 3.41.0
Thomas Girke
Last Commit: d62c204
Last Changed Date: 2020-04-27 14:18:14 -0400
malbec1 Linux (Ubuntu 18.04.4 LTS) / x86_64  OK  ERROR  skipped 
tokay1 Windows Server 2012 R2 Standard / x64  OK  ERROR  skipped  skipped 
merida1 macOS 10.14.6 Mojave / x86_64  OK  ERROR  skipped  skipped 
Package 265/1882HostnameOS / ArchINSTALLBUILDCHECKBUILD BIN
CHETAH 1.5.0
Jurrian de Kanter
Last Commit: f10a8b9
Last Changed Date: 2020-04-27 15:24:40 -0400
malbec1 Linux (Ubuntu 18.04.4 LTS) / x86_64  OK  OK  OK UNNEEDED, same version exists in internal repository
tokay1 Windows Server 2012 R2 Standard / x64  OK  OK  OK  OK UNNEEDED, same version exists in internal repository
merida1 macOS 10.14.6 Mojave / x86_64  OK  OK  OK  OK UNNEEDED, same version exists in internal repository
Package 266/1882HostnameOS / ArchINSTALLBUILDCHECKBUILD BIN
ChIC 1.9.0
Carmen Maria Livi
Last Commit: 6e3b94c
Last Changed Date: 2020-04-27 15:15:51 -0400
malbec1 Linux (Ubuntu 18.04.4 LTS) / x86_64  OK  OK  OK UNNEEDED, same version exists in internal repository
tokay1 Windows Server 2012 R2 Standard / x64 ...NOT SUPPORTED...
merida1 macOS 10.14.6 Mojave / x86_64  OK  OK  OK  OK UNNEEDED, same version exists in internal repository
Package 267/1882HostnameOS / ArchINSTALLBUILDCHECKBUILD BIN
Chicago 1.17.0
Mikhail Spivakov
Last Commit: 05d4c19
Last Changed Date: 2020-07-23 06:49:54 -0400
malbec1 Linux (Ubuntu 18.04.4 LTS) / x86_64  OK  OK  OK UNNEEDED, same version exists in internal repository
tokay1 Windows Server 2012 R2 Standard / x64  OK  OK  OK  OK UNNEEDED, same version exists in internal repository
merida1 macOS 10.14.6 Mojave / x86_64  OK  OK  OK  OK UNNEEDED, same version exists in internal repository
Package 268/1882HostnameOS / ArchINSTALLBUILDCHECKBUILD BIN
chimera 1.31.1
Raffaele A Calogero
Last Commit: f48abc1
Last Changed Date: 2020-06-01 10:00:40 -0400
malbec1 Linux (Ubuntu 18.04.4 LTS) / x86_64  OK  OK  WARNINGS UNNEEDED, same version exists in internal repository
tokay1 Windows Server 2012 R2 Standard / x64  OK  ERROR  skipped  skipped 
merida1 macOS 10.14.6 Mojave / x86_64  OK  OK  WARNINGS  OK UNNEEDED, same version exists in internal repository
Package 269/1882HostnameOS / ArchINSTALLBUILDCHECKBUILD BIN
chimeraviz 1.15.0
Stian Lågstad
Last Commit: 82f67eb
Last Changed Date: 2020-05-24 06:06:11 -0400
malbec1 Linux (Ubuntu 18.04.4 LTS) / x86_64  OK  OK  OK UNNEEDED, same version exists in internal repository
tokay1 Windows Server 2012 R2 Standard / x64  OK  OK  OK  OK UNNEEDED, same version exists in internal repository
merida1 macOS 10.14.6 Mojave / x86_64  OK  ERROR  skipped  skipped 
Package 270/1882HostnameOS / ArchINSTALLBUILDCHECKBUILD BIN
ChIPanalyser 1.11.0
Patrick C.N. Martin
Last Commit: e6bd584
Last Changed Date: 2020-04-27 15:09:59 -0400
malbec1 Linux (Ubuntu 18.04.4 LTS) / x86_64  OK  OK  OK UNNEEDED, same version exists in internal repository
tokay1 Windows Server 2012 R2 Standard / x64  OK  OK  WARNINGS  OK UNNEEDED, same version exists in internal repository
merida1 macOS 10.14.6 Mojave / x86_64  OK  OK  OK  OK UNNEEDED, same version exists in internal repository
Package 271/1882HostnameOS / ArchINSTALLBUILDCHECKBUILD BIN
ChIPComp 1.19.0
Li Chen
Last Commit: 56a85ce
Last Changed Date: 2020-04-27 14:50:44 -0400
malbec1 Linux (Ubuntu 18.04.4 LTS) / x86_64  OK  OK  OK UNNEEDED, same version exists in internal repository
tokay1 Windows Server 2012 R2 Standard / x64  OK  OK  OK  OK UNNEEDED, same version exists in internal repository
merida1 macOS 10.14.6 Mojave / x86_64  OK  OK  OK  OK UNNEEDED, same version exists in internal repository
Package 272/1882HostnameOS / ArchINSTALLBUILDCHECKBUILD BIN
chipenrich 2.13.0
Raymond G. Cavalcante
Last Commit: db9c777
Last Changed Date: 2020-04-27 14:36:13 -0400
malbec1 Linux (Ubuntu 18.04.4 LTS) / x86_64  OK  OK  OK UNNEEDED, same version exists in internal repository
tokay1 Windows Server 2012 R2 Standard / x64  OK  OK  OK  OK UNNEEDED, same version exists in internal repository
merida1 macOS 10.14.6 Mojave / x86_64  OK  OK  OK  OK UNNEEDED, same version exists in internal repository
Package 273/1882HostnameOS / ArchINSTALLBUILDCHECKBUILD BIN
ChIPexoQual 1.13.0
Rene Welch
Last Commit: ed85e18
Last Changed Date: 2020-04-27 15:04:47 -0400
malbec1 Linux (Ubuntu 18.04.4 LTS) / x86_64  OK  OK  OK UNNEEDED, same version exists in internal repository
tokay1 Windows Server 2012 R2 Standard / x64  OK  OK  OK  OK UNNEEDED, same version exists in internal repository
merida1 macOS 10.14.6 Mojave / x86_64  OK  OK  OK  OK UNNEEDED, same version exists in internal repository
Package 274/1882HostnameOS / ArchINSTALLBUILDCHECKBUILD BIN
ChIPpeakAnno 3.23.4
Lihua Julie Zhu
Last Commit: 538e556
Last Changed Date: 2020-08-04 12:43:36 -0400
malbec1 Linux (Ubuntu 18.04.4 LTS) / x86_64  OK  OK  OK UNNEEDED, same version exists in internal repository
tokay1 Windows Server 2012 R2 Standard / x64  OK  OK  OK  OK UNNEEDED, same version exists in internal repository
merida1 macOS 10.14.6 Mojave / x86_64  OK  OK  OK  OK UNNEEDED, same version exists in internal repository
Package 275/1882HostnameOS / ArchINSTALLBUILDCHECKBUILD BIN
ChIPQC 1.25.2
Tom Carroll , Rory Stark
Last Commit: bd13ca8
Last Changed Date: 2020-07-18 12:34:52 -0400
malbec1 Linux (Ubuntu 18.04.4 LTS) / x86_64  OK  OK  WARNINGS UNNEEDED, same version exists in internal repository
tokay1 Windows Server 2012 R2 Standard / x64  OK  OK  WARNINGS  OK UNNEEDED, same version exists in internal repository
merida1 macOS 10.14.6 Mojave / x86_64  OK  OK  WARNINGS  OK UNNEEDED, same version exists in internal repository
Package 276/1882HostnameOS / ArchINSTALLBUILDCHECKBUILD BIN
ChIPseeker 1.25.0
Guangchuang Yu
Last Commit: 1a47dba
Last Changed Date: 2020-04-27 23:36:28 -0400
malbec1 Linux (Ubuntu 18.04.4 LTS) / x86_64  OK  OK  OK UNNEEDED, same version exists in internal repository
tokay1 Windows Server 2012 R2 Standard / x64  OK  OK  WARNINGS  OK UNNEEDED, same version exists in internal repository
merida1 macOS 10.14.6 Mojave / x86_64  OK  OK  OK  OK UNNEEDED, same version exists in internal repository
Package 277/1882HostnameOS / ArchINSTALLBUILDCHECKBUILD BIN