Back to Multiple platform build/check report for BioC 3.12
AB[C]DEFGHIJKLMNOPQRSTUVWXYZ

CHECK report for CFAssay on merida1

This page was generated on 2020-09-20 10:21:53 -0400 (Sun, 20 Sep 2020).

TO THE DEVELOPERS/MAINTAINERS OF THE CFAssay PACKAGE: Please make sure to use the following settings in order to reproduce any error or warning you see on this page.
Package 256/1912HostnameOS / ArchINSTALLBUILDCHECKBUILD BIN
CFAssay 1.23.0
Herbert Braselmann
Snapshot Date: 2020-09-19 14:40:23 -0400 (Sat, 19 Sep 2020)
URL: https://git.bioconductor.org/packages/CFAssay
Branch: master
Last Commit: bc395b1
Last Changed Date: 2020-04-27 14:45:10 -0400 (Mon, 27 Apr 2020)
malbec1 Linux (Ubuntu 18.04.4 LTS) / x86_64  OK  OK  OK UNNEEDED, same version exists in internal repository
nebbiolo1 Linux (Ubuntu 20.04.1 LTS) / x86_64  OK  OK  OK 
tokay1 Windows Server 2012 R2 Standard / x64  OK  OK  OK  OK UNNEEDED, same version exists in internal repository
riesling1 Windows Server 2019 Standard / x64  OK  OK  OK  OK 
merida1 macOS 10.14.6 Mojave / x86_64  OK  OK [ OK ] OK UNNEEDED, same version exists in internal repository

Summary

Package: CFAssay
Version: 1.23.0
Command: /Library/Frameworks/R.framework/Versions/Current/Resources/bin/R CMD check --install=check:CFAssay.install-out.txt --library=/Library/Frameworks/R.framework/Versions/Current/Resources/library --no-vignettes --timings CFAssay_1.23.0.tar.gz
StartedAt: 2020-09-20 01:53:47 -0400 (Sun, 20 Sep 2020)
EndedAt: 2020-09-20 01:54:20 -0400 (Sun, 20 Sep 2020)
EllapsedTime: 33.7 seconds
RetCode: 0
Status:  OK 
CheckDir: CFAssay.Rcheck
Warnings: 0

Command output

##############################################################################
##############################################################################
###
### Running command:
###
###   /Library/Frameworks/R.framework/Versions/Current/Resources/bin/R CMD check --install=check:CFAssay.install-out.txt --library=/Library/Frameworks/R.framework/Versions/Current/Resources/library --no-vignettes --timings CFAssay_1.23.0.tar.gz
###
##############################################################################
##############################################################################


* using log directory ‘/Users/biocbuild/bbs-3.12-bioc/meat/CFAssay.Rcheck’
* using R version 4.0.2 (2020-06-22)
* using platform: x86_64-apple-darwin17.0 (64-bit)
* using session charset: UTF-8
* using option ‘--no-vignettes’
* checking for file ‘CFAssay/DESCRIPTION’ ... OK
* checking extension type ... Package
* this is package ‘CFAssay’ version ‘1.23.0’
* checking package namespace information ... OK
* checking package dependencies ... OK
* checking if this is a source package ... OK
* checking if there is a namespace ... OK
* checking for hidden files and directories ... OK
* checking for portable file names ... OK
* checking for sufficient/correct file permissions ... OK
* checking whether package ‘CFAssay’ can be installed ... OK
* checking installed package size ... OK
* checking package directory ... OK
* checking ‘build’ directory ... OK
* checking DESCRIPTION meta-information ... OK
* checking top-level files ... OK
* checking for left-over files ... OK
* checking index information ... OK
* checking package subdirectories ... OK
* checking R files for non-ASCII characters ... OK
* checking R files for syntax errors ... OK
* checking whether the package can be loaded ... OK
* checking whether the package can be loaded with stated dependencies ... OK
* checking whether the package can be unloaded cleanly ... OK
* checking whether the namespace can be loaded with stated dependencies ... OK
* checking whether the namespace can be unloaded cleanly ... OK
* checking dependencies in R code ... OK
* checking S3 generic/method consistency ... NOTE
Found the following apparent S3 methods exported but not registered:
  plotExp.default
See section ‘Registering S3 methods’ in the ‘Writing R Extensions’
manual.
* checking replacement functions ... OK
* checking foreign function calls ... OK
* checking R code for possible problems ... NOTE
cellsurvLQdiff : fitLQ.MLdiff: no visible global function definition
  for ‘glm’
cellsurvLQdiff : fitLQ.MLdiff: no visible global function definition
  for ‘quasipoisson’
cellsurvLQdiff : fitLQ.MLdiff: no visible global function definition
  for ‘anova’
cellsurvLQdiff : fitLQ.LSdiff: no visible global function definition
  for ‘lm’
cellsurvLQdiff : fitLQ.LSdiff: no visible global function definition
  for ‘anova’
cellsurvLQdiff : fitLQ1.MLdiff: no visible global function definition
  for ‘glm’
cellsurvLQdiff : fitLQ1.MLdiff: no visible global function definition
  for ‘quasipoisson’
cellsurvLQdiff : fitLQ1.MLdiff: no visible global function definition
  for ‘anova’
cellsurvLQdiff : fitLQ1.LSdiff: no visible global function definition
  for ‘lm’
cellsurvLQdiff : fitLQ1.LSdiff: no visible global function definition
  for ‘anova’
cellsurvLQdiff : fitLQ1.LSdiffFr: no visible global function definition
  for ‘lm’
cellsurvLQdiff : fitLQ1.LSdiffFr: no visible global function definition
  for ‘anova’
cellsurvLQfit : fitLQ.ML: no visible global function definition for
  ‘glm’
cellsurvLQfit : fitLQ.ML: no visible global function definition for
  ‘quasipoisson’
cellsurvLQfit : fitLQ.LS: no visible global function definition for
  ‘lm’
cellsurvLQfit : fitLQ1.ML: no visible global function definition for
  ‘glm’
cellsurvLQfit : fitLQ1.ML: no visible global function definition for
  ‘quasipoisson’
cellsurvLQfit : fitLQ1.LS: no visible global function definition for
  ‘lm’
cellsurvLQfit : fitLQ1.LSfr: no visible global function definition for
  ‘lm’
cfa2way: no visible global function definition for ‘formula’
cfa2way: no visible global function definition for ‘glm’
cfa2way: no visible global function definition for ‘quasipoisson’
cfa2way: no visible global function definition for ‘anova’
cfa2way: no visible global function definition for ‘lm’
pes : <anonymous>: no visible global function definition for ‘glm’
pes : <anonymous>: no visible global function definition for
  ‘quasipoisson’
pes : <anonymous>: no visible global function definition for ‘lm’
pes : <anonymous>: no visible binding for global variable ‘logPle’
plot.cellsurvLQfit: no visible global function definition for ‘par’
plot.cellsurvLQfit: no visible global function definition for ‘curve’
plot.cellsurvLQfit: no visible global function definition for ‘points’
plot.cellsurvLQfit: no visible global function definition for
  ‘segments’
plotExp.cellsurvLQfit: no visible global function definition for ‘par’
plotExp.cellsurvLQfit: no visible global function definition for ‘glm’
plotExp.cellsurvLQfit: no visible global function definition for
  ‘quasipoisson’
plotExp.cellsurvLQfit: no visible global function definition for
  ‘segments’
plotExp.cellsurvLQfit: no visible global function definition for
  ‘curve’
plotExp.cellsurvLQfit: no visible global function definition for
  ‘legend’
plotExp.cellsurvLQfit: no visible global function definition for ‘text’
plotExp.cellsurvLQfit: no visible global function definition for
  ‘title’
plotExp.cellsurvLQfit: no visible global function definition for ‘lm’
plotExp.cfa2way: no visible global function definition for ‘par’
plotExp.cfa2way: no visible global function definition for ‘barplot’
plotExp.cfa2way: no visible global function definition for ‘points’
plotExp.cfa2way: no visible global function definition for ‘segments’
plotExp.cfa2way: no visible global function definition for ‘text’
plotExp.cfa2way: no visible global function definition for ‘title’
plotExp.cfa2way: no visible global function definition for ‘box’
sfpmean : sf.mean: no visible global function definition for ‘glm’
sfpmean : sf.mean: no visible global function definition for
  ‘quasipoisson’
sfpmean : sf.mean: no visible global function definition for ‘poisson’
Undefined global functions or variables:
  anova barplot box curve formula glm legend lm logPle par points
  poisson quasipoisson segments text title
Consider adding
  importFrom("graphics", "barplot", "box", "curve", "legend", "par",
             "points", "segments", "text", "title")
  importFrom("stats", "anova", "formula", "glm", "lm", "poisson",
             "quasipoisson")
to your NAMESPACE file.
* checking Rd files ... OK
* checking Rd metadata ... OK
* checking Rd cross-references ... OK
* checking for missing documentation entries ... OK
* checking for code/documentation mismatches ... OK
* checking Rd \usage sections ... OK
* checking Rd contents ... OK
* checking for unstated dependencies in examples ... OK
* checking sizes of PDF files under ‘inst/doc’ ... OK
* checking installed files from ‘inst/doc’ ... OK
* checking files in ‘vignettes’ ... OK
* checking examples ... OK
* checking for unstated dependencies in vignettes ... OK
* checking package vignettes in ‘inst/doc’ ... OK
* checking running R code from vignettes ... SKIPPED
* checking re-building of vignette outputs ... SKIPPED
* checking PDF version of manual ... OK
* DONE

Status: 2 NOTEs
See
  ‘/Users/biocbuild/bbs-3.12-bioc/meat/CFAssay.Rcheck/00check.log’
for details.



Installation output

CFAssay.Rcheck/00install.out

##############################################################################
##############################################################################
###
### Running command:
###
###   /Library/Frameworks/R.framework/Versions/Current/Resources/bin/R CMD INSTALL CFAssay
###
##############################################################################
##############################################################################


* installing to library ‘/Library/Frameworks/R.framework/Versions/4.0/Resources/library’
* installing *source* package ‘CFAssay’ ...
** using staged installation
** R
** inst
** byte-compile and prepare package for lazy loading
** help
*** installing help indices
** building package indices
** installing vignettes
   ‘cfassay.Rnw’ using ‘UTF-8’ 
** testing if installed package can be loaded from temporary location
** testing if installed package can be loaded from final location
** testing if installed package keeps a record of temporary installation path
* DONE (CFAssay)

Tests output


Example timings

CFAssay.Rcheck/CFAssay-Ex.timings

nameusersystemelapsed
cellsurvLQdiff0.3910.0190.412
cellsurvLQfit0.0670.0110.079
cfa2way0.0460.0040.051
pes0.0920.0010.093
plot.cellsurvLQfit0.3850.0030.388
plotExp0.0940.0080.102
plotExp.cellsurvLQfit0.1060.0110.117
plotExp.cfa2way0.0590.0070.066
plotExp.default0.0960.0080.104
print.cellsurvLQdiff0.1090.0110.120
print.cellsurvLQfit0.0580.0090.067
print.cfa2way0.0270.0030.030
sfpmean0.1330.0020.135