Back to Multiple platform build/check report for BioC 3.12
ABCDEFGHIJKLMNO[P]QRSTUVWXYZ

BUILD report for PING on tokay1

This page was generated on 2021-01-19 11:56:03 -0500 (Tue, 19 Jan 2021).

TO THE DEVELOPERS/MAINTAINERS OF THE PING PACKAGE: Please make sure to use the following settings in order to reproduce any error or warning you see on this page.
Package 1350/1974HostnameOS / ArchINSTALLBUILDCHECKBUILD BIN
PING 2.34.0
Renan Sauteraud
Snapshot Date: 2021-01-18 14:42:24 -0500 (Mon, 18 Jan 2021)
URL: https://git.bioconductor.org/packages/PING
Branch: RELEASE_3_12
Last Commit: e862317
Last Changed Date: 2020-10-27 10:44:58 -0500 (Tue, 27 Oct 2020)
malbec1 Linux (Ubuntu 18.04.5 LTS) / x86_64  OK  OK  WARNINGS UNNEEDED, same version exists in internal repository
nebbiolo1 Linux (Ubuntu 20.04.1 LTS) / x86_64  OK  OK  WARNINGS 
tokay1 Windows Server 2012 R2 Standard / x64  OK [ OK ] WARNINGS  OK UNNEEDED, same version exists in internal repository
merida1 macOS 10.14.6 Mojave / x86_64  OK  OK  WARNINGS  OK UNNEEDED, same version exists in internal repository

Summary

Package: PING
Version: 2.34.0
Command: chmod a+r PING -R && C:\Users\biocbuild\bbs-3.12-bioc\R\bin\R.exe CMD build --keep-empty-dirs --no-resave-data PING
StartedAt: 2021-01-18 22:44:11 -0500 (Mon, 18 Jan 2021)
EndedAt: 2021-01-18 22:44:20 -0500 (Mon, 18 Jan 2021)
EllapsedTime: 9.1 seconds
RetCode: 0
Status:  OK  
PackageFile: PING_2.34.0.tar.gz
PackageFileSize: 4.51 MiB

Command output

##############################################################################
##############################################################################
###
### Running command:
###
###   chmod a+r PING -R && C:\Users\biocbuild\bbs-3.12-bioc\R\bin\R.exe CMD build --keep-empty-dirs --no-resave-data PING
###
##############################################################################
##############################################################################


* checking for file 'PING/DESCRIPTION' ... OK
* preparing 'PING':
* checking DESCRIPTION meta-information ... OK
* cleaning src
* checking for LF line-endings in source and make files and shell scripts
* checking for empty or unneeded directories
* building 'PING_2.34.0.tar.gz'
Warning: file 'PING/cleanup' did not have execute permissions: corrected
Warning: file 'PING/configure' did not have execute permissions: corrected