Back to Multiple platform build/check report for BioC 3.12
[A]BCDEFGHIJKLMNOPQRSTUVWXYZ

BUILD report for artMS on malbec1

This page was generated on 2020-10-14 11:10:36 -0400 (Wed, 14 Oct 2020).

TO THE DEVELOPERS/MAINTAINERS OF THE artMS PACKAGE: Please make sure to use the following settings in order to reproduce any error or warning you see on this page.
Package 85/1930HostnameOS / ArchINSTALLBUILDCHECKBUILD BIN
artMS 1.7.5
David Jimenez-Morales
Snapshot Date: 2020-10-13 14:40:34 -0400 (Tue, 13 Oct 2020)
URL: https://git.bioconductor.org/packages/artMS
Branch: master
Last Commit: 4ab9bd7
Last Changed Date: 2020-05-21 01:16:54 -0400 (Thu, 21 May 2020)
malbec1 Linux (Ubuntu 18.04.4 LTS) / x86_64  OK [ OK ] WARNINGS UNNEEDED, same version exists in internal repository
nebbiolo1 Linux (Ubuntu 20.04.1 LTS) / x86_64  OK  OK  WARNINGS 
tokay1 Windows Server 2012 R2 Standard / x64  OK  OK  WARNINGS  NA 
riesling1 Windows Server 2019 Standard / x64  OK  OK  WARNINGS  OK 
merida1 macOS 10.14.6 Mojave / x86_64  OK  OK  WARNINGS  NA 

Summary

Package: artMS
Version: 1.7.5
Command: /home/biocbuild/bbs-3.12-bioc/R/bin/R CMD build --keep-empty-dirs --no-resave-data artMS
StartedAt: 2020-10-13 21:41:55 -0400 (Tue, 13 Oct 2020)
EndedAt: 2020-10-13 21:43:24 -0400 (Tue, 13 Oct 2020)
EllapsedTime: 89.0 seconds
RetCode: 0
Status:  OK 
PackageFile: artMS_1.7.5.tar.gz
PackageFileSize: 7.554 MiB

Command output

##############################################################################
##############################################################################
###
### Running command:
###
###   /home/biocbuild/bbs-3.12-bioc/R/bin/R CMD build --keep-empty-dirs --no-resave-data artMS
###
##############################################################################
##############################################################################


* checking for file ‘artMS/DESCRIPTION’ ... OK
* preparing ‘artMS’:
* checking DESCRIPTION meta-information ... OK
* installing the package to build vignettes
* creating vignettes ... OK
* checking for LF line-endings in source and make files and shell scripts
* checking for empty or unneeded directories
* building ‘artMS_1.7.5.tar.gz’