Back to Multiple platform build/check report for BioC 3.12
ABCDEFGHIJKLMNOPQ[R]STUVWXYZ

BUILD report for RCAS on merida1

This page was generated on 2020-08-07 12:34:55 -0400 (Fri, 07 Aug 2020).

TO THE DEVELOPERS/MAINTAINERS OF THE RCAS PACKAGE: Please make sure to use the following settings in order to reproduce any error or warning you see on this page.
Package 1404/1882HostnameOS / ArchINSTALLBUILDCHECKBUILD BIN
RCAS 1.15.0
Bora Uyar
Snapshot Date: 2020-08-06 14:50:46 -0400 (Thu, 06 Aug 2020)
URL: https://git.bioconductor.org/packages/RCAS
Branch: master
Last Commit: ec2d4f7
Last Changed Date: 2020-04-27 14:59:40 -0400 (Mon, 27 Apr 2020)
malbec1 Linux (Ubuntu 18.04.4 LTS) / x86_64  OK  OK  OK UNNEEDED, same version exists in internal repository
tokay1 Windows Server 2012 R2 Standard / x64  OK  OK  OK  OK UNNEEDED, same version exists in internal repository
merida1 macOS 10.14.6 Mojave / x86_64  OK [ OK ] OK  OK UNNEEDED, same version exists in internal repository

Summary

Package: RCAS
Version: 1.15.0
Command: /Library/Frameworks/R.framework/Versions/Current/Resources/bin/R CMD build --keep-empty-dirs --no-resave-data RCAS
StartedAt: 2020-08-06 20:12:07 -0400 (Thu, 06 Aug 2020)
EndedAt: 2020-08-06 20:15:04 -0400 (Thu, 06 Aug 2020)
EllapsedTime: 177.0 seconds
RetCode: 0
Status:  OK 
PackageFile: RCAS_1.15.0.tar.gz
PackageFileSize: 1.663 MiB

Command output

##############################################################################
##############################################################################
###
### Running command:
###
###   /Library/Frameworks/R.framework/Versions/Current/Resources/bin/R CMD build --keep-empty-dirs --no-resave-data RCAS
###
##############################################################################
##############################################################################


* checking for file ‘RCAS/DESCRIPTION’ ... OK
* preparing ‘RCAS’:
* checking DESCRIPTION meta-information ... OK
* installing the package to build vignettes
* creating vignettes ... OK
* checking for LF line-endings in source and make files and shell scripts
* checking for empty or unneeded directories
* building ‘RCAS_1.15.0.tar.gz’