Back to Multiple platform build/check report for BioC 3.12
AB[C]DEFGHIJKLMNOPQRSTUVWXYZ

BUILD BIN report for cellTree on merida1

This page was generated on 2020-08-12 11:59:12 -0400 (Wed, 12 Aug 2020).

TO THE DEVELOPERS/MAINTAINERS OF THE cellTree PACKAGE: Please make sure to use the following settings in order to reproduce any error or warning you see on this page.
Package 249/1885HostnameOS / ArchINSTALLBUILDCHECKBUILD BIN
cellTree 1.19.0
David duVerle
Snapshot Date: 2020-08-11 14:50:16 -0400 (Tue, 11 Aug 2020)
URL: https://git.bioconductor.org/packages/cellTree
Branch: master
Last Commit: 2b8fe2d
Last Changed Date: 2020-04-27 14:53:44 -0400 (Mon, 27 Apr 2020)
malbec1 Linux (Ubuntu 18.04.4 LTS) / x86_64  OK  OK  OK UNNEEDED, same version exists in internal repository
nebbiolo1 Linux (Ubuntu 20.04.1 LTS) / x86_64  OK  OK  OK 
tokay1 Windows Server 2012 R2 Standard / x64  OK  OK  TIMEOUT  OK 
merida1 macOS 10.14.6 Mojave / x86_64  OK  OK  OK [ OK ]UNNEEDED, same version exists in internal repository

Summary

Package: cellTree
Version: 1.19.0
Command: rm -rf cellTree.buildbin-libdir && mkdir cellTree.buildbin-libdir && /Users/biocbuild/BBS/utils/build-universal.sh cellTree_1.19.0.tar.gz /Library/Frameworks/R.framework/Versions/Current/Resources/bin/R cellTree.buildbin-libdir
StartedAt: 2020-08-12 07:29:02 -0400 (Wed, 12 Aug 2020)
EndedAt: 2020-08-12 07:30:04 -0400 (Wed, 12 Aug 2020)
EllapsedTime: 62.0 seconds
RetCode: 0
Status:  OK 
PackageFile: cellTree_1.19.0.tgz
PackageFileSize: 969.7 KiB

Command output

##############################################################################
##############################################################################
###
### Running command:
###
###   rm -rf cellTree.buildbin-libdir && mkdir cellTree.buildbin-libdir && /Users/biocbuild/BBS/utils/build-universal.sh cellTree_1.19.0.tar.gz /Library/Frameworks/R.framework/Versions/Current/Resources/bin/R cellTree.buildbin-libdir
###
##############################################################################
##############################################################################


>>>>>>> 
>>>>>>> INSTALLATION WITH 'R CMD INSTALL --preclean --no-multiarch --library=cellTree.buildbin-libdir cellTree_1.19.0.tar.gz'
>>>>>>> 

* installing *source* package ‘cellTree’ ...
** using staged installation
** R
** data
*** moving datasets to lazyload DB
** inst
** byte-compile and prepare package for lazy loading

groupGOTerms: 	GOBPTerm, GOMFTerm, GOCCTerm environments built.
** help
*** installing help indices
** building package indices
** installing vignettes
** testing if installed package can be loaded from temporary location

groupGOTerms: 	GOBPTerm, GOMFTerm, GOCCTerm environments built.
** testing if installed package can be loaded from final location

groupGOTerms: 	GOBPTerm, GOMFTerm, GOCCTerm environments built.
** testing if installed package keeps a record of temporary installation path
* DONE (cellTree)