Back to Multiple platform build/check report for BioC 3.12
[A]BCDEFGHIJKLMNOPQRSTUVWXYZ

CHECK report for AgiMicroRna on malbec1

This page was generated on 2020-12-01 11:53:20 -0500 (Tue, 01 Dec 2020).

TO THE DEVELOPERS/MAINTAINERS OF THE AgiMicroRna PACKAGE: Please make sure to use the following settings in order to reproduce any error or warning you see on this page.
Package 40/1974HostnameOS / ArchINSTALLBUILDCHECKBUILD BIN
AgiMicroRna 2.40.0
Pedro Lopez-Romero
Snapshot Date: 2020-11-30 14:42:56 -0500 (Mon, 30 Nov 2020)
URL: https://git.bioconductor.org/packages/AgiMicroRna
Branch: RELEASE_3_12
Last Commit: cfa4acb
Last Changed Date: 2020-10-27 10:36:25 -0500 (Tue, 27 Oct 2020)
malbec1 Linux (Ubuntu 18.04.4 LTS) / x86_64  OK  OK [ OK ]UNNEEDED, same version exists in internal repository
nebbiolo1 Linux (Ubuntu 20.04.1 LTS) / x86_64  OK  OK  OK 
tokay1 Windows Server 2012 R2 Standard / x64  OK  OK  OK  OK UNNEEDED, same version exists in internal repository
merida1 macOS 10.14.6 Mojave / x86_64  OK  OK  OK  OK UNNEEDED, same version exists in internal repository

Summary

Package: AgiMicroRna
Version: 2.40.0
Command: /home/biocbuild/bbs-3.12-bioc/R/bin/R CMD check --install=check:AgiMicroRna.install-out.txt --library=/home/biocbuild/bbs-3.12-bioc/R/library --no-vignettes --timings AgiMicroRna_2.40.0.tar.gz
StartedAt: 2020-11-30 23:29:51 -0500 (Mon, 30 Nov 2020)
EndedAt: 2020-11-30 23:38:00 -0500 (Mon, 30 Nov 2020)
EllapsedTime: 488.3 seconds
RetCode: 0
Status:  OK 
CheckDir: AgiMicroRna.Rcheck
Warnings: 0

Command output

##############################################################################
##############################################################################
###
### Running command:
###
###   /home/biocbuild/bbs-3.12-bioc/R/bin/R CMD check --install=check:AgiMicroRna.install-out.txt --library=/home/biocbuild/bbs-3.12-bioc/R/library --no-vignettes --timings AgiMicroRna_2.40.0.tar.gz
###
##############################################################################
##############################################################################


* using log directory ‘/home/biocbuild/bbs-3.12-bioc/meat/AgiMicroRna.Rcheck’
* using R version 4.0.3 (2020-10-10)
* using platform: x86_64-pc-linux-gnu (64-bit)
* using session charset: UTF-8
* using option ‘--no-vignettes’
* checking for file ‘AgiMicroRna/DESCRIPTION’ ... OK
* this is package ‘AgiMicroRna’ version ‘2.40.0’
* checking package namespace information ... OK
* checking package dependencies ... OK
* checking if this is a source package ... OK
* checking if there is a namespace ... OK
* checking for hidden files and directories ... OK
* checking for portable file names ... OK
* checking for sufficient/correct file permissions ... OK
* checking whether package ‘AgiMicroRna’ can be installed ... OK
* checking installed package size ... OK
* checking package directory ... OK
* checking ‘build’ directory ... OK
* checking DESCRIPTION meta-information ... NOTE
Malformed Description field: should contain one or more complete sentences.
Package listed in more than one of Depends, Imports, Suggests, Enhances:
  ‘Biobase’
A package should be listed in only one of these fields.
* checking top-level files ... OK
* checking for left-over files ... OK
* checking index information ... OK
* checking package subdirectories ... OK
* checking R files for non-ASCII characters ... OK
* checking R files for syntax errors ... OK
* checking whether the package can be loaded ... OK
* checking whether the package can be loaded with stated dependencies ... OK
* checking whether the package can be unloaded cleanly ... OK
* checking whether the namespace can be loaded with stated dependencies ... NOTE
Warning: no function found corresponding to methods exports from ‘AgiMicroRna’ for: ‘show’

A namespace must be able to be loaded with just the base namespace
loaded: otherwise if the namespace gets loaded by a saved object, the
session will be unable to start.

Probably some imports need to be declared in the NAMESPACE file.
* checking whether the namespace can be unloaded cleanly ... OK
* checking dependencies in R code ... NOTE
'library' or 'require' calls to packages already attached by Depends:
  'affy' 'affycoretools' 'preprocessCore'
  Please remove these calls from your code.
'library' or 'require' calls in package code:
  'codelink' 'gdata' 'geneplotter' 'gplots' 'gtools' 'marray'
  Please use :: or requireNamespace() instead.
  See section 'Suggested packages' in the 'Writing R Extensions' manual.
Packages in Depends field not imported from:
  'affy' 'affycoretools' 'limma' 'methods' 'preprocessCore'
  These packages need to be imported from (in the NAMESPACE file)
  for when this namespace is loaded but not attached.
* checking S3 generic/method consistency ... OK
* checking replacement functions ... OK
* checking foreign function calls ... NOTE
Foreign function call to a different package:
  .Call("rma_c_complete_copy", ..., PACKAGE = "affy")
See chapter ‘System and foreign language interfaces’ in the ‘Writing R
Extensions’ manual.
* checking R code for possible problems ... NOTE
DEG.print.info: no visible global function definition for 'is'
DEG.print.info: no visible global function definition for 'exprs'
HeatMapMicroRna: no visible binding for global variable 'var'
HeatMapMicroRna: no visible global function definition for 'rainbow'
HeatMapMicroRna: no visible global function definition for 'maPalette'
HeatMapMicroRna: no visible global function definition for 'heatmap.2'
HeatMapMicroRna: no visible global function definition for 'title'
MA.plot.miRNA: no visible global function definition for 'dev.new'
MA.plot.miRNA: no visible global function definition for 'points'
MA.plot.miRNA: no visible global function definition for 'fitted'
MA.plot.miRNA: no visible global function definition for 'loess'
MA.plot.miRNA: no visible global function definition for 'legend'
MA.plot.miRNA: no visible global function definition for 'title'
PCAplotMicroRna: no visible global function definition for 'is'
PCAplotMicroRna: no visible global function definition for 'exprs'
PCAplotMicroRna: no visible global function definition for 'na.omit'
PCAplotMicroRna: no visible global function definition for 'exprs<-'
PCAplotMicroRna: no visible global function definition for 'plotPCA'
PCAplotMicroRna: no visible global function definition for 'dev.new'
RleMicroRna: no visible binding for global variable 'median'
RleMicroRna: no visible global function definition for 'par'
RleMicroRna: no visible global function definition for 'boxplot'
RleMicroRna: no visible global function definition for 'points'
RleMicroRna: no visible global function definition for 'lines'
RleMicroRna: no visible global function definition for 'title'
RleMicroRna: no visible global function definition for 'abline'
basicLimma: no visible global function definition for 'is'
basicLimma: no visible global function definition for 'exprs'
basicLimma: no visible global function definition for 'lmFit'
basicLimma: no visible global function definition for 'contrasts.fit'
basicLimma: no visible global function definition for 'eBayes'
boxplotMicroRna: no visible global function definition for 'par'
boxplotMicroRna: no visible global function definition for 'boxplot'
boxplotMicroRna: no visible global function definition for 'points'
boxplotMicroRna: no visible global function definition for 'lines'
boxplotMicroRna: no visible global function definition for 'title'
cv.array: no visible binding for global variable 'median'
cvArray: no visible global function definition for 'is'
esetMicroRna: no visible global function definition for 'is'
esetMicroRna: no visible global function definition for 'new'
esetMicroRna: no visible global function definition for 'dev.new'
esetMicroRna: no visible global function definition for 'exprs'
filter.IsGeneDetected: no visible global function definition for 'is'
filter.control.miRNA: no visible global function definition for 'is'
filter.wellaboveNEG.miRNA: no visible global function definition for
  'is'
filter.wellaboveNEG.miRNA: no visible binding for global variable 'sd'
filterMicroRna: no visible global function definition for 'is'
filterMicroRna: no visible global function definition for 'dev.new'
getDecideTests: no visible global function definition for 'is'
getDecideTests: no visible global function definition for 'decideTests'
hierclusMicroRna: no visible binding for global variable 'var'
hierclusMicroRna: no visible global function definition for 'dist'
hierclusMicroRna: no visible global function definition for 'as.dist'
hierclusMicroRna: no visible global function definition for 'cor'
hierclusMicroRna: no visible global function definition for 'hclust'
hierclusMicroRna: no visible global function definition for 'title'
mvaBASIC: no visible binding for global variable 'median'
mvaBASIC: no visible global function definition for 'title'
mvaBASIC: no visible global function definition for 'abline'
mvaMicroRna: no visible binding for global variable 'median'
mvaMicroRna: no visible global function definition for 'points'
mvaMicroRna: no visible global function definition for 'fitted'
mvaMicroRna: no visible global function definition for 'loess'
mvaMicroRna: no visible global function definition for 'title'
mvaMicroRna: no visible global function definition for 'abline'
mvaMicroRna: no visible global function definition for 'legend'
plotDensityMicroRna: no visible global function definition for
  'rainbow'
plotDensityMicroRna: no visible global function definition for
  'density'
plotDensityMicroRna: no visible global function definition for 'lines'
plotDensityMicroRna: no visible global function definition for 'title'
plotDensityMicroRna: no visible global function definition for 'legend'
pvalHistogram: no visible global function definition for 'p.adjust'
pvalHistogram: no visible global function definition for 'hist'
pvalHistogram: no visible global function definition for 'dev.new'
qcPlots: no visible global function definition for 'is'
qcPlots: no visible global function definition for 'dev.new'
read.agiMicroRna: no visible global function definition for
  'read.columns'
read.agiMicroRna: no visible global function definition for 'new'
readMicroRnaAFE: no visible global function definition for 'is'
readTargets: no visible global function definition for 'read.table'
rmaMicroRna: no visible global function definition for 'is'
rmaMicroRna: no visible global function definition for
  'rma.background.correct'
rmaMicroRna: no visible global function definition for
  'normalizeBetweenArrays'
rmaMicroRna: no visible binding for global variable 'median'
significantMicroRna: no visible global function definition for 'is'
significantMicroRna: no visible global function definition for 'exprs'
significantMicroRna: no visible global function definition for
  'p.adjust'
tgsMicroRna: no visible global function definition for 'is'
tgsMicroRna: no visible global function definition for 'dev.new'
tgsNormalization: no visible global function definition for 'is'
tgsNormalization: no visible global function definition for 'dev.new'
tgsNormalization: no visible global function definition for
  'normalizeBetweenArrays'
write.LIST.miRNA: no visible global function definition for 'is'
write.LIST.miRNA: no visible global function definition for
  'write.table'
write.control.out.miRNA: no visible global function definition for 'is'
write.control.out.miRNA: no visible global function definition for
  'write.table'
write.filt.out.miRNA: no visible global function definition for 'is'
write.filt.out.miRNA: no visible global function definition for
  'write.table'
writeEset: no visible global function definition for 'is'
writeEset: no visible global function definition for 'exprs'
writeEset: no visible global function definition for 'featureNames'
writeEset: no visible global function definition for 'write.table'
show,uRNAList: no visible global function definition for 'slotNames'
show,uRNAList: no visible global function definition for 'slot'
Undefined global functions or variables:
  abline as.dist boxplot contrasts.fit cor decideTests density dev.new
  dist eBayes exprs exprs<- featureNames fitted hclust heatmap.2 hist
  is legend lines lmFit loess maPalette median na.omit new
  normalizeBetweenArrays p.adjust par plotPCA points rainbow
  read.columns read.table rma.background.correct sd slot slotNames
  title var write.table
Consider adding
  importFrom("grDevices", "dev.new", "rainbow")
  importFrom("graphics", "abline", "boxplot", "hist", "legend", "lines",
             "par", "points", "title")
  importFrom("methods", "is", "new", "slot", "slotNames")
  importFrom("stats", "as.dist", "cor", "density", "dist", "fitted",
             "hclust", "loess", "median", "na.omit", "p.adjust", "sd",
             "var")
  importFrom("utils", "read.table", "write.table")
to your NAMESPACE file (and ensure that your DESCRIPTION Imports field
contains 'methods').
* checking Rd files ... OK
* checking Rd metadata ... OK
* checking Rd cross-references ... OK
* checking for missing documentation entries ... OK
* checking for code/documentation mismatches ... OK
* checking Rd \usage sections ... OK
* checking Rd contents ... OK
* checking for unstated dependencies in examples ... OK
* checking contents of ‘data’ directory ... OK
* checking data for non-ASCII characters ... OK
* checking data for ASCII and uncompressed saves ... OK
* checking files in ‘vignettes’ ... OK
* checking examples ... OK
Examples with CPU (user + system) or elapsed time > 5s
              user system elapsed
mvaMicroRna 22.464  0.284  22.771
* checking for unstated dependencies in vignettes ... OK
* checking package vignettes in ‘inst/doc’ ... OK
* checking running R code from vignettes ... SKIPPED
* checking re-building of vignette outputs ... SKIPPED
* checking PDF version of manual ... OK
* DONE

Status: 5 NOTEs
See
  ‘/home/biocbuild/bbs-3.12-bioc/meat/AgiMicroRna.Rcheck/00check.log’
for details.



Installation output

AgiMicroRna.Rcheck/00install.out

##############################################################################
##############################################################################
###
### Running command:
###
###   /home/biocbuild/bbs-3.12-bioc/R/bin/R CMD INSTALL AgiMicroRna
###
##############################################################################
##############################################################################


* installing to library ‘/home/biocbuild/bbs-3.12-bioc/R/library’
* installing *source* package ‘AgiMicroRna’ ...
** using staged installation
** R
** data
** byte-compile and prepare package for lazy loading
** help
*** installing help indices
** building package indices
** installing vignettes
** testing if installed package can be loaded from temporary location
** testing if installed package can be loaded from final location
** testing if installed package keeps a record of temporary installation path
* DONE (AgiMicroRna)

Tests output


Example timings

AgiMicroRna.Rcheck/AgiMicroRna-Ex.timings

nameusersystemelapsed
HeatMapMicroRna0.6560.2521.071
PCAplotMicroRna0.2000.0280.230
RleMicroRna1.2240.0641.288
basicLimma000
boxplotMicroRna0.5680.0080.576
cvArray000
filterMicroRna0.4840.0040.489
getDecideTests000
hierclusMicroRna0.0320.0000.033
mvaBASIC3.6760.0443.726
mvaMicroRna22.464 0.28422.771
plotDensityMicroRna1.0720.0121.087
pvalHistogram000
qcPlots000
readMicroRnaAFE000
rmaMicroRna4.5360.0164.571
significantMicroRna0.5720.0040.602
tgsMicroRna0.1920.0000.197
tgsNormalization000
uRNAList0.0000.0000.001
writeEset000