Back to Multiple platform build/check report for BioC 3.12
A[B]CDEFGHIJKLMNOPQRSTUVWXYZ

INSTALL report for BiocWorkflowTools on tokay1

This page was generated on 2020-08-07 12:10:16 -0400 (Fri, 07 Aug 2020).

TO THE DEVELOPERS/MAINTAINERS OF THE BiocWorkflowTools PACKAGE: Please make sure to use the following settings in order to reproduce any error or warning you see on this page.
Package 165/1882HostnameOS / ArchINSTALLBUILDCHECKBUILD BIN
BiocWorkflowTools 1.15.0
Mike Smith
Snapshot Date: 2020-08-06 14:50:46 -0400 (Thu, 06 Aug 2020)
URL: https://git.bioconductor.org/packages/BiocWorkflowTools
Branch: master
Last Commit: 69240d4
Last Changed Date: 2020-04-27 15:01:39 -0400 (Mon, 27 Apr 2020)
malbec1 Linux (Ubuntu 18.04.4 LTS) / x86_64  OK  OK  OK UNNEEDED, same version exists in internal repository
tokay1 Windows Server 2012 R2 Standard / x64 [ OK ] OK  OK  OK UNNEEDED, same version exists in internal repository
merida1 macOS 10.14.6 Mojave / x86_64  OK  OK  OK  OK UNNEEDED, same version exists in internal repository

Summary

Package: BiocWorkflowTools
Version: 1.15.0
Command: C:\cygwin\bin\curl.exe -O https://malbec1.bioconductor.org/BBS/3.12/bioc/src/contrib/BiocWorkflowTools_1.15.0.tar.gz && rm -rf BiocWorkflowTools.buildbin-libdir && mkdir BiocWorkflowTools.buildbin-libdir && C:\Users\biocbuild\bbs-3.12-bioc\R\bin\R.exe CMD INSTALL --merge-multiarch --build --library=BiocWorkflowTools.buildbin-libdir BiocWorkflowTools_1.15.0.tar.gz && C:\Users\biocbuild\bbs-3.12-bioc\R\bin\R.exe CMD INSTALL BiocWorkflowTools_1.15.0.zip && rm BiocWorkflowTools_1.15.0.tar.gz BiocWorkflowTools_1.15.0.zip
StartedAt: 2020-08-06 17:18:10 -0400 (Thu, 06 Aug 2020)
EndedAt: 2020-08-06 17:19:25 -0400 (Thu, 06 Aug 2020)
EllapsedTime: 75.3 seconds
RetCode: 0
Status:  OK  

Command output

##############################################################################
##############################################################################
###
### Running command:
###
###   C:\cygwin\bin\curl.exe -O https://malbec1.bioconductor.org/BBS/3.12/bioc/src/contrib/BiocWorkflowTools_1.15.0.tar.gz && rm -rf BiocWorkflowTools.buildbin-libdir && mkdir BiocWorkflowTools.buildbin-libdir && C:\Users\biocbuild\bbs-3.12-bioc\R\bin\R.exe CMD INSTALL --merge-multiarch --build --library=BiocWorkflowTools.buildbin-libdir BiocWorkflowTools_1.15.0.tar.gz && C:\Users\biocbuild\bbs-3.12-bioc\R\bin\R.exe CMD INSTALL BiocWorkflowTools_1.15.0.zip && rm BiocWorkflowTools_1.15.0.tar.gz BiocWorkflowTools_1.15.0.zip
###
##############################################################################
##############################################################################


  % Total    % Received % Xferd  Average Speed   Time    Time     Time  Current
                                 Dload  Upload   Total   Spent    Left  Speed

  0     0    0     0    0     0      0      0 --:--:-- --:--:-- --:--:--     0
100  456k  100  456k    0     0  4949k      0 --:--:-- --:--:-- --:--:-- 5129k

install for i386

* installing *source* package 'BiocWorkflowTools' ...
** using staged installation
** R
** inst
** byte-compile and prepare package for lazy loading
** help
*** installing help indices
  converting help for package 'BiocWorkflowTools'
    finding HTML links ... done
    createBiocWorkflow                      html  
    finding level-2 HTML links ... done

    f1000_article                           html  
    uploadToOverleaf                        html  
** building package indices
** installing vignettes
** testing if installed package can be loaded from temporary location
** testing if installed package can be loaded from final location
** testing if installed package keeps a record of temporary installation path

install for x64

* installing *source* package 'BiocWorkflowTools' ...
** testing if installed package can be loaded
* MD5 sums
packaged installation of 'BiocWorkflowTools' as BiocWorkflowTools_1.15.0.zip
* DONE (BiocWorkflowTools)
* installing to library 'C:/Users/biocbuild/bbs-3.12-bioc/R/library'
package 'BiocWorkflowTools' successfully unpacked and MD5 sums checked