Back to Multiple platform build/check report for BioC 3.12
AB[C]DEFGHIJKLMNOPQRSTUVWXYZ

BUILD report for ChIPQC on merida1

This page was generated on 2020-08-07 12:29:47 -0400 (Fri, 07 Aug 2020).

TO THE DEVELOPERS/MAINTAINERS OF THE ChIPQC PACKAGE: Please make sure to use the following settings in order to reproduce any error or warning you see on this page.
Package 275/1882HostnameOS / ArchINSTALLBUILDCHECKBUILD BIN
ChIPQC 1.25.2
Tom Carroll , Rory Stark
Snapshot Date: 2020-08-06 14:50:46 -0400 (Thu, 06 Aug 2020)
URL: https://git.bioconductor.org/packages/ChIPQC
Branch: master
Last Commit: bd13ca8
Last Changed Date: 2020-07-18 12:34:52 -0400 (Sat, 18 Jul 2020)
malbec1 Linux (Ubuntu 18.04.4 LTS) / x86_64  OK  OK  WARNINGS UNNEEDED, same version exists in internal repository
tokay1 Windows Server 2012 R2 Standard / x64  OK  OK  WARNINGS  OK UNNEEDED, same version exists in internal repository
merida1 macOS 10.14.6 Mojave / x86_64  OK [ OK ] WARNINGS  OK UNNEEDED, same version exists in internal repository

Summary

Package: ChIPQC
Version: 1.25.2
Command: /Library/Frameworks/R.framework/Versions/Current/Resources/bin/R CMD build --keep-empty-dirs --no-resave-data ChIPQC
StartedAt: 2020-08-06 19:08:19 -0400 (Thu, 06 Aug 2020)
EndedAt: 2020-08-06 19:10:11 -0400 (Thu, 06 Aug 2020)
EllapsedTime: 112.5 seconds
RetCode: 0
Status:  OK 
PackageFile: ChIPQC_1.25.2.tar.gz
PackageFileSize: 1.5 MiB

Command output

##############################################################################
##############################################################################
###
### Running command:
###
###   /Library/Frameworks/R.framework/Versions/Current/Resources/bin/R CMD build --keep-empty-dirs --no-resave-data ChIPQC
###
##############################################################################
##############################################################################


* checking for file ‘ChIPQC/DESCRIPTION’ ... OK
* preparing ‘ChIPQC’:
* checking DESCRIPTION meta-information ... OK
* installing the package to build vignettes
* creating vignettes ... OK
* checking for LF line-endings in source and make files and shell scripts
* checking for empty or unneeded directories
* looking to see if a ‘data/datalist’ file should be added
* building ‘ChIPQC_1.25.2.tar.gz’