Back to Multiple platform build/check report for BioC 3.12
AB[C]DEFGHIJKLMNOPQRSTUVWXYZ

BUILD report for cellTree on tokay1

This page was generated on 2020-08-10 12:19:50 -0400 (Mon, 10 Aug 2020).

TO THE DEVELOPERS/MAINTAINERS OF THE cellTree PACKAGE: Please make sure to use the following settings in order to reproduce any error or warning you see on this page.
Package 249/1882HostnameOS / ArchINSTALLBUILDCHECKBUILD BIN
cellTree 1.19.0
David duVerle
Snapshot Date: 2020-08-09 14:51:29 -0400 (Sun, 09 Aug 2020)
URL: https://git.bioconductor.org/packages/cellTree
Branch: master
Last Commit: 2b8fe2d
Last Changed Date: 2020-04-27 14:53:44 -0400 (Mon, 27 Apr 2020)
malbec1 Linux (Ubuntu 18.04.4 LTS) / x86_64  OK  OK  OK UNNEEDED, same version exists in internal repository
nebbiolo1 Linux (Ubuntu 20.04.1 LTS) / x86_64  OK  OK  OK 
tokay1 Windows Server 2012 R2 Standard / x64  OK [ OK ] TIMEOUT  OK 
merida1 macOS 10.14.6 Mojave / x86_64  OK  OK  OK  OK UNNEEDED, same version exists in internal repository

Summary

Package: cellTree
Version: 1.19.0
Command: chmod a+r cellTree -R && C:\Users\biocbuild\bbs-3.12-bioc\R\bin\R.exe CMD build --keep-empty-dirs --no-resave-data cellTree
StartedAt: 2020-08-09 20:58:28 -0400 (Sun, 09 Aug 2020)
EndedAt: 2020-08-09 21:00:01 -0400 (Sun, 09 Aug 2020)
EllapsedTime: 93.9 seconds
RetCode: 0
Status:  OK  
PackageFile: cellTree_1.19.0.tar.gz
PackageFileSize: 888.3 KiB

Command output

##############################################################################
##############################################################################
###
### Running command:
###
###   chmod a+r cellTree -R && C:\Users\biocbuild\bbs-3.12-bioc\R\bin\R.exe CMD build --keep-empty-dirs --no-resave-data cellTree
###
##############################################################################
##############################################################################


* checking for file 'cellTree/DESCRIPTION' ... OK
* preparing 'cellTree':
* checking DESCRIPTION meta-information ... OK
* installing the package to build vignettes
* creating vignettes ... OK
* checking for LF line-endings in source and make files and shell scripts
* checking for empty or unneeded directories
* building 'cellTree_1.19.0.tar.gz'