Back to Multiple platform build/check report for BioC 3.12
[A]BCDEFGHIJKLMNOPQRSTUVWXYZ

BUILD report for affycoretools on malbec1

This page was generated on 2020-08-10 11:32:36 -0400 (Mon, 10 Aug 2020).

TO THE DEVELOPERS/MAINTAINERS OF THE affycoretools PACKAGE: Please make sure to use the following settings in order to reproduce any error or warning you see on this page.
Package 27/1882HostnameOS / ArchINSTALLBUILDCHECKBUILD BIN
affycoretools 1.61.2
James W. MacDonald
Snapshot Date: 2020-08-09 14:51:29 -0400 (Sun, 09 Aug 2020)
URL: https://git.bioconductor.org/packages/affycoretools
Branch: master
Last Commit: 2f77a7b
Last Changed Date: 2020-05-26 15:52:12 -0400 (Tue, 26 May 2020)
malbec1 Linux (Ubuntu 18.04.4 LTS) / x86_64  OK [ OK ] OK UNNEEDED, same version exists in internal repository
nebbiolo1 Linux (Ubuntu 20.04.1 LTS) / x86_64  OK  OK  OK 
tokay1 Windows Server 2012 R2 Standard / x64  OK  OK  WARNINGS  OK UNNEEDED, same version exists in internal repository
merida1 macOS 10.14.6 Mojave / x86_64  OK  OK  OK  OK UNNEEDED, same version exists in internal repository

Summary

Package: affycoretools
Version: 1.61.2
Command: /home/biocbuild/bbs-3.12-bioc/R/bin/R CMD build --keep-empty-dirs --no-resave-data affycoretools
StartedAt: 2020-08-09 17:35:37 -0400 (Sun, 09 Aug 2020)
EndedAt: 2020-08-09 17:37:08 -0400 (Sun, 09 Aug 2020)
EllapsedTime: 91.1 seconds
RetCode: 0
Status:  OK 
PackageFile: affycoretools_1.61.2.tar.gz
PackageFileSize: 6.579 MiB

Command output

##############################################################################
##############################################################################
###
### Running command:
###
###   /home/biocbuild/bbs-3.12-bioc/R/bin/R CMD build --keep-empty-dirs --no-resave-data affycoretools
###
##############################################################################
##############################################################################


* checking for file ‘affycoretools/DESCRIPTION’ ... OK
* preparing ‘affycoretools’:
* checking DESCRIPTION meta-information ... OK
* installing the package to build vignettes
* creating vignettes ... OK
* checking for LF line-endings in source and make files and shell scripts
* checking for empty or unneeded directories
* building ‘affycoretools_1.61.2.tar.gz’