Back to Multiple platform build/check report for BioC 3.12
AB[C]DEFGHIJKLMNOPQRSTUVWXYZ

INSTALL report for CeTF on malbec1

This page was generated on 2021-02-22 12:28:55 -0500 (Mon, 22 Feb 2021).

To the developers/maintainers of the CeTF package:
Please make sure to use the following settings in order to reproduce any error or warning you see on this page.
Package 263/1974HostnameOS / ArchINSTALLBUILDCHECKBUILD BIN
CeTF 1.2.4
Carlos Alberto Oliveira de Biagi Junior
Snapshot Date: 2021-02-21 14:52:07 -0500 (Sun, 21 Feb 2021)
URL: https://git.bioconductor.org/packages/CeTF
Branch: RELEASE_3_12
Last Commit: 2896169
Last Changed Date: 2020-11-23 09:24:27 -0500 (Mon, 23 Nov 2020)
malbec1Linux (Ubuntu 18.04.5 LTS) / x86_64  OK    OK    OK  UNNEEDED, same version exists in internal repository
nebbiolo1Linux (Ubuntu 20.04.2 LTS) / x86_64  OK    OK    OK  
tokay1Windows Server 2012 R2 Standard / x64  OK    OK    OK    OK  UNNEEDED, same version exists in internal repository
merida1macOS 10.14.6 Mojave / x86_64  OK    OK    OK    OK  UNNEEDED, same version exists in internal repository

Summary

Package: CeTF
Version: 1.2.4
Command: /home/biocbuild/bbs-3.12-bioc/R/bin/R CMD INSTALL CeTF
StartedAt: 2021-02-21 17:26:18 -0500 (Sun, 21 Feb 2021)
EndedAt: 2021-02-21 17:27:27 -0500 (Sun, 21 Feb 2021)
EllapsedTime: 69.5 seconds
RetCode: 0
Status:   OK  

Command output

##############################################################################
##############################################################################
###
### Running command:
###
###   /home/biocbuild/bbs-3.12-bioc/R/bin/R CMD INSTALL CeTF
###
##############################################################################
##############################################################################


* installing to library ‘/home/biocbuild/bbs-3.12-bioc/R/library’
* installing *source* package ‘CeTF’ ...
** using staged installation
** libs
g++ -std=gnu++11 -I"/home/biocbuild/bbs-3.12-bioc/R/include" -DNDEBUG  -I'/home/biocbuild/bbs-3.12-bioc/R/library/Rcpp/include' -I'/home/biocbuild/bbs-3.12-bioc/R/library/RcppArmadillo/include' -I/usr/local/include   -fpic  -g -O2  -Wall -c PCIT.cpp -o PCIT.o
g++ -std=gnu++11 -I"/home/biocbuild/bbs-3.12-bioc/R/include" -DNDEBUG  -I'/home/biocbuild/bbs-3.12-bioc/R/library/Rcpp/include' -I'/home/biocbuild/bbs-3.12-bioc/R/library/RcppArmadillo/include' -I/usr/local/include   -fpic  -g -O2  -Wall -c RcppExports.cpp -o RcppExports.o
g++ -std=gnu++11 -shared -L/home/biocbuild/bbs-3.12-bioc/R/lib -L/usr/local/lib -o CeTF.so PCIT.o RcppExports.o -L/home/biocbuild/bbs-3.12-bioc/R/lib -lR
installing to /home/biocbuild/bbs-3.12-bioc/R/library/00LOCK-CeTF/00new/CeTF/libs
** R
** data
*** moving datasets to lazyload DB
** inst
** byte-compile and prepare package for lazy loading
** help
*** installing help indices
** building package indices
** installing vignettes
** testing if installed package can be loaded from temporary location
** checking absolute paths in shared objects and dynamic libraries
** testing if installed package can be loaded from final location
** testing if installed package keeps a record of temporary installation path
* DONE (CeTF)