Back to Multiple platform build/check report for BioC 3.12
AB[C]DEFGHIJKLMNOPQRSTUVWXYZ

BUILD report for CexoR on tokay1

This page was generated on 2020-10-25 12:06:20 -0400 (Sun, 25 Oct 2020).

TO THE DEVELOPERS/MAINTAINERS OF THE CexoR PACKAGE: Please make sure to use the following settings in order to reproduce any error or warning you see on this page.
Package 264/1974HostnameOS / ArchINSTALLBUILDCHECKBUILD BIN
CexoR 1.27.1
Pedro Madrigal
Snapshot Date: 2020-10-24 14:40:19 -0400 (Sat, 24 Oct 2020)
URL: https://git.bioconductor.org/packages/CexoR
Branch: master
Last Commit: a9b251d
Last Changed Date: 2020-06-30 07:24:53 -0400 (Tue, 30 Jun 2020)
malbec1 Linux (Ubuntu 18.04.4 LTS) / x86_64  OK  OK  OK UNNEEDED, same version exists in internal repository
nebbiolo1 Linux (Ubuntu 20.04.1 LTS) / x86_64  OK  OK  OK 
tokay1 Windows Server 2012 R2 Standard / x64  OK [ OK ] OK  OK UNNEEDED, same version exists in internal repository
riesling1 Windows Server 2019 Standard / x64  OK  OK  OK  OK 
merida1 macOS 10.14.6 Mojave / x86_64  OK  OK  OK  OK UNNEEDED, same version exists in internal repository

Summary

Package: CexoR
Version: 1.27.1
Command: chmod a+r CexoR -R && C:\Users\biocbuild\bbs-3.12-bioc\R\bin\R.exe CMD build --keep-empty-dirs --no-resave-data CexoR
StartedAt: 2020-10-24 20:01:47 -0400 (Sat, 24 Oct 2020)
EndedAt: 2020-10-24 20:02:59 -0400 (Sat, 24 Oct 2020)
EllapsedTime: 71.8 seconds
RetCode: 0
Status:  OK  
PackageFile: CexoR_1.27.1.tar.gz
PackageFileSize: 1.651 MiB

Command output

##############################################################################
##############################################################################
###
### Running command:
###
###   chmod a+r CexoR -R && C:\Users\biocbuild\bbs-3.12-bioc\R\bin\R.exe CMD build --keep-empty-dirs --no-resave-data CexoR
###
##############################################################################
##############################################################################


* checking for file 'CexoR/DESCRIPTION' ... OK
* preparing 'CexoR':
* checking DESCRIPTION meta-information ... OK
* installing the package to build vignettes
* creating vignettes ... OK
* checking for LF line-endings in source and make files and shell scripts
* checking for empty or unneeded directories
* building 'CexoR_1.27.1.tar.gz'