Back to Multiple platform build/check report for BioC 3.12
AB[C]DEFGHIJKLMNOPQRSTUVWXYZ

INSTALL report for CexoR on merida1

This page was generated on 2021-01-19 11:57:04 -0500 (Tue, 19 Jan 2021).

TO THE DEVELOPERS/MAINTAINERS OF THE CexoR PACKAGE: Please make sure to use the following settings in order to reproduce any error or warning you see on this page.
Package 264/1974HostnameOS / ArchINSTALLBUILDCHECKBUILD BIN
CexoR 1.28.0
Pedro Madrigal
Snapshot Date: 2021-01-18 14:42:24 -0500 (Mon, 18 Jan 2021)
URL: https://git.bioconductor.org/packages/CexoR
Branch: RELEASE_3_12
Last Commit: 3641236
Last Changed Date: 2020-10-27 10:53:12 -0500 (Tue, 27 Oct 2020)
malbec1 Linux (Ubuntu 18.04.5 LTS) / x86_64  OK  OK  OK UNNEEDED, same version exists in internal repository
nebbiolo1 Linux (Ubuntu 20.04.1 LTS) / x86_64  OK  OK  OK 
tokay1 Windows Server 2012 R2 Standard / x64  OK  OK  OK  OK UNNEEDED, same version exists in internal repository
merida1 macOS 10.14.6 Mojave / x86_64 [ OK ] OK  OK  OK UNNEEDED, same version exists in internal repository

Summary

Package: CexoR
Version: 1.28.0
Command: /Library/Frameworks/R.framework/Versions/Current/Resources/bin/R CMD INSTALL CexoR
StartedAt: 2021-01-18 17:45:15 -0500 (Mon, 18 Jan 2021)
EndedAt: 2021-01-18 17:46:00 -0500 (Mon, 18 Jan 2021)
EllapsedTime: 44.8 seconds
RetCode: 0
Status:  OK 

Command output

##############################################################################
##############################################################################
###
### Running command:
###
###   /Library/Frameworks/R.framework/Versions/Current/Resources/bin/R CMD INSTALL CexoR
###
##############################################################################
##############################################################################


* installing to library ‘/Library/Frameworks/R.framework/Versions/4.0/Resources/library’
* installing *source* package ‘CexoR’ ...
** using staged installation
** R
** inst
** byte-compile and prepare package for lazy loading
** help
*** installing help indices
** building package indices
** installing vignettes
** testing if installed package can be loaded from temporary location
** testing if installed package can be loaded from final location
** testing if installed package keeps a record of temporary installation path
* DONE (CexoR)