Back to Multiple platform build/check report for BioC 3.12
A[B]CDEFGHIJKLMNOPQRSTUVWXYZ

BUILD report for bumphunter on merida1

This page was generated on 2020-08-11 11:54:41 -0400 (Tue, 11 Aug 2020).

TO THE DEVELOPERS/MAINTAINERS OF THE bumphunter PACKAGE: Please make sure to use the following settings in order to reproduce any error or warning you see on this page.
Package 208/1885HostnameOS / ArchINSTALLBUILDCHECKBUILD BIN
bumphunter 1.31.0
Rafael A. Irizarry
Snapshot Date: 2020-08-10 14:50:56 -0400 (Mon, 10 Aug 2020)
URL: https://git.bioconductor.org/packages/bumphunter
Branch: master
Last Commit: 1d0ee5b
Last Changed Date: 2020-04-27 14:32:19 -0400 (Mon, 27 Apr 2020)
malbec1 Linux (Ubuntu 18.04.4 LTS) / x86_64  OK  OK  OK UNNEEDED, same version exists in internal repository
nebbiolo1 Linux (Ubuntu 20.04.1 LTS) / x86_64  OK  OK  NA 
tokay1 Windows Server 2012 R2 Standard / x64  OK  OK  WARNINGS  OK UNNEEDED, same version exists in internal repository
merida1 macOS 10.14.6 Mojave / x86_64  OK [ OK ] OK  OK UNNEEDED, same version exists in internal repository

Summary

Package: bumphunter
Version: 1.31.0
Command: /Library/Frameworks/R.framework/Versions/Current/Resources/bin/R CMD build --keep-empty-dirs --no-resave-data bumphunter
StartedAt: 2020-08-10 18:54:08 -0400 (Mon, 10 Aug 2020)
EndedAt: 2020-08-10 18:55:09 -0400 (Mon, 10 Aug 2020)
EllapsedTime: 60.6 seconds
RetCode: 0
Status:  OK 
PackageFile: bumphunter_1.31.0.tar.gz
PackageFileSize: 2.395 MiB

Command output

##############################################################################
##############################################################################
###
### Running command:
###
###   /Library/Frameworks/R.framework/Versions/Current/Resources/bin/R CMD build --keep-empty-dirs --no-resave-data bumphunter
###
##############################################################################
##############################################################################


* checking for file ‘bumphunter/DESCRIPTION’ ... OK
* preparing ‘bumphunter’:
* checking DESCRIPTION meta-information ... OK
* installing the package to build vignettes
* creating vignettes ... OK
* checking for LF line-endings in source and make files and shell scripts
* checking for empty or unneeded directories
* building ‘bumphunter_1.31.0.tar.gz’