Back to Multiple platform build/check report for BioC 3.12
AB[C]DEFGHIJKLMNOPQRSTUVWXYZ

INSTALL report for categoryCompare on malbec1

This page was generated on 2020-08-10 11:36:07 -0400 (Mon, 10 Aug 2020).

TO THE DEVELOPERS/MAINTAINERS OF THE categoryCompare PACKAGE: Please make sure to use the following settings in order to reproduce any error or warning you see on this page.
Package 229/1882HostnameOS / ArchINSTALLBUILDCHECKBUILD BIN
categoryCompare 1.33.0
Robert M. Flight
Snapshot Date: 2020-08-09 14:51:29 -0400 (Sun, 09 Aug 2020)
URL: https://git.bioconductor.org/packages/categoryCompare
Branch: master
Last Commit: a7d8dcb
Last Changed Date: 2020-04-27 14:29:40 -0400 (Mon, 27 Apr 2020)
malbec1 Linux (Ubuntu 18.04.4 LTS) / x86_64 [ OK ] OK  OK UNNEEDED, same version exists in internal repository
nebbiolo1 Linux (Ubuntu 20.04.1 LTS) / x86_64  OK  OK  OK 
tokay1 Windows Server 2012 R2 Standard / x64  OK  OK  OK  OK UNNEEDED, same version exists in internal repository
merida1 macOS 10.14.6 Mojave / x86_64  OK  OK  OK  OK UNNEEDED, same version exists in internal repository

Summary

Package: categoryCompare
Version: 1.33.0
Command: /home/biocbuild/bbs-3.12-bioc/R/bin/R CMD INSTALL categoryCompare
StartedAt: 2020-08-09 16:37:46 -0400 (Sun, 09 Aug 2020)
EndedAt: 2020-08-09 16:38:13 -0400 (Sun, 09 Aug 2020)
EllapsedTime: 27.4 seconds
RetCode: 0
Status:  OK 

Command output

##############################################################################
##############################################################################
###
### Running command:
###
###   /home/biocbuild/bbs-3.12-bioc/R/bin/R CMD INSTALL categoryCompare
###
##############################################################################
##############################################################################


* installing to library ‘/home/biocbuild/bbs-3.12-bioc/R/library’
* installing *source* package ‘categoryCompare’ ...
** using staged installation
** R
** data
** inst
** byte-compile and prepare package for lazy loading
Note: ... may be used in an incorrect context 
** help
*** installing help indices
** building package indices
** installing vignettes
** testing if installed package can be loaded from temporary location
** testing if installed package can be loaded from final location
** testing if installed package keeps a record of temporary installation path
* DONE (categoryCompare)