Back to Multiple platform build/check report for BioC 3.12
ABCDEFGHIJKLM[N]OPQRSTUVWXYZ

BUILD report for nuCpos on merida1

This page was generated on 2021-01-19 11:58:01 -0500 (Tue, 19 Jan 2021).

TO THE DEVELOPERS/MAINTAINERS OF THE nuCpos PACKAGE: Please make sure to use the following settings in order to reproduce any error or warning you see on this page.
Package 1240/1974HostnameOS / ArchINSTALLBUILDCHECKBUILD BIN
nuCpos 1.8.0
Hiroaki Kato
Snapshot Date: 2021-01-18 14:42:24 -0500 (Mon, 18 Jan 2021)
URL: https://git.bioconductor.org/packages/nuCpos
Branch: RELEASE_3_12
Last Commit: b77ccdf
Last Changed Date: 2020-10-27 11:37:59 -0500 (Tue, 27 Oct 2020)
malbec1 Linux (Ubuntu 18.04.5 LTS) / x86_64  OK  OK  OK UNNEEDED, same version exists in internal repository
nebbiolo1 Linux (Ubuntu 20.04.1 LTS) / x86_64  OK  OK  OK 
tokay1 Windows Server 2012 R2 Standard / x64  OK  OK  WARNINGS  OK UNNEEDED, same version exists in internal repository
merida1 macOS 10.14.6 Mojave / x86_64  OK [ OK ] OK  OK UNNEEDED, same version exists in internal repository

Summary

Package: nuCpos
Version: 1.8.0
Command: /Library/Frameworks/R.framework/Versions/Current/Resources/bin/R CMD build --keep-empty-dirs --no-resave-data nuCpos
StartedAt: 2021-01-18 21:05:05 -0500 (Mon, 18 Jan 2021)
EndedAt: 2021-01-18 21:05:31 -0500 (Mon, 18 Jan 2021)
EllapsedTime: 25.6 seconds
RetCode: 0
Status:  OK 
PackageFile: nuCpos_1.8.0.tar.gz
PackageFileSize: 1.139 MiB

Command output

##############################################################################
##############################################################################
###
### Running command:
###
###   /Library/Frameworks/R.framework/Versions/Current/Resources/bin/R CMD build --keep-empty-dirs --no-resave-data nuCpos
###
##############################################################################
##############################################################################


* checking for file ‘nuCpos/DESCRIPTION’ ... OK
* preparing ‘nuCpos’:
* checking DESCRIPTION meta-information ... OK
* cleaning src
* installing the package to build vignettes
* creating vignettes ... OK
* cleaning src
* checking for LF line-endings in source and make files and shell scripts
* checking for empty or unneeded directories
* looking to see if a ‘data/datalist’ file should be added
* building ‘nuCpos_1.8.0.tar.gz’