Back to Multiple platform build/check report for BioC 3.12
[A]BCDEFGHIJKLMNOPQRSTUVWXYZ

BUILD report for AlphaBeta on merida1

This page was generated on 2020-08-07 12:41:03 -0400 (Fri, 07 Aug 2020).

TO THE DEVELOPERS/MAINTAINERS OF THE AlphaBeta PACKAGE: Please make sure to use the following settings in order to reproduce any error or warning you see on this page.
Package 43/1882HostnameOS / ArchINSTALLBUILDCHECKBUILD BIN
AlphaBeta 1.3.3
Yadollah Shahryary Dizaji
Snapshot Date: 2020-08-06 14:50:46 -0400 (Thu, 06 Aug 2020)
URL: https://git.bioconductor.org/packages/AlphaBeta
Branch: master
Last Commit: 3497a14
Last Changed Date: 2020-06-06 09:46:58 -0400 (Sat, 06 Jun 2020)
malbec1 Linux (Ubuntu 18.04.4 LTS) / x86_64  OK  OK  OK UNNEEDED, same version exists in internal repository
tokay1 Windows Server 2012 R2 Standard / x64  OK  OK  OK  OK UNNEEDED, same version exists in internal repository
merida1 macOS 10.14.6 Mojave / x86_64  OK [ OK ] OK  OK UNNEEDED, same version exists in internal repository

Summary

Package: AlphaBeta
Version: 1.3.3
Command: /Library/Frameworks/R.framework/Versions/Current/Resources/bin/R CMD build --keep-empty-dirs --no-resave-data AlphaBeta
StartedAt: 2020-08-06 21:35:38 -0400 (Thu, 06 Aug 2020)
EndedAt: 2020-08-06 21:42:00 -0400 (Thu, 06 Aug 2020)
EllapsedTime: 382.0 seconds
RetCode: 0
Status:  OK 
PackageFile: AlphaBeta_1.3.3.tar.gz
PackageFileSize: 2.467 MiB

Command output

##############################################################################
##############################################################################
###
### Running command:
###
###   /Library/Frameworks/R.framework/Versions/Current/Resources/bin/R CMD build --keep-empty-dirs --no-resave-data AlphaBeta
###
##############################################################################
##############################################################################


* checking for file ‘AlphaBeta/DESCRIPTION’ ... OK
* preparing ‘AlphaBeta’:
* checking DESCRIPTION meta-information ... OK
* installing the package to build vignettes
* creating vignettes ... OK
* checking for LF line-endings in source and make files and shell scripts
* checking for empty or unneeded directories
* building ‘AlphaBeta_1.3.3.tar.gz’