Back to Multiple platform build/check report for BioC 3.12
A[B]CDEFGHIJKLMNOPQRSTUVWXYZ

BUILD BIN report for BiocCaseStudies on tokay1

This page was generated on 2020-08-07 11:58:02 -0400 (Fri, 07 Aug 2020).

TO THE DEVELOPERS/MAINTAINERS OF THE BiocCaseStudies PACKAGE: Please make sure to use the following settings in order to reproduce any error or warning you see on this page.
Package 148/1882HostnameOS / ArchINSTALLBUILDCHECKBUILD BIN
BiocCaseStudies 1.51.0
Bioconductor Package Maintainer
Snapshot Date: 2020-08-06 14:50:46 -0400 (Thu, 06 Aug 2020)
URL: https://git.bioconductor.org/packages/BiocCaseStudies
Branch: master
Last Commit: 436d015
Last Changed Date: 2020-04-27 14:16:09 -0400 (Mon, 27 Apr 2020)
malbec1 Linux (Ubuntu 18.04.4 LTS) / x86_64  OK  OK  OK UNNEEDED, same version exists in internal repository
tokay1 Windows Server 2012 R2 Standard / x64  OK  OK  OK [ OK ]UNNEEDED, same version exists in internal repository
merida1 macOS 10.14.6 Mojave / x86_64  OK  OK  OK  OK UNNEEDED, same version exists in internal repository

Summary

Package: BiocCaseStudies
Version: 1.51.0
Command: rm -rf BiocCaseStudies.buildbin-libdir && mkdir BiocCaseStudies.buildbin-libdir && C:\Users\biocbuild\bbs-3.12-bioc\R\bin\R.exe CMD INSTALL --merge-multiarch --build --library=BiocCaseStudies.buildbin-libdir BiocCaseStudies_1.51.0.tar.gz
StartedAt: 2020-08-07 07:01:41 -0400 (Fri, 07 Aug 2020)
EndedAt: 2020-08-07 07:02:27 -0400 (Fri, 07 Aug 2020)
EllapsedTime: 45.2 seconds
RetCode: 0
Status:  OK  
PackageFile: BiocCaseStudies_1.51.0.zip
PackageFileSize: 47.95 KiB

Command output

##############################################################################
##############################################################################
###
### Running command:
###
###   rm -rf BiocCaseStudies.buildbin-libdir && mkdir BiocCaseStudies.buildbin-libdir && C:\Users\biocbuild\bbs-3.12-bioc\R\bin\R.exe CMD INSTALL --merge-multiarch --build --library=BiocCaseStudies.buildbin-libdir BiocCaseStudies_1.51.0.tar.gz
###
##############################################################################
##############################################################################



install for i386

* installing *source* package 'BiocCaseStudies' ...
** using staged installation
** R
** byte-compile and prepare package for lazy loading
** help
*** installing help indices
  converting help for package 'BiocCaseStudies'
    finding HTML links ... done
    fixedWidthCat                           html  
    markup                                  html  
    mySessionInfo                           html  
    parseLibVers                            html  
    requiredPackages                        html  
    resample                                html  
** building package indices
** testing if installed package can be loaded from temporary location
** testing if installed package can be loaded from final location
** testing if installed package keeps a record of temporary installation path

install for x64

* installing *source* package 'BiocCaseStudies' ...
** testing if installed package can be loaded
* MD5 sums
packaged installation of 'BiocCaseStudies' as BiocCaseStudies_1.51.0.zip
* DONE (BiocCaseStudies)