Back to Multiple platform build/check report for BioC 3.12
[A]BCDEFGHIJKLMNOPQRSTUVWXYZ

INSTALL report for ADAMgui on malbec1

This page was generated on 2021-04-15 12:17:55 -0400 (Thu, 15 Apr 2021).

To the developers/maintainers of the ADAMgui package:
Please make sure to use the following settings in order to reproduce any error or warning you see on this page.
Package 17/1974HostnameOS / ArchINSTALLBUILDCHECKBUILD BIN
ADAMgui 1.6.0  (landing page)
Jose Luiz Rybarczyk Filho
Snapshot Date: 2021-04-14 14:50:05 -0400 (Wed, 14 Apr 2021)
URL: https://git.bioconductor.org/packages/ADAMgui
Branch: RELEASE_3_12
Last Commit: 75782fe
Last Changed Date: 2020-10-27 11:45:19 -0400 (Tue, 27 Oct 2020)
malbec1Linux (Ubuntu 18.04.5 LTS) / x86_64  OK    ERROR  skipped
tokay1Windows Server 2012 R2 Standard / x64  OK    ERROR  skippedskipped
merida1macOS 10.14.6 Mojave / x86_64  OK    ERROR  skippedskipped

Summary

Package: ADAMgui
Version: 1.6.0
Command: /home/biocbuild/bbs-3.12-bioc/R/bin/R CMD INSTALL ADAMgui
StartedAt: 2021-04-14 17:23:47 -0400 (Wed, 14 Apr 2021)
EndedAt: 2021-04-14 17:24:16 -0400 (Wed, 14 Apr 2021)
EllapsedTime: 29.0 seconds
RetCode: 0
Status:   OK  

Command output

##############################################################################
##############################################################################
###
### Running command:
###
###   /home/biocbuild/bbs-3.12-bioc/R/bin/R CMD INSTALL ADAMgui
###
##############################################################################
##############################################################################


* installing to library ‘/home/biocbuild/bbs-3.12-bioc/R/library’
* installing *source* package ‘ADAMgui’ ...
** using staged installation
** R
** data
** inst
** byte-compile and prepare package for lazy loading
** help
*** installing help indices
** building package indices
** installing vignettes
** testing if installed package can be loaded from temporary location
** testing if installed package can be loaded from final location
** testing if installed package keeps a record of temporary installation path
* DONE (ADAMgui)