Back to Multiple platform build/check report for BioC 3.12
AB[C]DEFGHIJKLMNOPQRSTUVWXYZ

INSTALL report for CATALYST on merida1

This page was generated on 2020-08-10 12:40:37 -0400 (Mon, 10 Aug 2020).

TO THE DEVELOPERS/MAINTAINERS OF THE CATALYST PACKAGE: Please make sure to use the following settings in order to reproduce any error or warning you see on this page.
Package 227/1882HostnameOS / ArchINSTALLBUILDCHECKBUILD BIN
CATALYST 1.13.1
Helena L. Crowell
Snapshot Date: 2020-08-09 14:51:29 -0400 (Sun, 09 Aug 2020)
URL: https://git.bioconductor.org/packages/CATALYST
Branch: master
Last Commit: 78d76eb
Last Changed Date: 2020-05-06 03:40:47 -0400 (Wed, 06 May 2020)
malbec1 Linux (Ubuntu 18.04.4 LTS) / x86_64  OK  ERROR  skipped 
nebbiolo1 Linux (Ubuntu 20.04.1 LTS) / x86_64  OK  ERROR  skipped 
tokay1 Windows Server 2012 R2 Standard / x64  OK  ERROR  skipped  skipped 
merida1 macOS 10.14.6 Mojave / x86_64 [ OK ] ERROR  skipped  skipped 

Summary

Package: CATALYST
Version: 1.13.1
Command: /Library/Frameworks/R.framework/Versions/Current/Resources/bin/R CMD INSTALL CATALYST
StartedAt: 2020-08-09 17:14:58 -0400 (Sun, 09 Aug 2020)
EndedAt: 2020-08-09 17:15:49 -0400 (Sun, 09 Aug 2020)
EllapsedTime: 51.5 seconds
RetCode: 0
Status:  OK 

Command output

##############################################################################
##############################################################################
###
### Running command:
###
###   /Library/Frameworks/R.framework/Versions/Current/Resources/bin/R CMD INSTALL CATALYST
###
##############################################################################
##############################################################################


* installing to library ‘/Library/Frameworks/R.framework/Versions/4.0/Resources/library’
* installing *source* package ‘CATALYST’ ...
** using staged installation
** R
** data
*** moving datasets to lazyload DB
** inst
** byte-compile and prepare package for lazy loading
** help
*** installing help indices
** building package indices
** installing vignettes
** testing if installed package can be loaded from temporary location
** testing if installed package can be loaded from final location
** testing if installed package keeps a record of temporary installation path
* DONE (CATALYST)