Back to Multiple platform build/check report for BioC 3.12
[A]BCDEFGHIJKLMNOPQRSTUVWXYZ

BUILD report for annotate on tokay1

This page was generated on 2021-02-22 12:36:56 -0500 (Mon, 22 Feb 2021).

To the developers/maintainers of the annotate package:
Please make sure to use the following settings in order to reproduce any error or warning you see on this page.
Package 61/1974HostnameOS / ArchINSTALLBUILDCHECKBUILD BIN
annotate 1.68.0
Bioconductor Package Maintainer
Snapshot Date: 2021-02-21 14:52:07 -0500 (Sun, 21 Feb 2021)
URL: https://git.bioconductor.org/packages/annotate
Branch: RELEASE_3_12
Last Commit: 98cdb12
Last Changed Date: 2020-10-27 10:21:39 -0500 (Tue, 27 Oct 2020)
malbec1Linux (Ubuntu 18.04.5 LTS) / x86_64  OK    OK    OK  UNNEEDED, same version exists in internal repository
nebbiolo1Linux (Ubuntu 20.04.2 LTS) / x86_64  OK    OK    OK  
tokay1Windows Server 2012 R2 Standard / x64  OK    OK    ERROR    OK  
merida1macOS 10.14.6 Mojave / x86_64  OK    OK    OK    OK  UNNEEDED, same version exists in internal repository

Summary

Package: annotate
Version: 1.68.0
Command: chmod a+r annotate -R && C:\Users\biocbuild\bbs-3.12-bioc\R\bin\R.exe CMD build --keep-empty-dirs --no-resave-data annotate
StartedAt: 2021-02-21 19:34:13 -0500 (Sun, 21 Feb 2021)
EndedAt: 2021-02-21 19:41:27 -0500 (Sun, 21 Feb 2021)
EllapsedTime: 433.5 seconds
RetCode: 0
Status:   OK   
PackageFile: annotate_1.68.0.tar.gz
PackageFileSize: 1.795 MiB

Command output

##############################################################################
##############################################################################
###
### Running command:
###
###   chmod a+r annotate -R && C:\Users\biocbuild\bbs-3.12-bioc\R\bin\R.exe CMD build --keep-empty-dirs --no-resave-data annotate
###
##############################################################################
##############################################################################


* checking for file 'annotate/DESCRIPTION' ... OK
* preparing 'annotate':
* checking DESCRIPTION meta-information ... OK
* installing the package to build vignettes
* creating vignettes ... OK
* checking for LF line-endings in source and make files and shell scripts
* checking for empty or unneeded directories
* looking to see if a 'data/datalist' file should be added
* building 'annotate_1.68.0.tar.gz'