Back to Multiple platform build/check report for BioC 3.12
[A]BCDEFGHIJKLMNOPQRSTUVWXYZ

BUILD report for AMARETTO on merida1

This page was generated on 2020-08-07 12:40:09 -0400 (Fri, 07 Aug 2020).

TO THE DEVELOPERS/MAINTAINERS OF THE AMARETTO PACKAGE: Please make sure to use the following settings in order to reproduce any error or warning you see on this page.
Package 48/1882HostnameOS / ArchINSTALLBUILDCHECKBUILD BIN
AMARETTO 1.5.0
Olivier Gevaert
Snapshot Date: 2020-08-06 14:50:46 -0400 (Thu, 06 Aug 2020)
URL: https://git.bioconductor.org/packages/AMARETTO
Branch: master
Last Commit: 07c0d39
Last Changed Date: 2020-04-27 15:24:46 -0400 (Mon, 27 Apr 2020)
malbec1 Linux (Ubuntu 18.04.4 LTS) / x86_64  OK  OK  OK UNNEEDED, same version exists in internal repository
tokay1 Windows Server 2012 R2 Standard / x64  OK  OK  OK  OK UNNEEDED, same version exists in internal repository
merida1 macOS 10.14.6 Mojave / x86_64  OK [ OK ] OK  OK UNNEEDED, same version exists in internal repository

Summary

Package: AMARETTO
Version: 1.5.0
Command: /Library/Frameworks/R.framework/Versions/Current/Resources/bin/R CMD build --keep-empty-dirs --no-resave-data AMARETTO
StartedAt: 2020-08-06 21:24:53 -0400 (Thu, 06 Aug 2020)
EndedAt: 2020-08-06 21:26:02 -0400 (Thu, 06 Aug 2020)
EllapsedTime: 68.8 seconds
RetCode: 0
Status:  OK 
PackageFile: AMARETTO_1.5.0.tar.gz
PackageFileSize: 3.13 MiB

Command output

##############################################################################
##############################################################################
###
### Running command:
###
###   /Library/Frameworks/R.framework/Versions/Current/Resources/bin/R CMD build --keep-empty-dirs --no-resave-data AMARETTO
###
##############################################################################
##############################################################################


* checking for file ‘AMARETTO/DESCRIPTION’ ... OK
* preparing ‘AMARETTO’:
* checking DESCRIPTION meta-information ... OK
* installing the package to build vignettes
* creating vignettes ... OK
* checking for LF line-endings in source and make files and shell scripts
* checking for empty or unneeded directories
* building ‘AMARETTO_1.5.0.tar.gz’