Back to Multiple platform build/check report for BioC 3.12
[A]BCDEFGHIJKLMNOPQRSTUVWXYZ

BUILD report for a4Classif on tokay1

This page was generated on 2020-08-10 12:13:24 -0400 (Mon, 10 Aug 2020).

TO THE DEVELOPERS/MAINTAINERS OF THE a4Classif PACKAGE: Please make sure to use the following settings in order to reproduce any error or warning you see on this page.
Package 3/1882HostnameOS / ArchINSTALLBUILDCHECKBUILD BIN
a4Classif 1.37.0
Tobias Verbeke
Snapshot Date: 2020-08-09 14:51:29 -0400 (Sun, 09 Aug 2020)
URL: https://git.bioconductor.org/packages/a4Classif
Branch: master
Last Commit: a9ae689
Last Changed Date: 2020-04-27 14:25:23 -0400 (Mon, 27 Apr 2020)
malbec1 Linux (Ubuntu 18.04.4 LTS) / x86_64  OK  OK  OK UNNEEDED, same version exists in internal repository
nebbiolo1 Linux (Ubuntu 20.04.1 LTS) / x86_64  OK  OK  OK 
tokay1 Windows Server 2012 R2 Standard / x64  OK [ OK ] OK  OK UNNEEDED, same version exists in internal repository
merida1 macOS 10.14.6 Mojave / x86_64  OK  OK  OK  OK UNNEEDED, same version exists in internal repository

Summary

Package: a4Classif
Version: 1.37.0
Command: chmod a+r a4Classif -R && C:\Users\biocbuild\bbs-3.12-bioc\R\bin\R.exe CMD build --keep-empty-dirs --no-resave-data a4Classif
StartedAt: 2020-08-09 19:36:47 -0400 (Sun, 09 Aug 2020)
EndedAt: 2020-08-09 19:37:06 -0400 (Sun, 09 Aug 2020)
EllapsedTime: 19.2 seconds
RetCode: 0
Status:  OK  
PackageFile: a4Classif_1.37.0.tar.gz
PackageFileSize: 5.263 KiB

Command output

##############################################################################
##############################################################################
###
### Running command:
###
###   chmod a+r a4Classif -R && C:\Users\biocbuild\bbs-3.12-bioc\R\bin\R.exe CMD build --keep-empty-dirs --no-resave-data a4Classif
###
##############################################################################
##############################################################################


* checking for file 'a4Classif/DESCRIPTION' ... OK
* preparing 'a4Classif':
* checking DESCRIPTION meta-information ... OK
* checking for LF line-endings in source and make files and shell scripts
* checking for empty or unneeded directories
* building 'a4Classif_1.37.0.tar.gz'