Back to Multiple platform build/check report for BioC 3.12
AB[C]DEFGHIJKLMNOPQRSTUVWXYZ

INSTALL report for CellScore on merida1

This page was generated on 2020-10-30 12:14:56 -0400 (Fri, 30 Oct 2020).

TO THE DEVELOPERS/MAINTAINERS OF THE CellScore PACKAGE: Please make sure to use the following settings in order to reproduce any error or warning you see on this page.
Package 258/1974HostnameOS / ArchINSTALLBUILDCHECKBUILD BIN
CellScore 1.10.0
Nancy Mah
Snapshot Date: 2020-10-29 14:45:49 -0400 (Thu, 29 Oct 2020)
URL: https://git.bioconductor.org/packages/CellScore
Branch: RELEASE_3_12
Last Commit: a714c29
Last Changed Date: 2020-10-27 11:32:18 -0400 (Tue, 27 Oct 2020)
malbec1 Linux (Ubuntu 18.04.4 LTS) / x86_64  OK  OK  OK UNNEEDED, same version exists in internal repository
nebbiolo1 Linux (Ubuntu 20.04.1 LTS) / x86_64  OK  OK  OK 
tokay1 Windows Server 2012 R2 Standard / x64  OK  OK  OK  OK UNNEEDED, same version exists in internal repository
merida1 macOS 10.14.6 Mojave / x86_64 [ OK ] OK  OK  OK UNNEEDED, same version exists in internal repository

Summary

Package: CellScore
Version: 1.10.0
Command: /Library/Frameworks/R.framework/Versions/Current/Resources/bin/R CMD INSTALL CellScore
StartedAt: 2020-10-29 16:36:09 -0400 (Thu, 29 Oct 2020)
EndedAt: 2020-10-29 16:36:40 -0400 (Thu, 29 Oct 2020)
EllapsedTime: 30.4 seconds
RetCode: 0
Status:  OK 

Command output

##############################################################################
##############################################################################
###
### Running command:
###
###   /Library/Frameworks/R.framework/Versions/Current/Resources/bin/R CMD INSTALL CellScore
###
##############################################################################
##############################################################################


* installing to library ‘/Library/Frameworks/R.framework/Versions/4.0/Resources/library’
* installing *source* package ‘CellScore’ ...
** using staged installation
** R
** inst
** byte-compile and prepare package for lazy loading
** help
*** installing help indices
** building package indices
** installing vignettes
** testing if installed package can be loaded from temporary location
** testing if installed package can be loaded from final location
** testing if installed package keeps a record of temporary installation path
* DONE (CellScore)