Back to Multiple platform build/check report for BioC 3.12
AB[C]DEFGHIJKLMNOPQRSTUVWXYZ

BUILD BIN report for ChIPpeakAnno on merida1

This page was generated on 2020-08-06 12:14:50 -0400 (Thu, 06 Aug 2020).

TO THE DEVELOPERS/MAINTAINERS OF THE ChIPpeakAnno PACKAGE: Please make sure to use the following settings in order to reproduce any error or warning you see on this page.
Package 274/1882HostnameOS / ArchINSTALLBUILDCHECKBUILD BIN
ChIPpeakAnno 3.23.4
Lihua Julie Zhu
Snapshot Date: 2020-08-05 14:50:59 -0400 (Wed, 05 Aug 2020)
URL: https://git.bioconductor.org/packages/ChIPpeakAnno
Branch: master
Last Commit: 538e556
Last Changed Date: 2020-08-04 12:43:36 -0400 (Tue, 04 Aug 2020)
malbec1 Linux (Ubuntu 18.04.4 LTS) / x86_64  OK  OK  OK UNNEEDED, same version exists in internal repository
tokay1 Windows Server 2012 R2 Standard / x64  OK  OK  OK  OK UNNEEDED, same version exists in internal repository
merida1 macOS 10.14.6 Mojave / x86_64  OK  OK  OK [ OK ]UNNEEDED, same version exists in internal repository

Summary

Package: ChIPpeakAnno
Version: 3.23.4
Command: rm -rf ChIPpeakAnno.buildbin-libdir && mkdir ChIPpeakAnno.buildbin-libdir && /Users/biocbuild/BBS/utils/build-universal.sh ChIPpeakAnno_3.23.4.tar.gz /Library/Frameworks/R.framework/Versions/Current/Resources/bin/R ChIPpeakAnno.buildbin-libdir
StartedAt: 2020-08-06 06:10:57 -0400 (Thu, 06 Aug 2020)
EndedAt: 2020-08-06 06:12:53 -0400 (Thu, 06 Aug 2020)
EllapsedTime: 116.3 seconds
RetCode: 0
Status:  OK 
PackageFile: ChIPpeakAnno_3.23.4.tgz
PackageFileSize: 25.42 MiB

Command output

##############################################################################
##############################################################################
###
### Running command:
###
###   rm -rf ChIPpeakAnno.buildbin-libdir && mkdir ChIPpeakAnno.buildbin-libdir && /Users/biocbuild/BBS/utils/build-universal.sh ChIPpeakAnno_3.23.4.tar.gz /Library/Frameworks/R.framework/Versions/Current/Resources/bin/R ChIPpeakAnno.buildbin-libdir
###
##############################################################################
##############################################################################


>>>>>>> 
>>>>>>> INSTALLATION WITH 'R CMD INSTALL --preclean --no-multiarch --library=ChIPpeakAnno.buildbin-libdir ChIPpeakAnno_3.23.4.tar.gz'
>>>>>>> 

* installing *source* package ‘ChIPpeakAnno’ ...
** using staged installation
** R
** data
*** moving datasets to lazyload DB
** inst
** byte-compile and prepare package for lazy loading
** help
*** installing help indices
** building package indices
** installing vignettes
** testing if installed package can be loaded from temporary location
** testing if installed package can be loaded from final location
** testing if installed package keeps a record of temporary installation path
* DONE (ChIPpeakAnno)