Back to Multiple platform build/check report for BioC 3.12
A[B]CDEFGHIJKLMNOPQRSTUVWXYZ

BUILD BIN report for BrowserViz on tokay1

This page was generated on 2020-09-21 11:13:32 -0400 (Mon, 21 Sep 2020).

TO THE DEVELOPERS/MAINTAINERS OF THE BrowserViz PACKAGE: Please make sure to use the following settings in order to reproduce any error or warning you see on this page.
Package 203/1912HostnameOS / ArchINSTALLBUILDCHECKBUILD BIN
BrowserViz 2.11.0
Paul Shannon
Snapshot Date: 2020-09-20 14:41:51 -0400 (Sun, 20 Sep 2020)
URL: https://git.bioconductor.org/packages/BrowserViz
Branch: master
Last Commit: c965f73
Last Changed Date: 2020-04-27 14:47:02 -0400 (Mon, 27 Apr 2020)
malbec1 Linux (Ubuntu 18.04.4 LTS) / x86_64  OK  OK  OK UNNEEDED, same version exists in internal repository
nebbiolo1 Linux (Ubuntu 20.04.1 LTS) / x86_64  OK  OK  TIMEOUT 
tokay1 Windows Server 2012 R2 Standard / x64  OK  OK  OK [ OK ]UNNEEDED, same version exists in internal repository
riesling1 Windows Server 2019 Standard / x64  OK  OK  OK  OK 
merida1 macOS 10.14.6 Mojave / x86_64  OK  OK  OK  OK UNNEEDED, same version exists in internal repository

Summary

Package: BrowserViz
Version: 2.11.0
Command: rm -rf BrowserViz.buildbin-libdir && mkdir BrowserViz.buildbin-libdir && C:\Users\biocbuild\bbs-3.12-bioc\R\bin\R.exe CMD INSTALL --merge-multiarch --build --library=BrowserViz.buildbin-libdir BrowserViz_2.11.0.tar.gz
StartedAt: 2020-09-21 08:28:44 -0400 (Mon, 21 Sep 2020)
EndedAt: 2020-09-21 08:29:24 -0400 (Mon, 21 Sep 2020)
EllapsedTime: 39.9 seconds
RetCode: 0
Status:  OK  
PackageFile: BrowserViz_2.11.0.zip
PackageFileSize: 431.7 KiB

Command output

##############################################################################
##############################################################################
###
### Running command:
###
###   rm -rf BrowserViz.buildbin-libdir && mkdir BrowserViz.buildbin-libdir && C:\Users\biocbuild\bbs-3.12-bioc\R\bin\R.exe CMD INSTALL --merge-multiarch --build --library=BrowserViz.buildbin-libdir BrowserViz_2.11.0.tar.gz
###
##############################################################################
##############################################################################



install for i386

* installing *source* package 'BrowserViz' ...
** using staged installation
** R
** inst
** byte-compile and prepare package for lazy loading
** help
*** installing help indices
  converting help for package 'BrowserViz'
    finding HTML links ... done
    BrowserViz-class                        html  
    BrowserViz                              html  
    addRMessageHandler                      html  
    browserResponseReady                    html  
    closeWebSocket                          html  
    dispatchMessage                         html  
    displayHTMLInDiv                        html  
    fromJSON                                html  
    getBrowserInfo                          html  
    getBrowserResponse                      html  
    getBrowserWindowSize                    html  
    getBrowserWindowTitle                   html  
    handleResponse                          html  
    port                                    html  
    ready                                   html  
    roundTripTest                           html  
    send                                    html  
    setBrowserWindowTitle                   html  
    show                                    html  
    toJSON                                  html  
    wait                                    html  
    webBrowserAvailableForTesting           html  
** building package indices
** installing vignettes
** testing if installed package can be loaded from temporary location
** testing if installed package can be loaded from final location
** testing if installed package keeps a record of temporary installation path

install for x64

* installing *source* package 'BrowserViz' ...
** testing if installed package can be loaded
* MD5 sums
packaged installation of 'BrowserViz' as BrowserViz_2.11.0.zip
* DONE (BrowserViz)