Back to Multiple platform build/check report for BioC 3.12
A[B]CDEFGHIJKLMNOPQRSTUVWXYZ

BUILD report for bnbc on merida1

This page was generated on 2020-08-10 12:41:31 -0400 (Mon, 10 Aug 2020).

TO THE DEVELOPERS/MAINTAINERS OF THE bnbc PACKAGE: Please make sure to use the following settings in order to reproduce any error or warning you see on this page.
Package 189/1882HostnameOS / ArchINSTALLBUILDCHECKBUILD BIN
bnbc 1.11.0
Kipper Fletez-Brant
Snapshot Date: 2020-08-09 14:51:29 -0400 (Sun, 09 Aug 2020)
URL: https://git.bioconductor.org/packages/bnbc
Branch: master
Last Commit: 0285f52
Last Changed Date: 2020-04-27 15:11:22 -0400 (Mon, 27 Apr 2020)
malbec1 Linux (Ubuntu 18.04.4 LTS) / x86_64  OK  OK  OK UNNEEDED, same version exists in internal repository
nebbiolo1 Linux (Ubuntu 20.04.1 LTS) / x86_64  OK  OK  OK 
tokay1 Windows Server 2012 R2 Standard / x64  OK  OK  OK  OK UNNEEDED, same version exists in internal repository
merida1 macOS 10.14.6 Mojave / x86_64  OK [ OK ] OK  OK UNNEEDED, same version exists in internal repository

Summary

Package: bnbc
Version: 1.11.0
Command: /Library/Frameworks/R.framework/Versions/Current/Resources/bin/R CMD build --keep-empty-dirs --no-resave-data bnbc
StartedAt: 2020-08-09 20:38:20 -0400 (Sun, 09 Aug 2020)
EndedAt: 2020-08-09 20:40:05 -0400 (Sun, 09 Aug 2020)
EllapsedTime: 105.0 seconds
RetCode: 0
Status:  OK 
PackageFile: bnbc_1.11.0.tar.gz
PackageFileSize: 2.686 MiB

Command output

##############################################################################
##############################################################################
###
### Running command:
###
###   /Library/Frameworks/R.framework/Versions/Current/Resources/bin/R CMD build --keep-empty-dirs --no-resave-data bnbc
###
##############################################################################
##############################################################################


* checking for file ‘bnbc/DESCRIPTION’ ... OK
* preparing ‘bnbc’:
* checking DESCRIPTION meta-information ... OK
* cleaning src
* installing the package to process help pages
* saving partial Rd database
* creating vignettes ... OK
* cleaning src
* checking for LF line-endings in source and make files and shell scripts
* checking for empty or unneeded directories
* looking to see if a ‘data/datalist’ file should be added
* building ‘bnbc_1.11.0.tar.gz’