Back to Multiple platform build/check report for BioC 3.12
[A]BCDEFGHIJKLMNOPQRSTUVWXYZ

INSTALL report for AIMS on merida1

This page was generated on 2021-04-13 12:15:51 -0400 (Tue, 13 Apr 2021).

To the developers/maintainers of the AIMS package:
Please make sure to use the following settings in order to reproduce any error or warning you see on this page.
Package 41/1974HostnameOS / ArchINSTALLBUILDCHECKBUILD BIN
AIMS 1.22.0  (landing page)
Eric R Paquet
Snapshot Date: 2021-04-12 14:51:46 -0400 (Mon, 12 Apr 2021)
URL: https://git.bioconductor.org/packages/AIMS
Branch: RELEASE_3_12
Last Commit: 34a3897
Last Changed Date: 2020-10-27 11:01:12 -0400 (Tue, 27 Oct 2020)
malbec1Linux (Ubuntu 18.04.5 LTS) / x86_64  OK    OK    OK  UNNEEDED, same version exists in internal repository
tokay1Windows Server 2012 R2 Standard / x64  OK    OK    OK    OK  UNNEEDED, same version exists in internal repository
merida1macOS 10.14.6 Mojave / x86_64  OK    OK    OK    OK  UNNEEDED, same version exists in internal repository

Summary

Package: AIMS
Version: 1.22.0
Command: /Library/Frameworks/R.framework/Versions/Current/Resources/bin/R CMD INSTALL AIMS
StartedAt: 2021-04-12 16:23:02 -0400 (Mon, 12 Apr 2021)
EndedAt: 2021-04-12 16:23:39 -0400 (Mon, 12 Apr 2021)
EllapsedTime: 37.2 seconds
RetCode: 0
Status:   OK  

Command output

##############################################################################
##############################################################################
###
### Running command:
###
###   /Library/Frameworks/R.framework/Versions/Current/Resources/bin/R CMD INSTALL AIMS
###
##############################################################################
##############################################################################


* installing to library ‘/Library/Frameworks/R.framework/Versions/4.0/Resources/library’
* installing *source* package ‘AIMS’ ...
** using staged installation
** R
** data
*** moving datasets to lazyload DB
** inst
** byte-compile and prepare package for lazy loading
** help
*** installing help indices
** building package indices
** installing vignettes
** testing if installed package can be loaded from temporary location
** testing if installed package can be loaded from final location
** testing if installed package keeps a record of temporary installation path
* DONE (AIMS)