Back to Multiple platform build/check report for BioC 3.12
[A]BCDEFGHIJKLMNOPQRSTUVWXYZ

CHECK report for ASSIGN on merida1

This page was generated on 2020-08-06 12:18:36 -0400 (Thu, 06 Aug 2020).

TO THE DEVELOPERS/MAINTAINERS OF THE ASSIGN PACKAGE: Please make sure to use the following settings in order to reproduce any error or warning you see on this page.
Package 92/1882HostnameOS / ArchINSTALLBUILDCHECKBUILD BIN
ASSIGN 1.25.0
Ying Shen , W. Evan Johnson
Snapshot Date: 2020-08-05 14:50:59 -0400 (Wed, 05 Aug 2020)
URL: https://git.bioconductor.org/packages/ASSIGN
Branch: master
Last Commit: e608089
Last Changed Date: 2020-04-27 14:39:28 -0400 (Mon, 27 Apr 2020)
malbec1 Linux (Ubuntu 18.04.4 LTS) / x86_64  OK  OK  OK UNNEEDED, same version exists in internal repository
tokay1 Windows Server 2012 R2 Standard / x64  OK  OK  OK  OK UNNEEDED, same version exists in internal repository
merida1 macOS 10.14.6 Mojave / x86_64  OK  OK [ OK ] OK UNNEEDED, same version exists in internal repository

Summary

Package: ASSIGN
Version: 1.25.0
Command: /Library/Frameworks/R.framework/Versions/Current/Resources/bin/R CMD check --install=check:ASSIGN.install-out.txt --library=/Library/Frameworks/R.framework/Versions/Current/Resources/library --no-vignettes --timings ASSIGN_1.25.0.tar.gz
StartedAt: 2020-08-06 00:22:32 -0400 (Thu, 06 Aug 2020)
EndedAt: 2020-08-06 00:23:31 -0400 (Thu, 06 Aug 2020)
EllapsedTime: 59.6 seconds
RetCode: 0
Status:  OK 
CheckDir: ASSIGN.Rcheck
Warnings: 0

Command output

##############################################################################
##############################################################################
###
### Running command:
###
###   /Library/Frameworks/R.framework/Versions/Current/Resources/bin/R CMD check --install=check:ASSIGN.install-out.txt --library=/Library/Frameworks/R.framework/Versions/Current/Resources/library --no-vignettes --timings ASSIGN_1.25.0.tar.gz
###
##############################################################################
##############################################################################


* using log directory ‘/Users/biocbuild/bbs-3.12-bioc/meat/ASSIGN.Rcheck’
* using R version 4.0.2 (2020-06-22)
* using platform: x86_64-apple-darwin17.0 (64-bit)
* using session charset: UTF-8
* using option ‘--no-vignettes’
* checking for file ‘ASSIGN/DESCRIPTION’ ... OK
* checking extension type ... Package
* this is package ‘ASSIGN’ version ‘1.25.0’
* package encoding: UTF-8
* checking package namespace information ... OK
* checking package dependencies ... OK
* checking if this is a source package ... OK
* checking if there is a namespace ... OK
* checking for hidden files and directories ... NOTE
Found the following hidden files and directories:
  .travis.yml
These were most likely included in error. See section ‘Package
structure’ in the ‘Writing R Extensions’ manual.
* checking for portable file names ... OK
* checking for sufficient/correct file permissions ... OK
* checking whether package ‘ASSIGN’ can be installed ... OK
* checking installed package size ... OK
* checking package directory ... OK
* checking ‘build’ directory ... OK
* checking DESCRIPTION meta-information ... OK
* checking top-level files ... OK
* checking for left-over files ... OK
* checking index information ... OK
* checking package subdirectories ... OK
* checking R files for non-ASCII characters ... OK
* checking R files for syntax errors ... OK
* checking whether the package can be loaded ... OK
* checking whether the package can be loaded with stated dependencies ... OK
* checking whether the package can be unloaded cleanly ... OK
* checking whether the namespace can be loaded with stated dependencies ... OK
* checking whether the namespace can be unloaded cleanly ... OK
* checking dependencies in R code ... OK
* checking S3 generic/method consistency ... OK
* checking replacement functions ... OK
* checking foreign function calls ... OK
* checking R code for possible problems ... OK
* checking Rd files ... OK
* checking Rd metadata ... OK
* checking Rd cross-references ... OK
* checking for missing documentation entries ... OK
* checking for code/documentation mismatches ... OK
* checking Rd \usage sections ... OK
* checking Rd contents ... OK
* checking for unstated dependencies in examples ... OK
* checking contents of ‘data’ directory ... OK
* checking data for non-ASCII characters ... OK
* checking data for ASCII and uncompressed saves ... OK
* checking files in ‘vignettes’ ... OK
* checking examples ... OK
* checking for unstated dependencies in ‘tests’ ... OK
* checking tests ...
  Running ‘testthat.R’
 OK
* checking for unstated dependencies in vignettes ... OK
* checking package vignettes in ‘inst/doc’ ... OK
* checking running R code from vignettes ... SKIPPED
* checking re-building of vignette outputs ... SKIPPED
* checking PDF version of manual ... OK
* DONE

Status: 1 NOTE
See
  ‘/Users/biocbuild/bbs-3.12-bioc/meat/ASSIGN.Rcheck/00check.log’
for details.



Installation output

ASSIGN.Rcheck/00install.out

##############################################################################
##############################################################################
###
### Running command:
###
###   /Library/Frameworks/R.framework/Versions/Current/Resources/bin/R CMD INSTALL ASSIGN
###
##############################################################################
##############################################################################


* installing to library ‘/Library/Frameworks/R.framework/Versions/4.0/Resources/library’
* installing *source* package ‘ASSIGN’ ...
** using staged installation
** R
** data
*** moving datasets to lazyload DB
** byte-compile and prepare package for lazy loading
** help
*** installing help indices
** building package indices
** installing vignettes
** testing if installed package can be loaded from temporary location
** testing if installed package can be loaded from final location
** testing if installed package keeps a record of temporary installation path
* DONE (ASSIGN)

Tests output

ASSIGN.Rcheck/tests/testthat.Rout


R version 4.0.2 (2020-06-22) -- "Taking Off Again"
Copyright (C) 2020 The R Foundation for Statistical Computing
Platform: x86_64-apple-darwin17.0 (64-bit)

R is free software and comes with ABSOLUTELY NO WARRANTY.
You are welcome to redistribute it under certain conditions.
Type 'license()' or 'licence()' for distribution details.

R is a collaborative project with many contributors.
Type 'contributors()' for more information and
'citation()' on how to cite R or R packages in publications.

Type 'demo()' for some demos, 'help()' for on-line help, or
'help.start()' for an HTML browser interface to help.
Type 'q()' to quit R.

> library(testthat)
> library(ASSIGN)
> 
> test_check("ASSIGN")
══ testthat results  ═══════════════════════════════════════════════════════════
[ OK: 4 | SKIPPED: 1 | WARNINGS: 0 | FAILED: 0 ]
> 
> proc.time()
   user  system elapsed 
  5.122   0.246   5.357 

Example timings

ASSIGN.Rcheck/ASSIGN-Ex.timings

nameusersystemelapsed
assign.convergence000
assign.cv.output2.5400.2112.755
assign.mcmc0.7780.0810.859
assign.output3.0020.1853.197
assign.preprocess0.0430.0070.049
assign.summary0.8300.0470.878
assign.wrapper3.3810.1833.631
merge_drop0.0000.0010.001
optimizeGFRN0.0000.0010.001
runassignGFRN0.0010.0000.000