Back to Multiple platform build/check report for BioC 3.12
A[B]CDEFGHIJKLMNOPQRSTUVWXYZ

INSTALL report for BiocNeighbors on merida1

This page was generated on 2020-08-10 12:42:51 -0400 (Mon, 10 Aug 2020).

TO THE DEVELOPERS/MAINTAINERS OF THE BiocNeighbors PACKAGE: Please make sure to use the following settings in order to reproduce any error or warning you see on this page.
Package 154/1882HostnameOS / ArchINSTALLBUILDCHECKBUILD BIN
BiocNeighbors 1.7.0
Aaron Lun
Snapshot Date: 2020-08-09 14:51:29 -0400 (Sun, 09 Aug 2020)
URL: https://git.bioconductor.org/packages/BiocNeighbors
Branch: master
Last Commit: 1dcfaf3
Last Changed Date: 2020-04-27 15:17:53 -0400 (Mon, 27 Apr 2020)
malbec1 Linux (Ubuntu 18.04.4 LTS) / x86_64  OK  OK  OK UNNEEDED, same version exists in internal repository
nebbiolo1 Linux (Ubuntu 20.04.1 LTS) / x86_64  OK  OK  OK 
tokay1 Windows Server 2012 R2 Standard / x64  OK  OK  OK  OK UNNEEDED, same version exists in internal repository
merida1 macOS 10.14.6 Mojave / x86_64 [ OK ] OK  OK  OK UNNEEDED, same version exists in internal repository

Summary

Package: BiocNeighbors
Version: 1.7.0
Command: /Library/Frameworks/R.framework/Versions/Current/Resources/bin/R CMD INSTALL BiocNeighbors
StartedAt: 2020-08-09 17:09:09 -0400 (Sun, 09 Aug 2020)
EndedAt: 2020-08-09 17:11:34 -0400 (Sun, 09 Aug 2020)
EllapsedTime: 145.0 seconds
RetCode: 0
Status:  OK 

Command output

##############################################################################
##############################################################################
###
### Running command:
###
###   /Library/Frameworks/R.framework/Versions/Current/Resources/bin/R CMD INSTALL BiocNeighbors
###
##############################################################################
##############################################################################


* installing to library ‘/Library/Frameworks/R.framework/Versions/4.0/Resources/library’
* installing *source* package ‘BiocNeighbors’ ...
** using staged installation
** libs
clang++ -mmacosx-version-min=10.13 -std=gnu++11 -I"/Library/Frameworks/R.framework/Resources/include" -DNDEBUG  -I'/Library/Frameworks/R.framework/Versions/4.0/Resources/library/Rcpp/include' -I'/Library/Frameworks/R.framework/Versions/4.0/Resources/library/RcppAnnoy/include' -I'/Library/Frameworks/R.framework/Versions/4.0/Resources/library/RcppHNSW/include' -I/usr/local/include   -fPIC  -Wall -g -O2  -c RcppExports.cpp -o RcppExports.o
clang++ -mmacosx-version-min=10.13 -std=gnu++11 -I"/Library/Frameworks/R.framework/Resources/include" -DNDEBUG  -I'/Library/Frameworks/R.framework/Versions/4.0/Resources/library/Rcpp/include' -I'/Library/Frameworks/R.framework/Versions/4.0/Resources/library/RcppAnnoy/include' -I'/Library/Frameworks/R.framework/Versions/4.0/Resources/library/RcppHNSW/include' -I/usr/local/include   -fPIC  -Wall -g -O2  -c annoy.cpp -o annoy.o
clang++ -mmacosx-version-min=10.13 -std=gnu++11 -I"/Library/Frameworks/R.framework/Resources/include" -DNDEBUG  -I'/Library/Frameworks/R.framework/Versions/4.0/Resources/library/Rcpp/include' -I'/Library/Frameworks/R.framework/Versions/4.0/Resources/library/RcppAnnoy/include' -I'/Library/Frameworks/R.framework/Versions/4.0/Resources/library/RcppHNSW/include' -I/usr/local/include   -fPIC  -Wall -g -O2  -c build_annoy.cpp -o build_annoy.o
clang++ -mmacosx-version-min=10.13 -std=gnu++11 -I"/Library/Frameworks/R.framework/Resources/include" -DNDEBUG  -I'/Library/Frameworks/R.framework/Versions/4.0/Resources/library/Rcpp/include' -I'/Library/Frameworks/R.framework/Versions/4.0/Resources/library/RcppAnnoy/include' -I'/Library/Frameworks/R.framework/Versions/4.0/Resources/library/RcppHNSW/include' -I/usr/local/include   -fPIC  -Wall -g -O2  -c build_hnsw.cpp -o build_hnsw.o
clang++ -mmacosx-version-min=10.13 -std=gnu++11 -I"/Library/Frameworks/R.framework/Resources/include" -DNDEBUG  -I'/Library/Frameworks/R.framework/Versions/4.0/Resources/library/Rcpp/include' -I'/Library/Frameworks/R.framework/Versions/4.0/Resources/library/RcppAnnoy/include' -I'/Library/Frameworks/R.framework/Versions/4.0/Resources/library/RcppHNSW/include' -I/usr/local/include   -fPIC  -Wall -g -O2  -c build_vptree.cpp -o build_vptree.o
clang++ -mmacosx-version-min=10.13 -std=gnu++11 -I"/Library/Frameworks/R.framework/Resources/include" -DNDEBUG  -I'/Library/Frameworks/R.framework/Versions/4.0/Resources/library/Rcpp/include' -I'/Library/Frameworks/R.framework/Versions/4.0/Resources/library/RcppAnnoy/include' -I'/Library/Frameworks/R.framework/Versions/4.0/Resources/library/RcppHNSW/include' -I/usr/local/include   -fPIC  -Wall -g -O2  -c distances.cpp -o distances.o
clang++ -mmacosx-version-min=10.13 -std=gnu++11 -I"/Library/Frameworks/R.framework/Resources/include" -DNDEBUG  -I'/Library/Frameworks/R.framework/Versions/4.0/Resources/library/Rcpp/include' -I'/Library/Frameworks/R.framework/Versions/4.0/Resources/library/RcppAnnoy/include' -I'/Library/Frameworks/R.framework/Versions/4.0/Resources/library/RcppHNSW/include' -I/usr/local/include   -fPIC  -Wall -g -O2  -c exhaustive.cpp -o exhaustive.o
clang++ -mmacosx-version-min=10.13 -std=gnu++11 -I"/Library/Frameworks/R.framework/Resources/include" -DNDEBUG  -I'/Library/Frameworks/R.framework/Versions/4.0/Resources/library/Rcpp/include' -I'/Library/Frameworks/R.framework/Versions/4.0/Resources/library/RcppAnnoy/include' -I'/Library/Frameworks/R.framework/Versions/4.0/Resources/library/RcppHNSW/include' -I/usr/local/include   -fPIC  -Wall -g -O2  -c find_annoy.cpp -o find_annoy.o
clang++ -mmacosx-version-min=10.13 -std=gnu++11 -I"/Library/Frameworks/R.framework/Resources/include" -DNDEBUG  -I'/Library/Frameworks/R.framework/Versions/4.0/Resources/library/Rcpp/include' -I'/Library/Frameworks/R.framework/Versions/4.0/Resources/library/RcppAnnoy/include' -I'/Library/Frameworks/R.framework/Versions/4.0/Resources/library/RcppHNSW/include' -I/usr/local/include   -fPIC  -Wall -g -O2  -c find_exhaustive.cpp -o find_exhaustive.o
clang++ -mmacosx-version-min=10.13 -std=gnu++11 -I"/Library/Frameworks/R.framework/Resources/include" -DNDEBUG  -I'/Library/Frameworks/R.framework/Versions/4.0/Resources/library/Rcpp/include' -I'/Library/Frameworks/R.framework/Versions/4.0/Resources/library/RcppAnnoy/include' -I'/Library/Frameworks/R.framework/Versions/4.0/Resources/library/RcppHNSW/include' -I/usr/local/include   -fPIC  -Wall -g -O2  -c find_hnsw.cpp -o find_hnsw.o
clang++ -mmacosx-version-min=10.13 -std=gnu++11 -I"/Library/Frameworks/R.framework/Resources/include" -DNDEBUG  -I'/Library/Frameworks/R.framework/Versions/4.0/Resources/library/Rcpp/include' -I'/Library/Frameworks/R.framework/Versions/4.0/Resources/library/RcppAnnoy/include' -I'/Library/Frameworks/R.framework/Versions/4.0/Resources/library/RcppHNSW/include' -I/usr/local/include   -fPIC  -Wall -g -O2  -c find_kmknn.cpp -o find_kmknn.o
clang++ -mmacosx-version-min=10.13 -std=gnu++11 -I"/Library/Frameworks/R.framework/Resources/include" -DNDEBUG  -I'/Library/Frameworks/R.framework/Versions/4.0/Resources/library/Rcpp/include' -I'/Library/Frameworks/R.framework/Versions/4.0/Resources/library/RcppAnnoy/include' -I'/Library/Frameworks/R.framework/Versions/4.0/Resources/library/RcppHNSW/include' -I/usr/local/include   -fPIC  -Wall -g -O2  -c find_vptree.cpp -o find_vptree.o
clang++ -mmacosx-version-min=10.13 -std=gnu++11 -I"/Library/Frameworks/R.framework/Resources/include" -DNDEBUG  -I'/Library/Frameworks/R.framework/Versions/4.0/Resources/library/Rcpp/include' -I'/Library/Frameworks/R.framework/Versions/4.0/Resources/library/RcppAnnoy/include' -I'/Library/Frameworks/R.framework/Versions/4.0/Resources/library/RcppHNSW/include' -I/usr/local/include   -fPIC  -Wall -g -O2  -c hnsw.cpp -o hnsw.o
clang++ -mmacosx-version-min=10.13 -std=gnu++11 -I"/Library/Frameworks/R.framework/Resources/include" -DNDEBUG  -I'/Library/Frameworks/R.framework/Versions/4.0/Resources/library/Rcpp/include' -I'/Library/Frameworks/R.framework/Versions/4.0/Resources/library/RcppAnnoy/include' -I'/Library/Frameworks/R.framework/Versions/4.0/Resources/library/RcppHNSW/include' -I/usr/local/include   -fPIC  -Wall -g -O2  -c kmknn.cpp -o kmknn.o
clang++ -mmacosx-version-min=10.13 -std=gnu++11 -I"/Library/Frameworks/R.framework/Resources/include" -DNDEBUG  -I'/Library/Frameworks/R.framework/Versions/4.0/Resources/library/Rcpp/include' -I'/Library/Frameworks/R.framework/Versions/4.0/Resources/library/RcppAnnoy/include' -I'/Library/Frameworks/R.framework/Versions/4.0/Resources/library/RcppHNSW/include' -I/usr/local/include   -fPIC  -Wall -g -O2  -c query_annoy.cpp -o query_annoy.o
clang++ -mmacosx-version-min=10.13 -std=gnu++11 -I"/Library/Frameworks/R.framework/Resources/include" -DNDEBUG  -I'/Library/Frameworks/R.framework/Versions/4.0/Resources/library/Rcpp/include' -I'/Library/Frameworks/R.framework/Versions/4.0/Resources/library/RcppAnnoy/include' -I'/Library/Frameworks/R.framework/Versions/4.0/Resources/library/RcppHNSW/include' -I/usr/local/include   -fPIC  -Wall -g -O2  -c query_exhaustive.cpp -o query_exhaustive.o
clang++ -mmacosx-version-min=10.13 -std=gnu++11 -I"/Library/Frameworks/R.framework/Resources/include" -DNDEBUG  -I'/Library/Frameworks/R.framework/Versions/4.0/Resources/library/Rcpp/include' -I'/Library/Frameworks/R.framework/Versions/4.0/Resources/library/RcppAnnoy/include' -I'/Library/Frameworks/R.framework/Versions/4.0/Resources/library/RcppHNSW/include' -I/usr/local/include   -fPIC  -Wall -g -O2  -c query_hnsw.cpp -o query_hnsw.o
clang++ -mmacosx-version-min=10.13 -std=gnu++11 -I"/Library/Frameworks/R.framework/Resources/include" -DNDEBUG  -I'/Library/Frameworks/R.framework/Versions/4.0/Resources/library/Rcpp/include' -I'/Library/Frameworks/R.framework/Versions/4.0/Resources/library/RcppAnnoy/include' -I'/Library/Frameworks/R.framework/Versions/4.0/Resources/library/RcppHNSW/include' -I/usr/local/include   -fPIC  -Wall -g -O2  -c query_kmknn.cpp -o query_kmknn.o
clang++ -mmacosx-version-min=10.13 -std=gnu++11 -I"/Library/Frameworks/R.framework/Resources/include" -DNDEBUG  -I'/Library/Frameworks/R.framework/Versions/4.0/Resources/library/Rcpp/include' -I'/Library/Frameworks/R.framework/Versions/4.0/Resources/library/RcppAnnoy/include' -I'/Library/Frameworks/R.framework/Versions/4.0/Resources/library/RcppHNSW/include' -I/usr/local/include   -fPIC  -Wall -g -O2  -c query_vptree.cpp -o query_vptree.o
clang++ -mmacosx-version-min=10.13 -std=gnu++11 -I"/Library/Frameworks/R.framework/Resources/include" -DNDEBUG  -I'/Library/Frameworks/R.framework/Versions/4.0/Resources/library/Rcpp/include' -I'/Library/Frameworks/R.framework/Versions/4.0/Resources/library/RcppAnnoy/include' -I'/Library/Frameworks/R.framework/Versions/4.0/Resources/library/RcppHNSW/include' -I/usr/local/include   -fPIC  -Wall -g -O2  -c utils.cpp -o utils.o
clang++ -mmacosx-version-min=10.13 -std=gnu++11 -I"/Library/Frameworks/R.framework/Resources/include" -DNDEBUG  -I'/Library/Frameworks/R.framework/Versions/4.0/Resources/library/Rcpp/include' -I'/Library/Frameworks/R.framework/Versions/4.0/Resources/library/RcppAnnoy/include' -I'/Library/Frameworks/R.framework/Versions/4.0/Resources/library/RcppHNSW/include' -I/usr/local/include   -fPIC  -Wall -g -O2  -c vptree.cpp -o vptree.o
clang++ -mmacosx-version-min=10.13 -std=gnu++11 -dynamiclib -Wl,-headerpad_max_install_names -undefined dynamic_lookup -single_module -multiply_defined suppress -L/Library/Frameworks/R.framework/Resources/lib -L/usr/local/lib -o BiocNeighbors.so RcppExports.o annoy.o build_annoy.o build_hnsw.o build_vptree.o distances.o exhaustive.o find_annoy.o find_exhaustive.o find_hnsw.o find_kmknn.o find_vptree.o hnsw.o kmknn.o query_annoy.o query_exhaustive.o query_hnsw.o query_kmknn.o query_vptree.o utils.o vptree.o -F/Library/Frameworks/R.framework/.. -framework R -Wl,-framework -Wl,CoreFoundation
installing to /Library/Frameworks/R.framework/Versions/4.0/Resources/library/00LOCK-BiocNeighbors/00new/BiocNeighbors/libs
** R
** inst
** byte-compile and prepare package for lazy loading
** help
*** installing help indices
** building package indices
** installing vignettes
** testing if installed package can be loaded from temporary location
** checking absolute paths in shared objects and dynamic libraries
** testing if installed package can be loaded from final location
** testing if installed package keeps a record of temporary installation path
* DONE (BiocNeighbors)