Back to Multiple platform build/check report for BioC 3.12
A[B]CDEFGHIJKLMNOPQRSTUVWXYZ

BUILD BIN report for BadRegionFinder on merida1

This page was generated on 2021-04-12 12:32:46 -0400 (Mon, 12 Apr 2021).

To the developers/maintainers of the BadRegionFinder package:
Please make sure to use the following settings in order to reproduce any error or warning you see on this page.
Package 109/1974HostnameOS / ArchINSTALLBUILDCHECKBUILD BIN
BadRegionFinder 1.18.0  (landing page)
Sarah Sandmann
Snapshot Date: 2021-04-11 14:51:36 -0400 (Sun, 11 Apr 2021)
URL: https://git.bioconductor.org/packages/BadRegionFinder
Branch: RELEASE_3_12
Last Commit: 54deba4
Last Changed Date: 2020-10-27 11:13:27 -0400 (Tue, 27 Oct 2020)
malbec1Linux (Ubuntu 18.04.5 LTS) / x86_64  OK    OK    OK  UNNEEDED, same version exists in internal repository
tokay1Windows Server 2012 R2 Standard / x64  OK    OK    OK    OK  UNNEEDED, same version exists in internal repository
merida1macOS 10.14.6 Mojave / x86_64  OK    OK    OK    OK  UNNEEDED, same version exists in internal repository

Summary

Package: BadRegionFinder
Version: 1.18.0
Command: rm -rf BadRegionFinder.buildbin-libdir && mkdir BadRegionFinder.buildbin-libdir && /Users/biocbuild/BBS/utils/build-universal.sh BadRegionFinder_1.18.0.tar.gz /Library/Frameworks/R.framework/Versions/Current/Resources/bin/R BadRegionFinder.buildbin-libdir
StartedAt: 2021-04-12 07:56:39 -0400 (Mon, 12 Apr 2021)
EndedAt: 2021-04-12 07:57:27 -0400 (Mon, 12 Apr 2021)
EllapsedTime: 48.8 seconds
RetCode: 0
Status:   OK  
PackageFile: BadRegionFinder_1.18.0.tgz
PackageFileSize: 864.5 KiB

Command output

##############################################################################
##############################################################################
###
### Running command:
###
###   rm -rf BadRegionFinder.buildbin-libdir && mkdir BadRegionFinder.buildbin-libdir && /Users/biocbuild/BBS/utils/build-universal.sh BadRegionFinder_1.18.0.tar.gz /Library/Frameworks/R.framework/Versions/Current/Resources/bin/R BadRegionFinder.buildbin-libdir
###
##############################################################################
##############################################################################


>>>>>>> 
>>>>>>> INSTALLATION WITH 'R CMD INSTALL --preclean --no-multiarch --library=BadRegionFinder.buildbin-libdir BadRegionFinder_1.18.0.tar.gz'
>>>>>>> 

* installing *source* package ‘BadRegionFinder’ ...
** using staged installation
** R
** inst
** byte-compile and prepare package for lazy loading
** help
*** installing help indices
** building package indices
** installing vignettes
** testing if installed package can be loaded from temporary location
** testing if installed package can be loaded from final location
** testing if installed package keeps a record of temporary installation path
* DONE (BadRegionFinder)