Back to Multiple platform build/check report for BioC 3.12
A[B]CDEFGHIJKLMNOPQRSTUVWXYZ

BUILD report for BrowserViz on malbec1

This page was generated on 2021-04-13 12:12:01 -0400 (Tue, 13 Apr 2021).

To the developers/maintainers of the BrowserViz package:
Please make sure to use the following settings in order to reproduce any error or warning you see on this page.
Package 211/1974HostnameOS / ArchINSTALLBUILDCHECKBUILD BIN
BrowserViz 2.12.0  (landing page)
Paul Shannon
Snapshot Date: 2021-04-12 14:51:46 -0400 (Mon, 12 Apr 2021)
URL: https://git.bioconductor.org/packages/BrowserViz
Branch: RELEASE_3_12
Last Commit: e62f0d8
Last Changed Date: 2020-10-27 11:02:54 -0400 (Tue, 27 Oct 2020)
malbec1Linux (Ubuntu 18.04.5 LTS) / x86_64  OK    OK    OK  UNNEEDED, same version exists in internal repository
tokay1Windows Server 2012 R2 Standard / x64  OK    OK    OK    OK  UNNEEDED, same version exists in internal repository
merida1macOS 10.14.6 Mojave / x86_64  OK    OK    OK    OK  UNNEEDED, same version exists in internal repository

Summary

Package: BrowserViz
Version: 2.12.0
Command: /home/biocbuild/bbs-3.12-bioc/R/bin/R CMD build --keep-empty-dirs --no-resave-data BrowserViz
StartedAt: 2021-04-12 18:00:37 -0400 (Mon, 12 Apr 2021)
EndedAt: 2021-04-12 18:00:44 -0400 (Mon, 12 Apr 2021)
EllapsedTime: 6.7 seconds
RetCode: 0
Status:   OK  
PackageFile: BrowserViz_2.12.0.tar.gz
PackageFileSize: 242.9 KiB

Command output

##############################################################################
##############################################################################
###
### Running command:
###
###   /home/biocbuild/bbs-3.12-bioc/R/bin/R CMD build --keep-empty-dirs --no-resave-data BrowserViz
###
##############################################################################
##############################################################################


* checking for file ‘BrowserViz/DESCRIPTION’ ... OK
* preparing ‘BrowserViz’:
* checking DESCRIPTION meta-information ... OK
* installing the package to build vignettes
* creating vignettes ... OK
* checking for LF line-endings in source and make files and shell scripts
* checking for empty or unneeded directories
WARNING: directory ‘BrowserViz/docs’ is empty
* building ‘BrowserViz_2.12.0.tar.gz’