Back to Multiple platform build/check report for BioC 3.12
[A]BCDEFGHIJKLMNOPQRSTUVWXYZ

BUILD report for Autotuner on merida1

This page was generated on 2020-10-25 12:12:48 -0400 (Sun, 25 Oct 2020).

TO THE DEVELOPERS/MAINTAINERS OF THE Autotuner PACKAGE: Please make sure to use the following settings in order to reproduce any error or warning you see on this page.
Package 103/1974HostnameOS / ArchINSTALLBUILDCHECKBUILD BIN
Autotuner 1.3.0
Craig McLean
Snapshot Date: 2020-10-24 14:40:19 -0400 (Sat, 24 Oct 2020)
URL: https://git.bioconductor.org/packages/Autotuner
Branch: master
Last Commit: 8433395
Last Changed Date: 2020-09-24 18:49:53 -0400 (Thu, 24 Sep 2020)
malbec1 Linux (Ubuntu 18.04.4 LTS) / x86_64  OK  OK  OK UNNEEDED, same version exists in internal repository
nebbiolo1 Linux (Ubuntu 20.04.1 LTS) / x86_64  OK  OK  OK 
tokay1 Windows Server 2012 R2 Standard / x64  OK  OK  OK  OK UNNEEDED, same version exists in internal repository
riesling1 Windows Server 2019 Standard / x64  OK  OK  OK  OK 
merida1 macOS 10.14.6 Mojave / x86_64  OK [ OK ] OK  OK UNNEEDED, same version exists in internal repository

Summary

Package: Autotuner
Version: 1.3.0
Command: /Library/Frameworks/R.framework/Versions/Current/Resources/bin/R CMD build --keep-empty-dirs --no-resave-data Autotuner
StartedAt: 2020-10-24 18:07:22 -0400 (Sat, 24 Oct 2020)
EndedAt: 2020-10-24 18:08:49 -0400 (Sat, 24 Oct 2020)
EllapsedTime: 87.0 seconds
RetCode: 0
Status:  OK 
PackageFile: Autotuner_1.3.0.tar.gz
PackageFileSize: 2.012 MiB

Command output

##############################################################################
##############################################################################
###
### Running command:
###
###   /Library/Frameworks/R.framework/Versions/Current/Resources/bin/R CMD build --keep-empty-dirs --no-resave-data Autotuner
###
##############################################################################
##############################################################################


* checking for file ‘Autotuner/DESCRIPTION’ ... OK
* preparing ‘Autotuner’:
* checking DESCRIPTION meta-information ... OK
* installing the package to build vignettes
* creating vignettes ... OK
* checking for LF line-endings in source and make files and shell scripts
* checking for empty or unneeded directories
* building ‘Autotuner_1.3.0.tar.gz’