Back to Multiple platform build/check report for BioC 3.12
ABCDEF[G]HIJKLMNOPQRSTUVWXYZ

Multiple platform build/check report for BioC 3.12

Results for package gQTLBase

This page was generated on 2021-03-03 12:08:52 -0500 (Wed, 03 Mar 2021).

Package 776/1974HostnameOS / ArchINSTALLBUILDCHECKBUILD BIN
gQTLBase 1.22.0
VJ Carey
Snapshot Date: 2021-03-02 14:50:31 -0500 (Tue, 02 Mar 2021)
URL: https://git.bioconductor.org/packages/gQTLBase
Branch: RELEASE_3_12
Last Commit: be24b27
Last Changed Date: 2020-10-27 11:01:29 -0500 (Tue, 27 Oct 2020)
malbec1Linux (Ubuntu 18.04.5 LTS) / x86_64  ERROR    ERROR  skipped
nebbiolo1Linux (Ubuntu 20.04.2 LTS) / x86_64  ERROR    ERROR  skipped
tokay1Windows Server 2012 R2 Standard / x64  ERROR    ERROR  skippedskipped
merida1macOS 10.14.6 Mojave / x86_64  ERROR    ERROR  skippedskipped