Back to Multiple platform build/check report for BioC 3.12
AB[C]DEFGHIJKLMNOPQRSTUVWXYZ

INSTALL report for ccrepe on tokay1

This page was generated on 2020-08-13 11:37:52 -0400 (Thu, 13 Aug 2020).

TO THE DEVELOPERS/MAINTAINERS OF THE ccrepe PACKAGE: Please make sure to use the following settings in order to reproduce any error or warning you see on this page.
Package 236/1885HostnameOS / ArchINSTALLBUILDCHECKBUILD BIN
ccrepe 1.25.0
Emma Schwager ,Craig Bielski, George Weingart
Snapshot Date: 2020-08-12 14:52:00 -0400 (Wed, 12 Aug 2020)
URL: https://git.bioconductor.org/packages/ccrepe
Branch: master
Last Commit: 6d5e554
Last Changed Date: 2020-04-27 14:37:41 -0400 (Mon, 27 Apr 2020)
malbec1 Linux (Ubuntu 18.04.4 LTS) / x86_64  OK  OK  OK UNNEEDED, same version exists in internal repository
nebbiolo1 Linux (Ubuntu 20.04.1 LTS) / x86_64  OK  OK  OK 
tokay1 Windows Server 2012 R2 Standard / x64 [ OK ] OK  OK  OK UNNEEDED, same version exists in internal repository
merida1 macOS 10.14.6 Mojave / x86_64  OK  OK  OK  OK UNNEEDED, same version exists in internal repository

Summary

Package: ccrepe
Version: 1.25.0
Command: C:\cygwin\bin\curl.exe -O https://malbec1.bioconductor.org/BBS/3.12/bioc/src/contrib/ccrepe_1.25.0.tar.gz && rm -rf ccrepe.buildbin-libdir && mkdir ccrepe.buildbin-libdir && C:\Users\biocbuild\bbs-3.12-bioc\R\bin\R.exe CMD INSTALL --merge-multiarch --build --library=ccrepe.buildbin-libdir ccrepe_1.25.0.tar.gz && C:\Users\biocbuild\bbs-3.12-bioc\R\bin\R.exe CMD INSTALL ccrepe_1.25.0.zip && rm ccrepe_1.25.0.tar.gz ccrepe_1.25.0.zip
StartedAt: 2020-08-12 16:36:07 -0400 (Wed, 12 Aug 2020)
EndedAt: 2020-08-12 16:36:35 -0400 (Wed, 12 Aug 2020)
EllapsedTime: 27.2 seconds
RetCode: 0
Status:  OK  

Command output

##############################################################################
##############################################################################
###
### Running command:
###
###   C:\cygwin\bin\curl.exe -O https://malbec1.bioconductor.org/BBS/3.12/bioc/src/contrib/ccrepe_1.25.0.tar.gz && rm -rf ccrepe.buildbin-libdir && mkdir ccrepe.buildbin-libdir && C:\Users\biocbuild\bbs-3.12-bioc\R\bin\R.exe CMD INSTALL --merge-multiarch --build --library=ccrepe.buildbin-libdir ccrepe_1.25.0.tar.gz && C:\Users\biocbuild\bbs-3.12-bioc\R\bin\R.exe CMD INSTALL ccrepe_1.25.0.zip && rm ccrepe_1.25.0.tar.gz ccrepe_1.25.0.zip
###
##############################################################################
##############################################################################


  % Total    % Received % Xferd  Average Speed   Time    Time     Time  Current
                                 Dload  Upload   Total   Spent    Left  Speed

  0     0    0     0    0     0      0      0 --:--:-- --:--:-- --:--:--     0
100 32251  100 32251    0     0   949k      0 --:--:-- --:--:-- --:--:-- 1086k

install for i386

* installing *source* package 'ccrepe' ...
** using staged installation
** R
** inst
** byte-compile and prepare package for lazy loading
** help
*** installing help indices
  converting help for package 'ccrepe'
    finding HTML links ... done
    ccrepe-package                          html  
    ccrepe                                  html  
    ccrepeSampleTestFunction                html  
    nc.score                                html  
** building package indices
** installing vignettes
** testing if installed package can be loaded from temporary location
** testing if installed package can be loaded from final location
** testing if installed package keeps a record of temporary installation path

install for x64

* installing *source* package 'ccrepe' ...
** testing if installed package can be loaded
* MD5 sums
packaged installation of 'ccrepe' as ccrepe_1.25.0.zip
* DONE (ccrepe)
* installing to library 'C:/Users/biocbuild/bbs-3.12-bioc/R/library'
package 'ccrepe' successfully unpacked and MD5 sums checked