Back to Multiple platform build/check report for BioC 3.12
A[B]CDEFGHIJKLMNOPQRSTUVWXYZ

BUILD report for bamsignals on tokay1

This page was generated on 2020-08-10 12:18:22 -0400 (Mon, 10 Aug 2020).

TO THE DEVELOPERS/MAINTAINERS OF THE bamsignals PACKAGE: Please make sure to use the following settings in order to reproduce any error or warning you see on this page.
Package 106/1882HostnameOS / ArchINSTALLBUILDCHECKBUILD BIN
bamsignals 1.21.1
Johannes Helmuth
Snapshot Date: 2020-08-09 14:51:29 -0400 (Sun, 09 Aug 2020)
URL: https://git.bioconductor.org/packages/bamsignals
Branch: master
Last Commit: 026c62d
Last Changed Date: 2020-07-14 16:03:36 -0400 (Tue, 14 Jul 2020)
malbec1 Linux (Ubuntu 18.04.4 LTS) / x86_64  OK  OK  OK UNNEEDED, same version exists in internal repository
nebbiolo1 Linux (Ubuntu 20.04.1 LTS) / x86_64  OK  OK  OK 
tokay1 Windows Server 2012 R2 Standard / x64  OK [ OK ] OK  OK UNNEEDED, same version exists in internal repository
merida1 macOS 10.14.6 Mojave / x86_64  OK  OK  OK  OK UNNEEDED, same version exists in internal repository

Summary

Package: bamsignals
Version: 1.21.1
Command: chmod a+r bamsignals -R && C:\Users\biocbuild\bbs-3.12-bioc\R\bin\R.exe CMD build --keep-empty-dirs --no-resave-data bamsignals
StartedAt: 2020-08-09 20:39:20 -0400 (Sun, 09 Aug 2020)
EndedAt: 2020-08-09 20:40:09 -0400 (Sun, 09 Aug 2020)
EllapsedTime: 49.1 seconds
RetCode: 0
Status:  OK  
PackageFile: bamsignals_1.21.1.tar.gz
PackageFileSize: 2.667 MiB

Command output

##############################################################################
##############################################################################
###
### Running command:
###
###   chmod a+r bamsignals -R && C:\Users\biocbuild\bbs-3.12-bioc\R\bin\R.exe CMD build --keep-empty-dirs --no-resave-data bamsignals
###
##############################################################################
##############################################################################


* checking for file 'bamsignals/DESCRIPTION' ... OK
* preparing 'bamsignals':
* checking DESCRIPTION meta-information ... OK
* cleaning src
* installing the package to build vignettes
* creating vignettes ... OK
* cleaning src
* checking for LF line-endings in source and make files and shell scripts
* checking for empty or unneeded directories
* building 'bamsignals_1.21.1.tar.gz'