Back to Multiple platform build/check report for BioC 3.12
A[B]CDEFGHIJKLMNOPQRSTUVWXYZ

BUILD BIN report for bnbc on merida1

This page was generated on 2020-10-12 12:17:11 -0400 (Mon, 12 Oct 2020).

TO THE DEVELOPERS/MAINTAINERS OF THE bnbc PACKAGE: Please make sure to use the following settings in order to reproduce any error or warning you see on this page.
Package 192/1930HostnameOS / ArchINSTALLBUILDCHECKBUILD BIN
bnbc 1.11.0
Kipper Fletez-Brant
Snapshot Date: 2020-10-11 14:41:46 -0400 (Sun, 11 Oct 2020)
URL: https://git.bioconductor.org/packages/bnbc
Branch: master
Last Commit: 0285f52
Last Changed Date: 2020-04-27 15:11:22 -0400 (Mon, 27 Apr 2020)
malbec1 Linux (Ubuntu 18.04.4 LTS) / x86_64  OK  OK  OK UNNEEDED, same version exists in internal repository
nebbiolo1 Linux (Ubuntu 20.04.1 LTS) / x86_64  OK  OK  OK 
tokay1 Windows Server 2012 R2 Standard / x64  OK  OK  OK  OK UNNEEDED, same version exists in internal repository
riesling1 Windows Server 2019 Standard / x64  OK  OK  OK  OK 
merida1 macOS 10.14.6 Mojave / x86_64  OK  OK  OK [ OK ]UNNEEDED, same version exists in internal repository

Summary

Package: bnbc
Version: 1.11.0
Command: rm -rf bnbc.buildbin-libdir && mkdir bnbc.buildbin-libdir && /Users/biocbuild/BBS/utils/build-universal.sh bnbc_1.11.0.tar.gz /Library/Frameworks/R.framework/Versions/Current/Resources/bin/R bnbc.buildbin-libdir
StartedAt: 2020-10-12 09:43:10 -0400 (Mon, 12 Oct 2020)
EndedAt: 2020-10-12 09:45:09 -0400 (Mon, 12 Oct 2020)
EllapsedTime: 119.0 seconds
RetCode: 0
Status:  OK 
PackageFile: bnbc_1.11.0.tgz
PackageFileSize: 3.058 MiB

Command output

##############################################################################
##############################################################################
###
### Running command:
###
###   rm -rf bnbc.buildbin-libdir && mkdir bnbc.buildbin-libdir && /Users/biocbuild/BBS/utils/build-universal.sh bnbc_1.11.0.tar.gz /Library/Frameworks/R.framework/Versions/Current/Resources/bin/R bnbc.buildbin-libdir
###
##############################################################################
##############################################################################


>>>>>>> 
>>>>>>> INSTALLATION WITH 'R CMD INSTALL --preclean --no-multiarch --library=bnbc.buildbin-libdir bnbc_1.11.0.tar.gz'
>>>>>>> 

* installing *source* package ‘bnbc’ ...
** using staged installation
** libs
clang++ -mmacosx-version-min=10.13 -std=gnu++11 -I"/Library/Frameworks/R.framework/Resources/include" -DNDEBUG  -I'/Library/Frameworks/R.framework/Versions/4.0/Resources/library/Rcpp/include' -I/usr/local/include   -fPIC  -Wall -g -O2  -c RcppExports.cpp -o RcppExports.o
clang++ -mmacosx-version-min=10.13 -std=gnu++11 -I"/Library/Frameworks/R.framework/Resources/include" -DNDEBUG  -I'/Library/Frameworks/R.framework/Versions/4.0/Resources/library/Rcpp/include' -I/usr/local/include   -fPIC  -Wall -g -O2  -c update_bands.cpp -o update_bands.o
clang++ -mmacosx-version-min=10.13 -std=gnu++11 -dynamiclib -Wl,-headerpad_max_install_names -undefined dynamic_lookup -single_module -multiply_defined suppress -L/Library/Frameworks/R.framework/Resources/lib -L/usr/local/lib -o bnbc.so RcppExports.o update_bands.o -F/Library/Frameworks/R.framework/.. -framework R -Wl,-framework -Wl,CoreFoundation
installing to /Users/biocbuild/bbs-3.12-bioc/meat/bnbc.buildbin-libdir/00LOCK-bnbc/00new/bnbc/libs
** R
** data
** inst
** byte-compile and prepare package for lazy loading
** help
*** installing help indices
** building package indices
** installing vignettes
** testing if installed package can be loaded from temporary location
** checking absolute paths in shared objects and dynamic libraries
** testing if installed package can be loaded from final location
** testing if installed package keeps a record of temporary installation path
* DONE (bnbc)


>>>>>>> 
>>>>>>> FIXING LINKS FOR bnbc.buildbin-libdir/bnbc/libs/bnbc.so
>>>>>>> 

install_name_tool -change "/usr/local/lib/libgcc_s.1.dylib" "/Library/Frameworks/R.framework/Versions/4.0/Resources/lib/libgcc_s.1.dylib" "bnbc.buildbin-libdir/bnbc/libs/bnbc.so"
install_name_tool -change "/usr/local/lib/libgfortran.5.dylib" "/Library/Frameworks/R.framework/Versions/4.0/Resources/lib/libgfortran.5.dylib" "bnbc.buildbin-libdir/bnbc/libs/bnbc.so"
install_name_tool -change "/usr/local/lib/libquadmath.0.dylib" "/Library/Frameworks/R.framework/Versions/4.0/Resources/lib/libquadmath.0.dylib" "bnbc.buildbin-libdir/bnbc/libs/bnbc.so"