Back to Multiple platform build/check report for BioC 3.12
[A]BCDEFGHIJKLMNOPQRSTUVWXYZ

BUILD report for AffyExpress on tokay1

This page was generated on 2020-08-11 11:36:47 -0400 (Tue, 11 Aug 2020).

TO THE DEVELOPERS/MAINTAINERS OF THE AffyExpress PACKAGE: Please make sure to use the following settings in order to reproduce any error or warning you see on this page.
Package 28/1885HostnameOS / ArchINSTALLBUILDCHECKBUILD BIN
AffyExpress 1.55.0
Xuejun Arthur Li
Snapshot Date: 2020-08-10 14:50:56 -0400 (Mon, 10 Aug 2020)
URL: https://git.bioconductor.org/packages/AffyExpress
Branch: master
Last Commit: 900fba3
Last Changed Date: 2020-04-27 14:15:41 -0400 (Mon, 27 Apr 2020)
malbec1 Linux (Ubuntu 18.04.4 LTS) / x86_64  OK  OK  OK UNNEEDED, same version exists in internal repository
nebbiolo1 Linux (Ubuntu 20.04.1 LTS) / x86_64  OK  OK  NA 
tokay1 Windows Server 2012 R2 Standard / x64  OK [ OK ] OK  OK UNNEEDED, same version exists in internal repository
merida1 macOS 10.14.6 Mojave / x86_64  OK  ERROR  skipped  skipped 

Summary

Package: AffyExpress
Version: 1.55.0
Command: chmod a+r AffyExpress -R && C:\Users\biocbuild\bbs-3.12-bioc\R\bin\R.exe CMD build --keep-empty-dirs --no-resave-data AffyExpress
StartedAt: 2020-08-10 19:16:47 -0400 (Mon, 10 Aug 2020)
EndedAt: 2020-08-10 19:18:30 -0400 (Mon, 10 Aug 2020)
EllapsedTime: 103.4 seconds
RetCode: 0
Status:  OK  
PackageFile: AffyExpress_1.55.0.tar.gz
PackageFileSize: 647.3 KiB

Command output

##############################################################################
##############################################################################
###
### Running command:
###
###   chmod a+r AffyExpress -R && C:\Users\biocbuild\bbs-3.12-bioc\R\bin\R.exe CMD build --keep-empty-dirs --no-resave-data AffyExpress
###
##############################################################################
##############################################################################


* checking for file 'AffyExpress/DESCRIPTION' ... OK
* preparing 'AffyExpress':
* checking DESCRIPTION meta-information ... OK
* installing the package to build vignettes
* creating vignettes ... OK
* checking for LF line-endings in source and make files and shell scripts
* checking for empty or unneeded directories
* looking to see if a 'data/datalist' file should be added
* building 'AffyExpress_1.55.0.tar.gz'