Back to Multiple platform build/check report for BioC 3.12
AB[C]DEFGHIJKLMNOPQRSTUVWXYZ

INSTALL report for CellBench on malbec1

This page was generated on 2020-08-14 10:40:31 -0400 (Fri, 14 Aug 2020).

TO THE DEVELOPERS/MAINTAINERS OF THE CellBench PACKAGE: Please make sure to use the following settings in order to reproduce any error or warning you see on this page.
Package 240/1889HostnameOS / ArchINSTALLBUILDCHECKBUILD BIN
CellBench 1.5.1
Shian Su
Snapshot Date: 2020-08-13 14:54:37 -0400 (Thu, 13 Aug 2020)
URL: https://git.bioconductor.org/packages/CellBench
Branch: master
Last Commit: 7282a9d
Last Changed Date: 2020-06-04 22:17:03 -0400 (Thu, 04 Jun 2020)
malbec1 Linux (Ubuntu 18.04.4 LTS) / x86_64 [ OK ] OK  OK UNNEEDED, same version exists in internal repository
nebbiolo1 Linux (Ubuntu 20.04.1 LTS) / x86_64  OK  OK  OK 
tokay1 Windows Server 2012 R2 Standard / x64  OK  OK  OK  OK UNNEEDED, same version exists in internal repository
merida1 macOS 10.14.6 Mojave / x86_64  OK  OK  OK  OK UNNEEDED, same version exists in internal repository

Summary

Package: CellBench
Version: 1.5.1
Command: /home/biocbuild/bbs-3.12-bioc/R/bin/R CMD INSTALL CellBench
StartedAt: 2020-08-13 17:10:55 -0400 (Thu, 13 Aug 2020)
EndedAt: 2020-08-13 17:11:31 -0400 (Thu, 13 Aug 2020)
EllapsedTime: 36.6 seconds
RetCode: 0
Status:  OK 

Command output

##############################################################################
##############################################################################
###
### Running command:
###
###   /home/biocbuild/bbs-3.12-bioc/R/bin/R CMD INSTALL CellBench
###
##############################################################################
##############################################################################


* installing to library ‘/home/biocbuild/bbs-3.12-bioc/R/library’
* installing *source* package ‘CellBench’ ...
** using staged installation
** R
** data
*** moving datasets to lazyload DB
** inst
** byte-compile and prepare package for lazy loading
** help
*** installing help indices
** building package indices
** installing vignettes
   ‘DataManipulation.Rmd’ using ‘UTF-8’ 
   ‘Introduction.Rmd’ using ‘UTF-8’ 
   ‘TidyversePatterns.Rmd’ using ‘UTF-8’ 
   ‘Timing.Rmd’ using ‘UTF-8’ 
   ‘WritingWrappers.Rmd’ using ‘UTF-8’ 
** testing if installed package can be loaded from temporary location
** testing if installed package can be loaded from final location
** testing if installed package keeps a record of temporary installation path
* DONE (CellBench)