Back to Multiple platform build/check report for BioC 3.12
[A]BCDEFGHIJKLMNOPQRSTUVWXYZ

INSTALL report for ATACseqQC on merida1

This page was generated on 2020-10-14 11:24:03 -0400 (Wed, 14 Oct 2020).

TO THE DEVELOPERS/MAINTAINERS OF THE ATACseqQC PACKAGE: Please make sure to use the following settings in order to reproduce any error or warning you see on this page.
Package 95/1930HostnameOS / ArchINSTALLBUILDCHECKBUILD BIN
ATACseqQC 1.13.6
Jianhong Ou
Snapshot Date: 2020-10-13 14:40:34 -0400 (Tue, 13 Oct 2020)
URL: https://git.bioconductor.org/packages/ATACseqQC
Branch: master
Last Commit: 5f7a616
Last Changed Date: 2020-09-01 10:41:53 -0400 (Tue, 01 Sep 2020)
malbec1 Linux (Ubuntu 18.04.4 LTS) / x86_64  OK  OK  OK UNNEEDED, same version exists in internal repository
nebbiolo1 Linux (Ubuntu 20.04.1 LTS) / x86_64  OK  OK  OK 
tokay1 Windows Server 2012 R2 Standard / x64  OK  OK  OK  NA 
riesling1 Windows Server 2019 Standard / x64  OK  OK  OK  OK 
merida1 macOS 10.14.6 Mojave / x86_64 [ OK ] OK  OK  NA 

Summary

Package: ATACseqQC
Version: 1.13.6
Command: /Library/Frameworks/R.framework/Versions/Current/Resources/bin/R CMD INSTALL ATACseqQC
StartedAt: 2020-10-13 17:11:05 -0400 (Tue, 13 Oct 2020)
EndedAt: 2020-10-13 17:12:11 -0400 (Tue, 13 Oct 2020)
EllapsedTime: 65.5 seconds
RetCode: 0
Status:  OK 

Command output

##############################################################################
##############################################################################
###
### Running command:
###
###   /Library/Frameworks/R.framework/Versions/Current/Resources/bin/R CMD INSTALL ATACseqQC
###
##############################################################################
##############################################################################


* installing to library ‘/Library/Frameworks/R.framework/Versions/4.0/Resources/library’
* installing *source* package ‘ATACseqQC’ ...
** using staged installation
** R
** inst
** byte-compile and prepare package for lazy loading
** help
*** installing help indices
** building package indices
** installing vignettes
** testing if installed package can be loaded from temporary location
** testing if installed package can be loaded from final location
** testing if installed package keeps a record of temporary installation path
* DONE (ATACseqQC)