Back to Multiple platform build/check report for BioC 3.12
A[B]CDEFGHIJKLMNOPQRSTUVWXYZ

INSTALL report for branchpointer on tokay1

This page was generated on 2020-08-07 12:11:31 -0400 (Fri, 07 Aug 2020).

TO THE DEVELOPERS/MAINTAINERS OF THE branchpointer PACKAGE: Please make sure to use the following settings in order to reproduce any error or warning you see on this page.
Package 195/1882HostnameOS / ArchINSTALLBUILDCHECKBUILD BIN
branchpointer 1.15.0
Beth Signal
Snapshot Date: 2020-08-06 14:50:46 -0400 (Thu, 06 Aug 2020)
URL: https://git.bioconductor.org/packages/branchpointer
Branch: master
Last Commit: 3e7d7fa
Last Changed Date: 2020-04-27 15:06:12 -0400 (Mon, 27 Apr 2020)
malbec1 Linux (Ubuntu 18.04.4 LTS) / x86_64  OK  OK  OK UNNEEDED, same version exists in internal repository
tokay1 Windows Server 2012 R2 Standard / x64 [ OK ] OK  OK  OK UNNEEDED, same version exists in internal repository
merida1 macOS 10.14.6 Mojave / x86_64  OK  OK  OK  OK UNNEEDED, same version exists in internal repository

Summary

Package: branchpointer
Version: 1.15.0
Command: C:\cygwin\bin\curl.exe -O https://malbec1.bioconductor.org/BBS/3.12/bioc/src/contrib/branchpointer_1.15.0.tar.gz && rm -rf branchpointer.buildbin-libdir && mkdir branchpointer.buildbin-libdir && C:\Users\biocbuild\bbs-3.12-bioc\R\bin\R.exe CMD INSTALL --merge-multiarch --build --library=branchpointer.buildbin-libdir branchpointer_1.15.0.tar.gz && C:\Users\biocbuild\bbs-3.12-bioc\R\bin\R.exe CMD INSTALL branchpointer_1.15.0.zip && rm branchpointer_1.15.0.tar.gz branchpointer_1.15.0.zip
StartedAt: 2020-08-06 18:16:05 -0400 (Thu, 06 Aug 2020)
EndedAt: 2020-08-06 18:17:47 -0400 (Thu, 06 Aug 2020)
EllapsedTime: 102.2 seconds
RetCode: 0
Status:  OK  

Command output

##############################################################################
##############################################################################
###
### Running command:
###
###   C:\cygwin\bin\curl.exe -O https://malbec1.bioconductor.org/BBS/3.12/bioc/src/contrib/branchpointer_1.15.0.tar.gz && rm -rf branchpointer.buildbin-libdir && mkdir branchpointer.buildbin-libdir && C:\Users\biocbuild\bbs-3.12-bioc\R\bin\R.exe CMD INSTALL --merge-multiarch --build --library=branchpointer.buildbin-libdir branchpointer_1.15.0.tar.gz && C:\Users\biocbuild\bbs-3.12-bioc\R\bin\R.exe CMD INSTALL branchpointer_1.15.0.zip && rm branchpointer_1.15.0.tar.gz branchpointer_1.15.0.zip
###
##############################################################################
##############################################################################


  % Total    % Received % Xferd  Average Speed   Time    Time     Time  Current
                                 Dload  Upload   Total   Spent    Left  Speed

  0     0    0     0    0     0      0      0 --:--:-- --:--:-- --:--:--     0
100 4716k  100 4716k    0     0  56.9M      0 --:--:-- --:--:-- --:--:-- 59.8M

install for i386

* installing *source* package 'branchpointer' ...
** using staged installation
** R
** inst
** byte-compile and prepare package for lazy loading
** help
*** installing help indices
  converting help for package 'branchpointer'
    finding HTML links ... done
    exonsToIntrons                          html  
    getBranchpointSequence                  html  
    getCanonical3SS                         html  
    getExonDists                            html  
    getPPT                                  html  
    getQueryLoc                             html  
    gtfToExons                              html  
    makeBranchpointWindowForExons           html  
    makeBranchpointWindowForSNP             html  
    plotBranchpointWindow                   html  
    plotStructure                           html  
    predictBranchpoints                     html  
    predictionsToSummary                    html  
    readQueryFile                           html  
** building package indices
** installing vignettes
** testing if installed package can be loaded from temporary location
** testing if installed package can be loaded from final location
** testing if installed package keeps a record of temporary installation path

install for x64

* installing *source* package 'branchpointer' ...
** testing if installed package can be loaded
* MD5 sums
packaged installation of 'branchpointer' as branchpointer_1.15.0.zip
* DONE (branchpointer)
* installing to library 'C:/Users/biocbuild/bbs-3.12-bioc/R/library'
package 'branchpointer' successfully unpacked and MD5 sums checked