Back to Multiple platform build/check report for BioC 3.12
[A]BCDEFGHIJKLMNOPQRSTUVWXYZ

BUILD BIN report for ANF on tokay1

This page was generated on 2020-08-07 12:12:59 -0400 (Fri, 07 Aug 2020).

TO THE DEVELOPERS/MAINTAINERS OF THE ANF PACKAGE: Please make sure to use the following settings in order to reproduce any error or warning you see on this page.
Package 53/1882HostnameOS / ArchINSTALLBUILDCHECKBUILD BIN
ANF 1.11.0
Tianle Ma
Snapshot Date: 2020-08-06 14:50:46 -0400 (Thu, 06 Aug 2020)
URL: https://git.bioconductor.org/packages/ANF
Branch: master
Last Commit: 0117a4f
Last Changed Date: 2020-04-27 15:11:11 -0400 (Mon, 27 Apr 2020)
malbec1 Linux (Ubuntu 18.04.4 LTS) / x86_64  OK  OK  OK UNNEEDED, same version exists in internal repository
tokay1 Windows Server 2012 R2 Standard / x64  OK  OK  OK [ OK ]UNNEEDED, same version exists in internal repository
merida1 macOS 10.14.6 Mojave / x86_64  OK  OK  OK  OK UNNEEDED, same version exists in internal repository

Summary

Package: ANF
Version: 1.11.0
Command: rm -rf ANF.buildbin-libdir && mkdir ANF.buildbin-libdir && C:\Users\biocbuild\bbs-3.12-bioc\R\bin\R.exe CMD INSTALL --merge-multiarch --build --library=ANF.buildbin-libdir ANF_1.11.0.tar.gz
StartedAt: 2020-08-07 08:16:13 -0400 (Fri, 07 Aug 2020)
EndedAt: 2020-08-07 08:16:34 -0400 (Fri, 07 Aug 2020)
EllapsedTime: 21.3 seconds
RetCode: 0
Status:  OK  
PackageFile: ANF_1.11.0.zip
PackageFileSize: 263 KiB

Command output

##############################################################################
##############################################################################
###
### Running command:
###
###   rm -rf ANF.buildbin-libdir && mkdir ANF.buildbin-libdir && C:\Users\biocbuild\bbs-3.12-bioc\R\bin\R.exe CMD INSTALL --merge-multiarch --build --library=ANF.buildbin-libdir ANF_1.11.0.tar.gz
###
##############################################################################
##############################################################################



install for i386

* installing *source* package 'ANF' ...
** using staged installation
** R
** inst
** byte-compile and prepare package for lazy loading
** help
*** installing help indices
  converting help for package 'ANF'
    finding HTML links ... done
    ANF                                     html  
    affinity_matrix                         html  
    eval_clu                                html  
    kNN_graph                               html  
    pod                                     html  
    spectral_clustering                     html  
** building package indices
** installing vignettes
** testing if installed package can be loaded from temporary location
** testing if installed package can be loaded from final location
** testing if installed package keeps a record of temporary installation path

install for x64

* installing *source* package 'ANF' ...
** testing if installed package can be loaded
* MD5 sums
packaged installation of 'ANF' as ANF_1.11.0.zip
* DONE (ANF)