Back to Multiple platform build/check report for BioC 3.12
A[B]CDEFGHIJKLMNOPQRSTUVWXYZ

INSTALL report for BioSeqClass on merida1

This page was generated on 2020-08-11 11:52:58 -0400 (Tue, 11 Aug 2020).

TO THE DEVELOPERS/MAINTAINERS OF THE BioSeqClass PACKAGE: Please make sure to use the following settings in order to reproduce any error or warning you see on this page.
Package 175/1885HostnameOS / ArchINSTALLBUILDCHECKBUILD BIN
BioSeqClass 1.47.1
Li Hong
Snapshot Date: 2020-08-10 14:50:56 -0400 (Mon, 10 Aug 2020)
URL: https://git.bioconductor.org/packages/BioSeqClass
Branch: master
Last Commit: dcf5f74
Last Changed Date: 2020-06-08 10:03:34 -0400 (Mon, 08 Jun 2020)
malbec1 Linux (Ubuntu 18.04.4 LTS) / x86_64  OK  ERROR  skipped 
nebbiolo1 Linux (Ubuntu 20.04.1 LTS) / x86_64  OK  ERROR  skipped 
tokay1 Windows Server 2012 R2 Standard / x64  OK  ERROR  skipped  skipped 
merida1 macOS 10.14.6 Mojave / x86_64 [ OK ] ERROR  skipped  skipped 

Summary

Package: BioSeqClass
Version: 1.47.1
Command: /Library/Frameworks/R.framework/Versions/Current/Resources/bin/R CMD INSTALL BioSeqClass
StartedAt: 2020-08-10 16:34:37 -0400 (Mon, 10 Aug 2020)
EndedAt: 2020-08-10 16:35:21 -0400 (Mon, 10 Aug 2020)
EllapsedTime: 44.1 seconds
RetCode: 0
Status:  OK 

Command output

##############################################################################
##############################################################################
###
### Running command:
###
###   /Library/Frameworks/R.framework/Versions/Current/Resources/bin/R CMD INSTALL BioSeqClass
###
##############################################################################
##############################################################################


* installing to library ‘/Library/Frameworks/R.framework/Versions/4.0/Resources/library’
* installing *source* package ‘BioSeqClass’ ...
** using staged installation
** R
** data
** inst
** byte-compile and prepare package for lazy loading
** help
*** installing help indices
** building package indices
** installing vignettes
** testing if installed package can be loaded from temporary location
Warning: Package 'BioSeqClass' is deprecated and will be removed from
  Bioconductor version 3.13
** testing if installed package can be loaded from final location
Warning: Package 'BioSeqClass' is deprecated and will be removed from
  Bioconductor version 3.13
** testing if installed package keeps a record of temporary installation path
* DONE (BioSeqClass)