Back to Multiple platform build/check report for BioC 3.12
[A]BCDEFGHIJKLMNOPQRSTUVWXYZ

INSTALL report for adductomicsR on tokay1

This page was generated on 2020-08-11 11:48:04 -0400 (Tue, 11 Aug 2020).

TO THE DEVELOPERS/MAINTAINERS OF THE adductomicsR PACKAGE: Please make sure to use the following settings in order to reproduce any error or warning you see on this page.
Package 19/1885HostnameOS / ArchINSTALLBUILDCHECKBUILD BIN
adductomicsR 1.5.0
Josie Hayes
Snapshot Date: 2020-08-10 14:50:56 -0400 (Mon, 10 Aug 2020)
URL: https://git.bioconductor.org/packages/adductomicsR
Branch: master
Last Commit: fa14d84
Last Changed Date: 2020-04-27 15:22:50 -0400 (Mon, 27 Apr 2020)
malbec1 Linux (Ubuntu 18.04.4 LTS) / x86_64  OK  OK  WARNINGS UNNEEDED, same version exists in internal repository
nebbiolo1 Linux (Ubuntu 20.04.1 LTS) / x86_64  OK  OK  NA 
tokay1 Windows Server 2012 R2 Standard / x64 [ OK ] OK  WARNINGS  OK UNNEEDED, same version exists in internal repository
merida1 macOS 10.14.6 Mojave / x86_64  OK  OK  WARNINGS  OK UNNEEDED, same version exists in internal repository

Summary

Package: adductomicsR
Version: 1.5.0
Command: C:\cygwin\bin\curl.exe -O https://malbec1.bioconductor.org/BBS/3.12/bioc/src/contrib/adductomicsR_1.5.0.tar.gz && rm -rf adductomicsR.buildbin-libdir && mkdir adductomicsR.buildbin-libdir && C:\Users\biocbuild\bbs-3.12-bioc\R\bin\R.exe CMD INSTALL --merge-multiarch --build --library=adductomicsR.buildbin-libdir adductomicsR_1.5.0.tar.gz && C:\Users\biocbuild\bbs-3.12-bioc\R\bin\R.exe CMD INSTALL adductomicsR_1.5.0.zip && rm adductomicsR_1.5.0.tar.gz adductomicsR_1.5.0.zip
StartedAt: 2020-08-10 17:36:07 -0400 (Mon, 10 Aug 2020)
EndedAt: 2020-08-10 17:37:28 -0400 (Mon, 10 Aug 2020)
EllapsedTime: 81.0 seconds
RetCode: 0
Status:  OK  

Command output

##############################################################################
##############################################################################
###
### Running command:
###
###   C:\cygwin\bin\curl.exe -O https://malbec1.bioconductor.org/BBS/3.12/bioc/src/contrib/adductomicsR_1.5.0.tar.gz && rm -rf adductomicsR.buildbin-libdir && mkdir adductomicsR.buildbin-libdir && C:\Users\biocbuild\bbs-3.12-bioc\R\bin\R.exe CMD INSTALL --merge-multiarch --build --library=adductomicsR.buildbin-libdir adductomicsR_1.5.0.tar.gz && C:\Users\biocbuild\bbs-3.12-bioc\R\bin\R.exe CMD INSTALL adductomicsR_1.5.0.zip && rm adductomicsR_1.5.0.tar.gz adductomicsR_1.5.0.zip
###
##############################################################################
##############################################################################


  % Total    % Received % Xferd  Average Speed   Time    Time     Time  Current
                                 Dload  Upload   Total   Spent    Left  Speed

  0     0    0     0    0     0      0      0 --:--:-- --:--:-- --:--:--     0
  0     0    0     0    0     0      0      0 --:--:-- --:--:-- --:--:--     0
100  741k  100  741k    0     0  1152k      0 --:--:-- --:--:-- --:--:-- 1156k

install for i386

* installing *source* package 'adductomicsR' ...
** using staged installation
** R
** inst
** byte-compile and prepare package for lazy loading
** help
*** installing help indices
  converting help for package 'adductomicsR'
    finding HTML links ... done
    IsotopicDistributionMod                 html  
    adductQuant                             html  
    adductQuantif-class                     html  
    adductSpec-class                        html  
    adductSpecGen                           html  
    digestMod                               html  
    finding level-2 HTML links ... done

    dotProdMatrix                           html  
    dotProdSpectra                          html  
    dynamicNoiseFilter                      html  
    filterAdductTable                       html  
    findPeaks                               html  
    generateTargTable                       html  
    loessWrapperMod                         html  
    ms2Group                                html  
    nAdjPeaks                               html  
    outputPeakTable                         html  
    peakIdQuant_newMethod                   html  
    peakIntegrate                           html  
    peakListId                              html  
    peakRangeSum                            html  
    probPeaks                               html  
    retentionCorr                           html  
    rtDevModelSave                          html  
    rtDevModelling                          html  
    signalGrouping                          html  
    specSimPepId                            html  
    spectraCreate                           html  
    truePeakTrough                          html  
** building package indices
** installing vignettes
** testing if installed package can be loaded from temporary location
** testing if installed package can be loaded from final location
** testing if installed package keeps a record of temporary installation path

install for x64

* installing *source* package 'adductomicsR' ...
** testing if installed package can be loaded
* MD5 sums
packaged installation of 'adductomicsR' as adductomicsR_1.5.0.zip
* DONE (adductomicsR)
* installing to library 'C:/Users/biocbuild/bbs-3.12-bioc/R/library'
package 'adductomicsR' successfully unpacked and MD5 sums checked