Back to Multiple platform build/check report for BioC 3.12
ABCDEFGHIJKL[M]NOPQRSTUVWXYZ

INSTALL report for MethCP on malbec1

This page was generated on 2021-04-17 12:07:08 -0400 (Sat, 17 Apr 2021).

To the developers/maintainers of the MethCP package:
Please make sure to use the following settings in order to reproduce any error or warning you see on this page.
Package 1064/1974HostnameOS / ArchINSTALLBUILDCHECKBUILD BIN
MethCP 1.4.0  (landing page)
Boying Gong
Snapshot Date: 2021-04-16 14:50:12 -0400 (Fri, 16 Apr 2021)
URL: https://git.bioconductor.org/packages/MethCP
Branch: RELEASE_3_12
Last Commit: 06c4008
Last Changed Date: 2020-10-27 11:50:49 -0400 (Tue, 27 Oct 2020)
malbec1Linux (Ubuntu 18.04.5 LTS) / x86_64  OK    OK    OK  UNNEEDED, same version exists in internal repository
tokay1Windows Server 2012 R2 Standard / x64  OK    OK    OK    OK  UNNEEDED, same version exists in internal repository
merida1macOS 10.14.6 Mojave / x86_64  OK    OK    OK    OK  UNNEEDED, same version exists in internal repository

Summary

Package: MethCP
Version: 1.4.0
Command: /home/biocbuild/bbs-3.12-bioc/R/bin/R CMD INSTALL MethCP
StartedAt: 2021-04-16 16:43:05 -0400 (Fri, 16 Apr 2021)
EndedAt: 2021-04-16 16:43:48 -0400 (Fri, 16 Apr 2021)
EllapsedTime: 42.8 seconds
RetCode: 0
Status:   OK  

Command output

##############################################################################
##############################################################################
###
### Running command:
###
###   /home/biocbuild/bbs-3.12-bioc/R/bin/R CMD INSTALL MethCP
###
##############################################################################
##############################################################################


* installing to library ‘/home/biocbuild/bbs-3.12-bioc/R/library’
* installing *source* package ‘MethCP’ ...
** using staged installation
** R
** inst
** byte-compile and prepare package for lazy loading
** help
*** installing help indices
** building package indices
** installing vignettes
** testing if installed package can be loaded from temporary location
** testing if installed package can be loaded from final location
** testing if installed package keeps a record of temporary installation path
* DONE (MethCP)