Back to Multiple platform build/check report for BioC 3.12
AB[C]DEFGHIJKLMNOPQRSTUVWXYZ

INSTALL report for CGHnormaliter on tokay1

This page was generated on 2021-02-22 12:37:23 -0500 (Mon, 22 Feb 2021).

To the developers/maintainers of the CGHnormaliter package:
Please make sure to use the following settings in order to reproduce any error or warning you see on this page.
Package 271/1974HostnameOS / ArchINSTALLBUILDCHECKBUILD BIN
CGHnormaliter 1.44.0
Bart P.P. van Houte
Snapshot Date: 2021-02-21 14:52:07 -0500 (Sun, 21 Feb 2021)
URL: https://git.bioconductor.org/packages/CGHnormaliter
Branch: RELEASE_3_12
Last Commit: 8b920f6
Last Changed Date: 2020-10-27 10:36:33 -0500 (Tue, 27 Oct 2020)
malbec1Linux (Ubuntu 18.04.5 LTS) / x86_64  OK    OK    OK  UNNEEDED, same version exists in internal repository
nebbiolo1Linux (Ubuntu 20.04.2 LTS) / x86_64  OK    OK    OK  
tokay1Windows Server 2012 R2 Standard / x64  OK    OK    OK    OK  UNNEEDED, same version exists in internal repository
merida1macOS 10.14.6 Mojave / x86_64  OK    OK    OK    OK  UNNEEDED, same version exists in internal repository

Summary

Package: CGHnormaliter
Version: 1.44.0
Command: C:\cygwin\bin\curl.exe -O https://malbec1.bioconductor.org/BBS/3.12/bioc/src/contrib/CGHnormaliter_1.44.0.tar.gz && rm -rf CGHnormaliter.buildbin-libdir && mkdir CGHnormaliter.buildbin-libdir && C:\Users\biocbuild\bbs-3.12-bioc\R\bin\R.exe CMD INSTALL --merge-multiarch --build --library=CGHnormaliter.buildbin-libdir CGHnormaliter_1.44.0.tar.gz && C:\Users\biocbuild\bbs-3.12-bioc\R\bin\R.exe CMD INSTALL CGHnormaliter_1.44.0.zip && rm CGHnormaliter_1.44.0.tar.gz CGHnormaliter_1.44.0.zip
StartedAt: 2021-02-21 17:25:11 -0500 (Sun, 21 Feb 2021)
EndedAt: 2021-02-21 17:25:31 -0500 (Sun, 21 Feb 2021)
EllapsedTime: 19.7 seconds
RetCode: 0
Status:   OK   

Command output

##############################################################################
##############################################################################
###
### Running command:
###
###   C:\cygwin\bin\curl.exe -O https://malbec1.bioconductor.org/BBS/3.12/bioc/src/contrib/CGHnormaliter_1.44.0.tar.gz && rm -rf CGHnormaliter.buildbin-libdir && mkdir CGHnormaliter.buildbin-libdir && C:\Users\biocbuild\bbs-3.12-bioc\R\bin\R.exe CMD INSTALL --merge-multiarch --build --library=CGHnormaliter.buildbin-libdir CGHnormaliter_1.44.0.tar.gz && C:\Users\biocbuild\bbs-3.12-bioc\R\bin\R.exe CMD INSTALL CGHnormaliter_1.44.0.zip && rm CGHnormaliter_1.44.0.tar.gz CGHnormaliter_1.44.0.zip
###
##############################################################################
##############################################################################


  % Total    % Received % Xferd  Average Speed   Time    Time     Time  Current
                                 Dload  Upload   Total   Spent    Left  Speed

  0     0    0     0    0     0      0      0 --:--:-- --:--:-- --:--:--     0
100  760k  100  760k    0     0  7519k      0 --:--:-- --:--:-- --:--:-- 7838k

install for i386

* installing *source* package 'CGHnormaliter' ...
** using staged installation
** R
** data
** byte-compile and prepare package for lazy loading
** help
*** installing help indices
  converting help for package 'CGHnormaliter'
    finding HTML links ... done
    CGHnormaliter-internal                  html  
    CGHnormaliter-package                   html  
    CGHnormaliter                           html  
    CGHnormaliter.write.table               html  
    Leukemia                                html  
** building package indices
** installing vignettes
** testing if installed package can be loaded from temporary location
** testing if installed package can be loaded from final location
** testing if installed package keeps a record of temporary installation path

install for x64

* installing *source* package 'CGHnormaliter' ...
** testing if installed package can be loaded
* MD5 sums
packaged installation of 'CGHnormaliter' as CGHnormaliter_1.44.0.zip
* DONE (CGHnormaliter)
* installing to library 'C:/Users/biocbuild/bbs-3.12-bioc/R/library'
package 'CGHnormaliter' successfully unpacked and MD5 sums checked