Back to Multiple platform build/check report for BioC 3.12
A[B]CDEFGHIJKLMNOPQRSTUVWXYZ

BUILD BIN report for bigPint on tokay1

This page was generated on 2020-08-11 11:48:03 -0400 (Tue, 11 Aug 2020).

TO THE DEVELOPERS/MAINTAINERS OF THE bigPint PACKAGE: Please make sure to use the following settings in order to reproduce any error or warning you see on this page.
Package 142/1885HostnameOS / ArchINSTALLBUILDCHECKBUILD BIN
bigPint 1.5.0
Lindsay Rutter
Snapshot Date: 2020-08-10 14:50:56 -0400 (Mon, 10 Aug 2020)
URL: https://git.bioconductor.org/packages/bigPint
Branch: master
Last Commit: 961ce4a
Last Changed Date: 2020-04-27 15:22:45 -0400 (Mon, 27 Apr 2020)
malbec1 Linux (Ubuntu 18.04.4 LTS) / x86_64  OK  OK  OK UNNEEDED, same version exists in internal repository
nebbiolo1 Linux (Ubuntu 20.04.1 LTS) / x86_64  OK  OK  NA 
tokay1 Windows Server 2012 R2 Standard / x64  OK  OK  OK [ OK ]UNNEEDED, same version exists in internal repository
merida1 macOS 10.14.6 Mojave / x86_64  OK  OK  OK  OK UNNEEDED, same version exists in internal repository

Summary

Package: bigPint
Version: 1.5.0
Command: rm -rf bigPint.buildbin-libdir && mkdir bigPint.buildbin-libdir && C:\Users\biocbuild\bbs-3.12-bioc\R\bin\R.exe CMD INSTALL --merge-multiarch --build --library=bigPint.buildbin-libdir bigPint_1.5.0.tar.gz
StartedAt: 2020-08-11 08:45:01 -0400 (Tue, 11 Aug 2020)
EndedAt: 2020-08-11 08:45:53 -0400 (Tue, 11 Aug 2020)
EllapsedTime: 51.4 seconds
RetCode: 0
Status:  OK  
PackageFile: bigPint_1.5.0.zip
PackageFileSize: 5.773 MiB

Command output

##############################################################################
##############################################################################
###
### Running command:
###
###   rm -rf bigPint.buildbin-libdir && mkdir bigPint.buildbin-libdir && C:\Users\biocbuild\bbs-3.12-bioc\R\bin\R.exe CMD INSTALL --merge-multiarch --build --library=bigPint.buildbin-libdir bigPint_1.5.0.tar.gz
###
##############################################################################
##############################################################################



install for i386

* installing *source* package 'bigPint' ...
** using staged installation
** R
** data
*** moving datasets to lazyload DB
** inst
** byte-compile and prepare package for lazy loading
** help
*** installing help indices
  converting help for package 'bigPint'
    finding HTML links ... done
    bigPint                                 html  
    convertSEPair                           html  
    convertSESubsetGenes                    html  
    plotClusters                            html  
    plotLitre                               html  
    plotLitreApp                            html  
    plotPCP                                 html  
    plotPCPApp                              html  
    plotSM                                  html  
    plotSMApp                               html  
    plotVolcano                             html  
    plotVolcanoApp                          html  
    se_soybean_cn_sub                       html  
    se_soybean_ir_sub                       html  
    soybean_cn                              html  
    soybean_cn_metrics                      html  
    soybean_cn_sub                          html  
    soybean_cn_sub_metrics                  html  
    soybean_ir                              html  
    soybean_ir_metrics                      html  
    soybean_ir_sub                          html  
    soybean_ir_sub_metrics                  html  
** building package indices
** installing vignettes
** testing if installed package can be loaded from temporary location
** testing if installed package can be loaded from final location
** testing if installed package keeps a record of temporary installation path

install for x64

* installing *source* package 'bigPint' ...
** testing if installed package can be loaded
* MD5 sums
packaged installation of 'bigPint' as bigPint_1.5.0.zip
* DONE (bigPint)