Back to Multiple platform build/check report for BioC 3.12
[A]BCDEFGHIJKLMNOPQRSTUVWXYZ

BUILD report for AffyCompatible on tokay1

This page was generated on 2021-02-22 12:36:50 -0500 (Mon, 22 Feb 2021).

To the developers/maintainers of the AffyCompatible package:
Please make sure to use the following settings in order to reproduce any error or warning you see on this page.
Package 26/1974HostnameOS / ArchINSTALLBUILDCHECKBUILD BIN
AffyCompatible 1.50.0
Martin Morgan
Snapshot Date: 2021-02-21 14:52:07 -0500 (Sun, 21 Feb 2021)
URL: https://git.bioconductor.org/packages/AffyCompatible
Branch: RELEASE_3_12
Last Commit: 3b12d12
Last Changed Date: 2020-10-27 10:33:21 -0500 (Tue, 27 Oct 2020)
malbec1Linux (Ubuntu 18.04.5 LTS) / x86_64  OK    OK    OK  UNNEEDED, same version exists in internal repository
nebbiolo1Linux (Ubuntu 20.04.2 LTS) / x86_64  OK    OK    OK  
tokay1Windows Server 2012 R2 Standard / x64  OK    OK    OK    OK  UNNEEDED, same version exists in internal repository
merida1macOS 10.14.6 Mojave / x86_64  OK    OK    OK    OK  UNNEEDED, same version exists in internal repository

Summary

Package: AffyCompatible
Version: 1.50.0
Command: chmod a+r AffyCompatible -R && C:\Users\biocbuild\bbs-3.12-bioc\R\bin\R.exe CMD build --keep-empty-dirs --no-resave-data AffyCompatible
StartedAt: 2021-02-21 19:30:50 -0500 (Sun, 21 Feb 2021)
EndedAt: 2021-02-21 19:32:03 -0500 (Sun, 21 Feb 2021)
EllapsedTime: 72.4 seconds
RetCode: 0
Status:   OK   
PackageFile: AffyCompatible_1.50.0.tar.gz
PackageFileSize: 321.2 KiB

Command output

##############################################################################
##############################################################################
###
### Running command:
###
###   chmod a+r AffyCompatible -R && C:\Users\biocbuild\bbs-3.12-bioc\R\bin\R.exe CMD build --keep-empty-dirs --no-resave-data AffyCompatible
###
##############################################################################
##############################################################################


* checking for file 'AffyCompatible/DESCRIPTION' ... OK
* preparing 'AffyCompatible':
* checking DESCRIPTION meta-information ... OK
* installing the package to build vignettes
* creating vignettes ... OK
* checking for LF line-endings in source and make files and shell scripts
* checking for empty or unneeded directories
* looking to see if a 'data/datalist' file should be added
* building 'AffyCompatible_1.50.0.tar.gz'