Back to Multiple platform build/check report for BioC 3.12
A[B]CDEFGHIJKLMNOPQRSTUVWXYZ

BUILD BIN report for BrowserViz on merida1

This page was generated on 2021-02-22 12:42:01 -0500 (Mon, 22 Feb 2021).

To the developers/maintainers of the BrowserViz package:
Please make sure to use the following settings in order to reproduce any error or warning you see on this page.
Package 211/1974HostnameOS / ArchINSTALLBUILDCHECKBUILD BIN
BrowserViz 2.12.0
Paul Shannon
Snapshot Date: 2021-02-21 14:52:07 -0500 (Sun, 21 Feb 2021)
URL: https://git.bioconductor.org/packages/BrowserViz
Branch: RELEASE_3_12
Last Commit: e62f0d8
Last Changed Date: 2020-10-27 11:02:54 -0500 (Tue, 27 Oct 2020)
malbec1Linux (Ubuntu 18.04.5 LTS) / x86_64  OK    OK    TIMEOUT  
nebbiolo1Linux (Ubuntu 20.04.2 LTS) / x86_64  OK    OK    TIMEOUT  
tokay1Windows Server 2012 R2 Standard / x64  OK    OK    OK    OK  UNNEEDED, same version exists in internal repository
merida1macOS 10.14.6 Mojave / x86_64  OK    OK    OK    OK  UNNEEDED, same version exists in internal repository

Summary

Package: BrowserViz
Version: 2.12.0
Command: rm -rf BrowserViz.buildbin-libdir && mkdir BrowserViz.buildbin-libdir && /Users/biocbuild/BBS/utils/build-universal.sh BrowserViz_2.12.0.tar.gz /Library/Frameworks/R.framework/Versions/Current/Resources/bin/R BrowserViz.buildbin-libdir
StartedAt: 2021-02-22 08:04:54 -0500 (Mon, 22 Feb 2021)
EndedAt: 2021-02-22 08:06:00 -0500 (Mon, 22 Feb 2021)
EllapsedTime: 65.7 seconds
RetCode: 0
Status:   OK  
PackageFile: BrowserViz_2.12.0.tgz
PackageFileSize: 408.8 KiB

Command output

##############################################################################
##############################################################################
###
### Running command:
###
###   rm -rf BrowserViz.buildbin-libdir && mkdir BrowserViz.buildbin-libdir && /Users/biocbuild/BBS/utils/build-universal.sh BrowserViz_2.12.0.tar.gz /Library/Frameworks/R.framework/Versions/Current/Resources/bin/R BrowserViz.buildbin-libdir
###
##############################################################################
##############################################################################


>>>>>>> 
>>>>>>> INSTALLATION WITH 'R CMD INSTALL --preclean --no-multiarch --library=BrowserViz.buildbin-libdir BrowserViz_2.12.0.tar.gz'
>>>>>>> 

* installing *source* package ‘BrowserViz’ ...
** using staged installation
** R
** inst
** byte-compile and prepare package for lazy loading
** help
*** installing help indices
** building package indices
** installing vignettes
** testing if installed package can be loaded from temporary location
** testing if installed package can be loaded from final location
** testing if installed package keeps a record of temporary installation path
* DONE (BrowserViz)